BEGIN:VCALENDAR
VERSION:2.0
PRODID:-//Amici del Museo Poldi Pezzoli - ECPv6.15.20//NONSGML v1.0//EN
CALSCALE:GREGORIAN
METHOD:PUBLISH
X-ORIGINAL-URL:https://amicipoldipezzoli.it
X-WR-CALDESC:Eventi per Amici del Museo Poldi Pezzoli
REFRESH-INTERVAL;VALUE=DURATION:PT1H
X-Robots-Tag:noindex
X-PUBLISHED-TTL:PT1H
BEGIN:VTIMEZONE
TZID:Europe/Rome
BEGIN:DAYLIGHT
TZOFFSETFROM:+0100
TZOFFSETTO:+0200
TZNAME:CEST
DTSTART:20210328T010000
END:DAYLIGHT
BEGIN:STANDARD
TZOFFSETFROM:+0200
TZOFFSETTO:+0100
TZNAME:CET
DTSTART:20211031T010000
END:STANDARD
BEGIN:DAYLIGHT
TZOFFSETFROM:+0100
TZOFFSETTO:+0200
TZNAME:CEST
DTSTART:20220327T010000
END:DAYLIGHT
BEGIN:STANDARD
TZOFFSETFROM:+0200
TZOFFSETTO:+0100
TZNAME:CET
DTSTART:20221030T010000
END:STANDARD
BEGIN:DAYLIGHT
TZOFFSETFROM:+0100
TZOFFSETTO:+0200
TZNAME:CEST
DTSTART:20230326T010000
END:DAYLIGHT
BEGIN:STANDARD
TZOFFSETFROM:+0200
TZOFFSETTO:+0100
TZNAME:CET
DTSTART:20231029T010000
END:STANDARD
END:VTIMEZONE
BEGIN:VEVENT
DTSTART;TZID=Europe/Rome:20220915T085000
DTEND;TZID=Europe/Rome:20220915T183000
DTSTAMP:20260420T225335
CREATED:20220811T141725Z
LAST-MODIFIED:20220811T144320Z
UID:10000032-1663231800-1663266600@amicipoldipezzoli.it
SUMMARY:Sulle sponde del Ceresio...
DESCRIPTION:Una giornata insieme per visitare Villa Fogazzaro Roi – “piccolo mondo antico” di Antonio Fogazzaro – un’appartata e intima dimora della borghesia ottocentesca: arredi\, quadri e oggetti di squisito gusto rievocano\, ancora intatti\, le atmosfere romantiche di questa dimora affacciata su un angolo intoccato del Ceresio. Nel pomeriggio\, contrasto fra antico e contemporaneo\, visiteremo al Museo delle Culture\, ospiti del nostro Vice Presidente Massimo Ciaccio\, la mostra “Roberto Ciaccio. Il dono dell’origine”. Saremo accompagnati dal curatore Dott.ssa Silvia Ciaccio e con la graditissima presenza della consorte dell’artista Maria Pia Brambilla Ciaccio\, fondatrice dell’archivio dell’artista. \nOria\, prima tappa della nostra giornata\, è un piccolo borgo sulle rive comasche del Lago di Lugano dove visiteremo Villa Fogazzaro Roi. Qui il ritmo sembra essere ancora quello ottocentesco che scandì buona parte della vita di Antonio Fogazzaro. Lo scrittore trascorse lunghi periodi nella Villa che oggi porta il suo nome e che gli fornì l’ispirazione per comporre e ambientare “Piccolo mondo antico”\, il suo romanzo più conosciuto\, pubblicato nel 1896. La suggestione letteraria aleggia ancora ovunque\, dallo studio con i ricordi personali dello scrittore alla biblioteca\, dal salone alla sala da pranzo\, alla galleria affrescata fino alla darsena privata dove nel libro si consumò la tragica morte della piccola Ombretta. Il tutto è reso più scenografico da un incantevole giardino pensile che si affaccia su un panorama del Ceresio rimasto in buona parte selvatico\, con il profumo intenso dell’olea fragrans che “diceva in un angolo la potenza delle cose gentili”. \nDopo una pausa pranzo in un caratteristico ristorante affacciato sulle sponde del Lago di Lugano\, raggiungeremo Villa Malpensata per visitare la mostra “Roberto Ciaccio. Il dono dell’origine”. Il tema dell’origine attraversa l’intera traiettoria dell’artista italiano scomparso nel 2014\, in un dialogo ideale con il pensiero filosofico di Heidegger. In mostra una quarantina di sue opere\, realizzate tra il 1990 e il 2013\, imponenti lastre di ferro e di rame inchiostrate\, lavorate con processi di acidificazione e ossidazione\, e di grandi calcografie su carta. Dei «quasi luoghi»\, dove l’artista ha raccolto le tracce del tempo\, dei suoi pensieri e delle sue esperienze. \nINFORMAZIONI PRATICHE \nOre 08.50 ritrovo e partenza in pullman da Milano (Piazza IV Novembre tra l’Hotel Gallia e la Stazione Centrale). Ore 18.30 circa rientro in pullman a Milano. \nQuota di partecipazione: 90 euro (80 euro con tessera Soci FAI)\nLa quota comprende: viaggio in pullman\, biglietti di ingresso\, pranzo presso il ristorante Hotel Stella d’Italia\, radiomicrofoni\, assistenza storico artistica e mance. \nPrenotazioni entro il 10 settembre con pagamento direttamente a questa pagina con carta credito/Paypal. \nIn alternativa contattare la Segreteria amici@museopoldipezzoli.it – 366 5830536 ed effettuare il pagamento in Segreteria o con bonifico bancario:\nCassa Lombarda – Filiale 100 Via Manzoni\, 14 – 20121 Milano I\nBAN: IT 75 U 03488 01601 000000020238\nIntestato a: Associazione Amici del Museo Poldi Pezzoli\nCausale: Ceresio – Nome e Cognome del partecipante \nRICORDIAMO A TUTTI I PARTECIPANTI DI PORTARE CON SE’ IL PROPRIO DOCUMENTO DI IDENTITA’. \nNell’ambito della giornata saremo accompagnati dal nostro Consigliere Cinzia Buccellato. \nGrazie a LCA Studio Legale
URL:https://amicipoldipezzoli.it/attivita/sulle-sponde-del-ceresio/
LOCATION:Lugano\, Svizzera
CATEGORIES:Itinerario fuori città
ATTACH;FMTTYPE=image/jpeg:https://amicipoldipezzoli.it/wp-content/uploads/2022/08/e571cc_818ae82e17364f89bc096b2a509cd1ba_mv2.jpg
ORGANIZER;CN="Amici Museo Poldi Pezzoli":MAILTO:amici@museopoldipezzoli.it
END:VEVENT
END:VCALENDAR