BEGIN:VCALENDAR
VERSION:2.0
PRODID:-//Amici del Museo Poldi Pezzoli - ECPv6.15.20//NONSGML v1.0//EN
CALSCALE:GREGORIAN
METHOD:PUBLISH
X-ORIGINAL-URL:https://amicipoldipezzoli.it
X-WR-CALDESC:Eventi per Amici del Museo Poldi Pezzoli
REFRESH-INTERVAL;VALUE=DURATION:PT1H
X-Robots-Tag:noindex
X-PUBLISHED-TTL:PT1H
BEGIN:VTIMEZONE
TZID:Europe/Rome
BEGIN:DAYLIGHT
TZOFFSETFROM:+0100
TZOFFSETTO:+0200
TZNAME:CEST
DTSTART:20210328T010000
END:DAYLIGHT
BEGIN:STANDARD
TZOFFSETFROM:+0200
TZOFFSETTO:+0100
TZNAME:CET
DTSTART:20211031T010000
END:STANDARD
BEGIN:DAYLIGHT
TZOFFSETFROM:+0100
TZOFFSETTO:+0200
TZNAME:CEST
DTSTART:20220327T010000
END:DAYLIGHT
BEGIN:STANDARD
TZOFFSETFROM:+0200
TZOFFSETTO:+0100
TZNAME:CET
DTSTART:20221030T010000
END:STANDARD
BEGIN:DAYLIGHT
TZOFFSETFROM:+0100
TZOFFSETTO:+0200
TZNAME:CEST
DTSTART:20230326T010000
END:DAYLIGHT
BEGIN:STANDARD
TZOFFSETFROM:+0200
TZOFFSETTO:+0100
TZNAME:CET
DTSTART:20231029T010000
END:STANDARD
END:VTIMEZONE
BEGIN:VEVENT
DTSTART;TZID=Europe/Rome:20220921T150000
DTEND;TZID=Europe/Rome:20220921T170000
DTSTAMP:20260420T224700
CREATED:20220810T090851Z
LAST-MODIFIED:20220914T095013Z
UID:10000023-1663772400-1663779600@amicipoldipezzoli.it
SUMMARY:Fondazione Luigi Rovati. Un museo di arte etrusca a Milano
DESCRIPTION:E’ a Milano nel 1942 che Massimo Pallottino pubblicò il primo e storico testo scientifico di riferimento in una delle discipline più affascinanti e complesse del comparto storico-artistico: l’etruscologia. Dopo lunghi decenni di approfondimento delle conoscenze in campo accademico e delle molteplici azioni divulgative in senso nazionale\, finalmente anche la nostra città può proporre il primo museo dedicato all’arte degli Etruschi\, nato per volontà della Fondazione Luigi Rovati e sito in un palazzo storico di Corso Venezia. Interessanti sono anche le soluzioni architettoniche proposte da Mario Cucinella Architects per rendere fruibile al pubblico il contenuto\, che stupirà per la ricchezza dell’insieme dei prodotti e le possibilità di sviluppo dell’indagine nel futuro\, anche prossimo. \nAssistenza storico-artistica: dott.ssa Paola Rapelli \nRitrovo: ore 14.45 all’ingresso della Fondazione Luigi Rovati in Corso Venezia 52. \nQuota di partecipazione: gratuito per i Soci \nPrenotazione direttamente a questa pagina oppure contattando la Segreteria amici@museopoldipezzoli.it – 366 5830536 \nGrazie a LCA Studio Legale
URL:https://amicipoldipezzoli.it/attivita/fondazione-luigi-rovati-un-museo-di-arte-etrusca-a-milano/
LOCATION:Fondazione Luigi Rovati\, Corso Venezia 52\, Milano\, Italia
CATEGORIES:Visita guidata
ATTACH;FMTTYPE=image/jpeg:https://amicipoldipezzoli.it/wp-content/uploads/2022/08/Museo-Etrusco-Rovati.jpg
ORGANIZER;CN="Amici Museo Poldi Pezzoli":MAILTO:amici@museopoldipezzoli.it
END:VEVENT
END:VCALENDAR