BEGIN:VCALENDAR
VERSION:2.0
PRODID:-//Amici del Museo Poldi Pezzoli - ECPv6.15.20//NONSGML v1.0//EN
CALSCALE:GREGORIAN
METHOD:PUBLISH
X-WR-CALNAME:Amici del Museo Poldi Pezzoli
X-ORIGINAL-URL:https://amicipoldipezzoli.it
X-WR-CALDESC:Eventi per Amici del Museo Poldi Pezzoli
REFRESH-INTERVAL;VALUE=DURATION:PT1H
X-Robots-Tag:noindex
X-PUBLISHED-TTL:PT1H
BEGIN:VTIMEZONE
TZID:Europe/Rome
BEGIN:DAYLIGHT
TZOFFSETFROM:+0100
TZOFFSETTO:+0200
TZNAME:CEST
DTSTART:20210328T010000
END:DAYLIGHT
BEGIN:STANDARD
TZOFFSETFROM:+0200
TZOFFSETTO:+0100
TZNAME:CET
DTSTART:20211031T010000
END:STANDARD
BEGIN:DAYLIGHT
TZOFFSETFROM:+0100
TZOFFSETTO:+0200
TZNAME:CEST
DTSTART:20220327T010000
END:DAYLIGHT
BEGIN:STANDARD
TZOFFSETFROM:+0200
TZOFFSETTO:+0100
TZNAME:CET
DTSTART:20221030T010000
END:STANDARD
BEGIN:DAYLIGHT
TZOFFSETFROM:+0100
TZOFFSETTO:+0200
TZNAME:CEST
DTSTART:20230326T010000
END:DAYLIGHT
BEGIN:STANDARD
TZOFFSETFROM:+0200
TZOFFSETTO:+0100
TZNAME:CET
DTSTART:20231029T010000
END:STANDARD
END:VTIMEZONE
BEGIN:VEVENT
DTSTART;TZID=Europe/Rome:20221008T100000
DTEND;TZID=Europe/Rome:20221008T130000
DTSTAMP:20260420T211535
CREATED:20220909T123938Z
LAST-MODIFIED:20220913T104217Z
UID:10000034-1665223200-1665234000@amicipoldipezzoli.it
SUMMARY:Giardini in Arte - L'antica corsia del Giardino
DESCRIPTION:In occasione della XIX Giornata Nazionale degli Amici dei Musei promossa dalla FIDAM – Federazione Italiana degli Amici dei Musei\, vi invitiamo a partecipare a una piacevole passeggiata lungo l’antica corsia del Giardino\, l’attuale via Manzoni\, per scoprire alcuni giardini “segreti” di Milano custoditi all’interno di antichi e prestigiosi palazzi nobiliari. Dopo un piacevole coffee break gentilmente offerto dalla Famiglia Borromeo d’Adda\, inizieremo la nostra visita proprio dal cortile d’onore e dal giardino di Palazzo Borromeo d’Adda. Proseguiremo l’itinerario lungo via Manzoni fino al Museo Poldi Pezzoli dove\, dalle vetrate della nuova Orangerie della casa-museo di Gian Giacomo Poldi Pezzoli\, potremo ammirare uno splendido esempio di giardino all’inglese\, uno dei più antichi di Milano. Concluderemo la nostra passeggiata visitando il giardino di Alessandro Manzoni che si trova tra la Casa del Manzoni e Palazzo Anguissola Antona Traversi. Passeggiando tra i tigli e le magnolie di questo angolo verde nel cuore di Milano si possono ammirare alcune sculture di arte contemporanea della collezione Intesa Sanpaolo realizzate da Joan Miró\, Giò Pomodoro\, Jean Arp e Pietro Cascella. \nAssistenza storico-artistica: dott.ssa Barbara Pasolini \nQuota di partecipazione: 15 euro (radiomicrofoni\, assistenza storico-artistica\, mance) \nRitrovo: ore 10.00 all’ingresso di Palazzo Borromeo d’Adda\, via Manzoni 41. \nPrenotazione e pagamento direttamente a questa pagina con carta credito/Paypal \nIn alternativa contattare la Segreteria amici@museopoldipezzoli.it – 366 5830536 ed effettuare il pagamento in Segreteria o con bonifico bancario:\nCASSA LOMBARDA – FILIALE 100 – Via Manzoni\, 14 – 20121 Milano\nIBAN: IT 75 U 03488 01601 000000020238\nIntestato a: Associazione Amici del Museo Poldi Pezzoli\nCausale: Giardini in Arte – Nome e cognome del Socio \nGrazie a LCA Studio Legale
URL:https://amicipoldipezzoli.it/attivita/giardiniarte/
LOCATION:Milano\, Milano\, Italy
CATEGORIES:Visita guidata
ATTACH;FMTTYPE=image/jpeg:https://amicipoldipezzoli.it/wp-content/uploads/2022/09/entrata_600.jpg
ORGANIZER;CN="Amici Museo Poldi Pezzoli":MAILTO:amici@museopoldipezzoli.it
END:VEVENT
END:VCALENDAR