BEGIN:VCALENDAR
VERSION:2.0
PRODID:-//Amici del Museo Poldi Pezzoli - ECPv6.15.20//NONSGML v1.0//EN
CALSCALE:GREGORIAN
METHOD:PUBLISH
X-WR-CALNAME:Amici del Museo Poldi Pezzoli
X-ORIGINAL-URL:https://amicipoldipezzoli.it
X-WR-CALDESC:Eventi per Amici del Museo Poldi Pezzoli
REFRESH-INTERVAL;VALUE=DURATION:PT1H
X-Robots-Tag:noindex
X-PUBLISHED-TTL:PT1H
BEGIN:VTIMEZONE
TZID:Europe/Rome
BEGIN:DAYLIGHT
TZOFFSETFROM:+0100
TZOFFSETTO:+0200
TZNAME:CEST
DTSTART:20210328T010000
END:DAYLIGHT
BEGIN:STANDARD
TZOFFSETFROM:+0200
TZOFFSETTO:+0100
TZNAME:CET
DTSTART:20211031T010000
END:STANDARD
BEGIN:DAYLIGHT
TZOFFSETFROM:+0100
TZOFFSETTO:+0200
TZNAME:CEST
DTSTART:20220327T010000
END:DAYLIGHT
BEGIN:STANDARD
TZOFFSETFROM:+0200
TZOFFSETTO:+0100
TZNAME:CET
DTSTART:20221030T010000
END:STANDARD
BEGIN:DAYLIGHT
TZOFFSETFROM:+0100
TZOFFSETTO:+0200
TZNAME:CEST
DTSTART:20230326T010000
END:DAYLIGHT
BEGIN:STANDARD
TZOFFSETFROM:+0200
TZOFFSETTO:+0100
TZNAME:CET
DTSTART:20231029T010000
END:STANDARD
END:VTIMEZONE
BEGIN:VEVENT
DTSTART;TZID=Europe/Rome:20221026T143000
DTEND;TZID=Europe/Rome:20221026T163000
DTSTAMP:20260420T211603
CREATED:20220810T093351Z
LAST-MODIFIED:20221020T130256Z
UID:10000027-1666794600-1666801800@amicipoldipezzoli.it
SUMMARY:La chiesa di San Maurizio al Monastero Maggiore e il vicino Museo Archeologico
DESCRIPTION:Splendida chiesa situata nel centro di Milano la Chiesa di San Maurizio è una meravigliosa testimonianza dell’arte rinascimentale. Costruita nell’aspetto attuale nel 1503\, sul luogo di un’altra più antica\, realizzata sui resti dell’antico Circo Romano\, San Maurizio è una chiesa a navata unica\, divisa in dieci campate da contrafforti angolari\, realizzata per volontà delle monache di clausura del Monastero Maggiore di San Maurizio; divisa da una parete trasversale\, con un singolare pontile\, che divide la zona riservata alle monache da quella pubblica per i fedeli\, l’opera è attribuita all’architetto Gian Giacomo Dolcebuono\, noto per aver operato per il Duomo di Milano\, e rappresenta uno straordinario esempio dell’eleganza e della raffinatezza dell’arte rinascimentale. Il famoso pittore Bernardino Luini lavorò a san Maurizio dal 1522 al 1529 e anche i suoi figli. L’interno è maestoso\, pur nella sua purezza geometrica\, interamente affrescato ricorda per eleganza e cura dei dettagli gli antichi palazzi nobiliari del tempo. La storia della  Cinquecentesca chiesa di San Maurizio si intreccia indissolubilmente con la gloriosa storia di Milano\, capitale dell’Impero Romano d’Occidente nel 286 d.c\, e del suo imperatore Massimiano che costruì il Palazzo Imperiale\, il Circo romano dove fu eretta \, sulle sue rovine\, l’antica prima chiesa dedicata a San Maurizio poi scomparsa; così come in un viaggio ripercorreremo la storia della Milano Romana\, visitando l’attiguo Museo Archeologico\, che ha sede nell’ex- convento del Monastero Maggiore di San Maurizio\, con il suo splendido chiostro interno\, circondato dalle Mura della Milano Romana\, con la bellissima torre poligonale che conserva antichi affreschi del XIII-XIV secolo. \nAssistenza storico-artistica: dott.ssa Barbara Pasolini \nRitrovo: ore 14.20 in via Corso Magenta 15 (tram 16\, 19) \nQuota di partecipazione: 10 euro (biglietto di ingresso\, assistenza storico artistica e radiomicrofoni) \nPrenotazione e pagamento direttamente a questa pagina con carta credito/Paypal \nIn alternativa contattare la Segreteria amici@museopoldipezzoli.it – 366 5830536 ed effettuare il pagamento in Segreteria o con bonifico bancario:\nCASSA LOMBARDA – FILIALE 100 – Via Manzoni\, 14 – 20121 Milano\nIBAN: IT 75 U 03488 01601 000000020238\nIntestato a: Associazione Amici del Museo Poldi Pezzoli\nCausale: San Maurizio – Nome e cognome del Socio \nGrazie a LCA Studio Legale
URL:https://amicipoldipezzoli.it/attivita/la-chiesa-di-san-maurizio-al-monastero-maggiore-e-il-vicino-museo-archeologico/
LOCATION:San Maurizio al Monastero Maggiore\, Corso Magenta 15\, Milano\, Milano\, 20123\, Italia
CATEGORIES:Visita guidata
ATTACH;FMTTYPE=image/webp:https://amicipoldipezzoli.it/wp-content/uploads/2022/08/Milano-San-Maurizio-chiesa-pubblica.webp
ORGANIZER;CN="Amici Museo Poldi Pezzoli":MAILTO:amici@museopoldipezzoli.it
END:VEVENT
END:VCALENDAR