BEGIN:VCALENDAR
VERSION:2.0
PRODID:-//Amici del Museo Poldi Pezzoli - ECPv6.15.20//NONSGML v1.0//EN
CALSCALE:GREGORIAN
METHOD:PUBLISH
X-ORIGINAL-URL:https://amicipoldipezzoli.it
X-WR-CALDESC:Eventi per Amici del Museo Poldi Pezzoli
REFRESH-INTERVAL;VALUE=DURATION:PT1H
X-Robots-Tag:noindex
X-PUBLISHED-TTL:PT1H
BEGIN:VTIMEZONE
TZID:Europe/Rome
BEGIN:DAYLIGHT
TZOFFSETFROM:+0100
TZOFFSETTO:+0200
TZNAME:CEST
DTSTART:20210328T010000
END:DAYLIGHT
BEGIN:STANDARD
TZOFFSETFROM:+0200
TZOFFSETTO:+0100
TZNAME:CET
DTSTART:20211031T010000
END:STANDARD
BEGIN:DAYLIGHT
TZOFFSETFROM:+0100
TZOFFSETTO:+0200
TZNAME:CEST
DTSTART:20220327T010000
END:DAYLIGHT
BEGIN:STANDARD
TZOFFSETFROM:+0200
TZOFFSETTO:+0100
TZNAME:CET
DTSTART:20221030T010000
END:STANDARD
BEGIN:DAYLIGHT
TZOFFSETFROM:+0100
TZOFFSETTO:+0200
TZNAME:CEST
DTSTART:20230326T010000
END:DAYLIGHT
BEGIN:STANDARD
TZOFFSETFROM:+0200
TZOFFSETTO:+0100
TZNAME:CET
DTSTART:20231029T010000
END:STANDARD
END:VTIMEZONE
BEGIN:VEVENT
DTSTART;TZID=Europe/Rome:20221121T153000
DTEND;TZID=Europe/Rome:20221121T180000
DTSTAMP:20260420T193659
CREATED:20221107T091217Z
LAST-MODIFIED:20221116T091226Z
UID:10000038-1669044600-1669053600@amicipoldipezzoli.it
SUMMARY:Conferenza la Carità e la Bellezza
DESCRIPTION:Si rinnova il tradizionale appuntamento con l’arte presso il Municipio della città. Quest’anno\, grazie a un rapporto di reciprocità con Firenze\, saranno esposte a Palazzo Marino quattro importanti opere tre-quattrocentesche: una scultura e tre dipinti\, riuniti sotto il titolo “la Carità e la Bellezza”. Inoltre\, è prevista una “mostra diffusa” presso le Biblioteche di otto diversi quartieri. L’iniziativa sarà inaugurata il primo dicembre: ce la fa scoprire in anteprima Stefano Zuffi\, curatore dell’esposizione e Vice Presidente degli Amici del Museo Poldi Pezzoli.\n\n\nA cura del Dott. Stefano Zuffi.\n\nAlle ore 15.30 appuntamento al Museo Poldi Pezzoli con possibilità di gradire un dolcetto di benvenuto offerto dall’Associazione. \n\nA seguire la conferenza.\n\nIn questa occasione i Soci che lo desiderano potranno rinnovare la propria quota associativa per il 2023.\n\nIngresso gratuito. Riservato ai Soci.\n\n\nNella foto “Filippo Lippi\, Madonna col Bambino\, Palazzo Medici Riccardi\, Firenze”
URL:https://amicipoldipezzoli.it/attivita/conferenzacaritaebellezza/
LOCATION:Museo Poldi Pezzoli\, Via Manzoni 12\, Milano\, Italy
CATEGORIES:Conferenza
ATTACH;FMTTYPE=image/jpeg:https://amicipoldipezzoli.it/wp-content/uploads/2022/11/Madonna_col_bambino_palazzo_medici_riccardi_filippo_lippi-part-002.jpg
ORGANIZER;CN="Amici Museo Poldi Pezzoli":MAILTO:amici@museopoldipezzoli.it
END:VEVENT
END:VCALENDAR