BEGIN:VCALENDAR
VERSION:2.0
PRODID:-//Amici del Museo Poldi Pezzoli - ECPv6.15.20//NONSGML v1.0//EN
CALSCALE:GREGORIAN
METHOD:PUBLISH
X-ORIGINAL-URL:https://amicipoldipezzoli.it
X-WR-CALDESC:Eventi per Amici del Museo Poldi Pezzoli
REFRESH-INTERVAL;VALUE=DURATION:PT1H
X-Robots-Tag:noindex
X-PUBLISHED-TTL:PT1H
BEGIN:VTIMEZONE
TZID:Europe/Rome
BEGIN:DAYLIGHT
TZOFFSETFROM:+0100
TZOFFSETTO:+0200
TZNAME:CEST
DTSTART:20210328T010000
END:DAYLIGHT
BEGIN:STANDARD
TZOFFSETFROM:+0200
TZOFFSETTO:+0100
TZNAME:CET
DTSTART:20211031T010000
END:STANDARD
BEGIN:DAYLIGHT
TZOFFSETFROM:+0100
TZOFFSETTO:+0200
TZNAME:CEST
DTSTART:20220327T010000
END:DAYLIGHT
BEGIN:STANDARD
TZOFFSETFROM:+0200
TZOFFSETTO:+0100
TZNAME:CET
DTSTART:20221030T010000
END:STANDARD
BEGIN:DAYLIGHT
TZOFFSETFROM:+0100
TZOFFSETTO:+0200
TZNAME:CEST
DTSTART:20230326T010000
END:DAYLIGHT
BEGIN:STANDARD
TZOFFSETFROM:+0200
TZOFFSETTO:+0100
TZNAME:CET
DTSTART:20231029T010000
END:STANDARD
END:VTIMEZONE
BEGIN:VEVENT
DTSTART;TZID=Europe/Rome:20221202T150000
DTEND;TZID=Europe/Rome:20221202T173000
DTSTAMP:20260420T174448
CREATED:20220725T213104Z
LAST-MODIFIED:20221117T121131Z
UID:10000021-1669993200-1670002200@amicipoldipezzoli.it
SUMMARY:Mostri e creature fantastiche. L’anti-rinascimento di Ieronimus Bosch
DESCRIPTION:La mostra in corso a Palazzo Reale ci consente approfondire la conoscenza di un artista complesso quale Ieronimus Bosch\, schiudendo la porta sul suo  mondo fantastico  e onirico\, incentrato sui temi del vizio\, della tentazione\, della meditazione\, della preghiera. Con il suo linguaggio analitico\, ricco di dettagli\, tipico degli artisti del Nord Europa\,  il pittore riesce a rendere credibili e naturali le forme più  curiose  e irrealistiche\, le creature più bizzarre  che affollano le sue composizioni dalle atmosfere enigmatiche. Ma l’esposizione\, curata da Bernard Aikema e Fernando Checa e  forte di numerosi prestiti internazionali\, va oltre il profilo monografico del pittore\, dimostrando quanto egli abbia influenzato maestri come Tiziano\, Savoldo\, El Greco  per citare solo i più importanti; alimentando quel filone anti-classico che come un fiume carsico percorre tutto il ‘500\, in Italia e in Spagna\, del quale  Bosch è stato un anticipatore. \nAssistenza storico-artistica: dott.ssa Alessandra Novellone \nRitrovo: ore 14.45 all’ingresso della mostra\, Palazzo Reale\, Piazza del Duomo 12 \nQuota di partecipazione: 15 euro (biglietto d’ingresso\, assistenza storico-artistica\, radiomicrofoni) \nPrenotazione e pagamento direttamente a questa pagina con carta credito/Paypal \nIn alternativa contattare la Segreteria amici@museopoldipezzoli.it – 366 5830536 ed effettuare il pagamento in Segreteria o con bonifico bancario:\nCASSA LOMBARDA – FILIALE 100 – Via Manzoni\, 14 – 20121 Milano\nIBAN: IT 75 U 03488 01601 000000020238\nIntestato a: Associazione Amici del Museo Poldi Pezzoli\nCausale: Bosch – Nome e cognome del Socio \nGrazie a LCA Studio Legale
URL:https://amicipoldipezzoli.it/attivita/mostri-e-creature-fantistiche-lanti-rinascimento-di-ieronimus-bosch/
LOCATION:Palazzo Reale\, Milano\, Italy
CATEGORIES:Visita guidata
ATTACH;FMTTYPE=image/jpeg:https://amicipoldipezzoli.it/wp-content/uploads/2022/07/Bosch-2-dicembre.jpg
ORGANIZER;CN="Amici Museo Poldi Pezzoli":MAILTO:amici@museopoldipezzoli.it
END:VEVENT
END:VCALENDAR