BEGIN:VCALENDAR
VERSION:2.0
PRODID:-//Amici del Museo Poldi Pezzoli - ECPv6.15.20//NONSGML v1.0//EN
CALSCALE:GREGORIAN
METHOD:PUBLISH
X-ORIGINAL-URL:https://amicipoldipezzoli.it
X-WR-CALDESC:Eventi per Amici del Museo Poldi Pezzoli
REFRESH-INTERVAL;VALUE=DURATION:PT1H
X-Robots-Tag:noindex
X-PUBLISHED-TTL:PT1H
BEGIN:VTIMEZONE
TZID:Europe/Rome
BEGIN:DAYLIGHT
TZOFFSETFROM:+0100
TZOFFSETTO:+0200
TZNAME:CEST
DTSTART:20220327T010000
END:DAYLIGHT
BEGIN:STANDARD
TZOFFSETFROM:+0200
TZOFFSETTO:+0100
TZNAME:CET
DTSTART:20221030T010000
END:STANDARD
BEGIN:DAYLIGHT
TZOFFSETFROM:+0100
TZOFFSETTO:+0200
TZNAME:CEST
DTSTART:20230326T010000
END:DAYLIGHT
BEGIN:STANDARD
TZOFFSETFROM:+0200
TZOFFSETTO:+0100
TZNAME:CET
DTSTART:20231029T010000
END:STANDARD
BEGIN:DAYLIGHT
TZOFFSETFROM:+0100
TZOFFSETTO:+0200
TZNAME:CEST
DTSTART:20240331T010000
END:DAYLIGHT
BEGIN:STANDARD
TZOFFSETFROM:+0200
TZOFFSETTO:+0100
TZNAME:CET
DTSTART:20241027T010000
END:STANDARD
END:VTIMEZONE
BEGIN:VEVENT
DTSTART;TZID=Europe/Rome:20230116T180000
DTEND;TZID=Europe/Rome:20230116T193000
DTSTAMP:20260420T155539
CREATED:20221229T113151Z
LAST-MODIFIED:20230108T194319Z
UID:10000047-1673892000-1673897400@amicipoldipezzoli.it
SUMMARY:Poldi al centro: gli Amici incontrano il nuovo Direttore del Museo Poldi Pezzoli
DESCRIPTION:Da lunedì 2 gennaio l’architetto Alessandra Quarto è ufficialmente il nuovo Direttore del Museo Poldi Pezzoli.\nGian Giacomo Schiavi\, giornalista del Corriere della Sera e nostro Consigliere\, dialogherà con Lei in una serata speciale dedicata in esclusiva ai Soci dell’Associazione. «Sono poche le istituzioni che riscuotono tanta passione e senso di appartenenza»\, ha dichiarato Alessandra Quarto parlando del Museo Poldi Pezzoli. «Il mio impegno sarà quello di consolidare e ampliare queste passioni. Sono entusiasta di iniziare la mia collaborazione con tutta la squadra del Museo.» \nOre 18.00 – Orangerie del Museo Poldi Pezzoli – Via Manzoni 12\nRiservato ai Soci dell’Associazione Amici del Museo Poldi Pezzoli\nPrenotazione direttamente a questa pagina oppure contattando la Segreteria amici@museopoldipezzoli.it – 366 5830536
URL:https://amicipoldipezzoli.it/attivita/alessandraquarto/
LOCATION:Museo Poldi Pezzoli\, Via Manzoni 12\, Milano\, Italy
CATEGORIES:Evento
ATTACH;FMTTYPE=image/jpeg:https://amicipoldipezzoli.it/wp-content/uploads/2022/12/foto.jpg
ORGANIZER;CN="Amici Museo Poldi Pezzoli":MAILTO:amici@museopoldipezzoli.it
END:VEVENT
END:VCALENDAR