BEGIN:VCALENDAR
VERSION:2.0
PRODID:-//Amici del Museo Poldi Pezzoli - ECPv6.15.20//NONSGML v1.0//EN
CALSCALE:GREGORIAN
METHOD:PUBLISH
X-ORIGINAL-URL:https://amicipoldipezzoli.it
X-WR-CALDESC:Eventi per Amici del Museo Poldi Pezzoli
REFRESH-INTERVAL;VALUE=DURATION:PT1H
X-Robots-Tag:noindex
X-PUBLISHED-TTL:PT1H
BEGIN:VTIMEZONE
TZID:Europe/Rome
BEGIN:DAYLIGHT
TZOFFSETFROM:+0100
TZOFFSETTO:+0200
TZNAME:CEST
DTSTART:20220327T010000
END:DAYLIGHT
BEGIN:STANDARD
TZOFFSETFROM:+0200
TZOFFSETTO:+0100
TZNAME:CET
DTSTART:20221030T010000
END:STANDARD
BEGIN:DAYLIGHT
TZOFFSETFROM:+0100
TZOFFSETTO:+0200
TZNAME:CEST
DTSTART:20230326T010000
END:DAYLIGHT
BEGIN:STANDARD
TZOFFSETFROM:+0200
TZOFFSETTO:+0100
TZNAME:CET
DTSTART:20231029T010000
END:STANDARD
BEGIN:DAYLIGHT
TZOFFSETFROM:+0100
TZOFFSETTO:+0200
TZNAME:CEST
DTSTART:20240331T010000
END:DAYLIGHT
BEGIN:STANDARD
TZOFFSETFROM:+0200
TZOFFSETTO:+0100
TZNAME:CET
DTSTART:20241027T010000
END:STANDARD
END:VTIMEZONE
BEGIN:VEVENT
DTSTART;TZID=Europe/Rome:20230126T100000
DTEND;TZID=Europe/Rome:20230126T120000
DTSTAMP:20260420T155628
CREATED:20221227T094657Z
LAST-MODIFIED:20230119T084821Z
UID:10000043-1674727200-1674734400@amicipoldipezzoli.it
SUMMARY:Recycling Beauty
DESCRIPTION:“Recycling Beauty” è un’inedita ricognizione dedicata al tema del riuso di antichità greche e romane in contesti post-antichi\, dal Medioevo al Barocco. Una mostra a cura di Salvatore Settis e Anna Anguissola con Denise La Monica il cui progetto allestitivo è ideato da Rem Koolhaas/OMA. La premessa di questa ricerca è la necessità di considerare il classico non solo come un’eredità del passato ma come un elemento vitale in grado di incidere sul nostro presente e futuro. Attraverso un innovativo approccio interpretativo e una modalità espositiva sperimentale\, il patrimonio antico\, e in particolare quello greco-romano\, diventa\, per usare le parole di Settis\, “una chiave di accesso alla molteplicità delle culture del mondo contemporaneo”. La mostra ospita oltre cinquanta opere d’arte altamente rappresentative provenienti da collezioni pubbliche e musei italiani e internazionali come Musée du Louvre di Parigi\, Kunsthistorisches Museum di Vienna\, Ny Carlsberg Glyptotek di Copenhagen\, Musei Capitolini\, Musei Vaticani e Galleria Borghese di Roma\, Gallerie degli Uffizi di Firenze e Museo Archeologico Nazionale di Napoli. \nAssistenza storico-artistica: dott.ssa Valeria Gerli\nRitrovo: ore 09.50 all’ingresso di Fondazione Prada\, Largo Isarco 2\nQuota di partecipazione: 15 euro \nPrenotazione direttamente su questa pagina con carta di credito o Paypal.\nIn alternativa contattare la Segreteria amici@museopoldipezzoli.it – 366 5830536 ed effettuare il pagamento in Segreteria o con bonifico bancario:\nCASSA LOMBARDA – FILIALE 100 – Via Manzoni\, 14 – 20121 Milano\nIBAN: IT 75 U 03488 01601 000000020238\nIntestato a: Associazione Amici del Museo Poldi Pezzoli\nCausale: Fond. Prada – Nome e cognome del Socio \nGrazie a LCA Studio Legale
URL:https://amicipoldipezzoli.it/attivita/recycling-beauty/
LOCATION:Fondazione Prada\, Largo Isarco 2\, Milano
CATEGORIES:Visita guidata
ATTACH;FMTTYPE=image/jpeg:https://amicipoldipezzoli.it/wp-content/uploads/2022/12/Cattura.jpg
ORGANIZER;CN="Amici Museo Poldi Pezzoli":MAILTO:amici@museopoldipezzoli.it
END:VEVENT
END:VCALENDAR