BEGIN:VCALENDAR
VERSION:2.0
PRODID:-//Amici del Museo Poldi Pezzoli - ECPv6.15.20//NONSGML v1.0//EN
CALSCALE:GREGORIAN
METHOD:PUBLISH
X-ORIGINAL-URL:https://amicipoldipezzoli.it
X-WR-CALDESC:Eventi per Amici del Museo Poldi Pezzoli
REFRESH-INTERVAL;VALUE=DURATION:PT1H
X-Robots-Tag:noindex
X-PUBLISHED-TTL:PT1H
BEGIN:VTIMEZONE
TZID:Europe/Rome
BEGIN:DAYLIGHT
TZOFFSETFROM:+0100
TZOFFSETTO:+0200
TZNAME:CEST
DTSTART:20220327T010000
END:DAYLIGHT
BEGIN:STANDARD
TZOFFSETFROM:+0200
TZOFFSETTO:+0100
TZNAME:CET
DTSTART:20221030T010000
END:STANDARD
BEGIN:DAYLIGHT
TZOFFSETFROM:+0100
TZOFFSETTO:+0200
TZNAME:CEST
DTSTART:20230326T010000
END:DAYLIGHT
BEGIN:STANDARD
TZOFFSETFROM:+0200
TZOFFSETTO:+0100
TZNAME:CET
DTSTART:20231029T010000
END:STANDARD
BEGIN:DAYLIGHT
TZOFFSETFROM:+0100
TZOFFSETTO:+0200
TZNAME:CEST
DTSTART:20240331T010000
END:DAYLIGHT
BEGIN:STANDARD
TZOFFSETFROM:+0200
TZOFFSETTO:+0100
TZNAME:CET
DTSTART:20241027T010000
END:STANDARD
END:VTIMEZONE
BEGIN:VEVENT
DTSTART;TZID=Europe/Rome:20230127T103000
DTEND;TZID=Europe/Rome:20230127T120000
DTSTAMP:20260420T155539
CREATED:20221229T085322Z
LAST-MODIFIED:20230119T085010Z
UID:10000046-1674815400-1674820800@amicipoldipezzoli.it
SUMMARY:Louis Vuitton e Yayoi Kusama
DESCRIPTION:Nei rinnovati spazi dell’ex Garage Traversi in via Bagutta\, importante simbolo cittadino dell’architettura razionalista di Giuseppe de Min\, Louis Vuitton ha da poco aperto la sua nuova dimora con uno spazio espositivo concepito per ospitare i progetti speciali della maison dalla vocazione artistica e culturale. Qui visiteremo “Creating Infinity: i mondi di Yayoi Kusama e Louis Vuitton“\, un progetto che risveglia\, evolve e amplia lo scambio artistico iniziato nel 2012 tra la celebre artista giapponese e il noto marchio francese. Ad attenderci un allestimento totalizzante che ricrea la filosofia di Yayoi Kusama unita al monogramma di Louis Vuitton. Ci immergeremo nel mondo ossessivo di Kusama grazie ai suoi Infinity Dots\, pois neri su sfondo giallo\, e alle sue Metal Ball\, le maxi sfere su cui si riflette l’ambiente circostante riprodotto all’infinito. Infine\, nella vicina piazza San Babila\, ci imbatteremo nelle tre grandi sculture a forma di zucca\, realizzate dallo Studio Kusama\, sulle collinette progettate dall’architetto Caccia Dominioni. Le zucche sono una specie di alter-ego dell’artista\, simbolo di una natura ostile ma anche del rassicurante ricordo della sua infanzia. \nAssistenza storico-artistica: dott.ssa Alessandra Montalbetti\nRitrovo: ore 10.30 in via Bagutta 2.\nQuota di partecipazione: 10 euro \nPrenotazione direttamente su questa pagina con carta di credito o Paypal.\nIn alternativa contattare la Segreteria amici@museopoldipezzoli.it – 366 5830536 ed effettuare il pagamento in Segreteria o con bonifico bancario:\nCASSA LOMBARDA – FILIALE 100 – Via Manzoni\, 14 – 20121 Milano\nIBAN: IT 75 U 03488 01601 000000020238\nIntestato a: Associazione Amici del Museo Poldi Pezzoli\nCausale: Vuitton Kusama – Nome e cognome del Socio \nGrazie a LCA Studio Legale
URL:https://amicipoldipezzoli.it/attivita/vuittonkusama/
LOCATION:Via Bagutta\, Via Bagutta 2\, Milano
CATEGORIES:Visita guidata
ATTACH;FMTTYPE=image/jpeg:https://amicipoldipezzoli.it/wp-content/uploads/2022/12/Cattura-3.jpg
ORGANIZER;CN="Amici Museo Poldi Pezzoli":MAILTO:amici@museopoldipezzoli.it
END:VEVENT
END:VCALENDAR