BEGIN:VCALENDAR
VERSION:2.0
PRODID:-//Amici del Museo Poldi Pezzoli - ECPv6.15.20//NONSGML v1.0//EN
CALSCALE:GREGORIAN
METHOD:PUBLISH
X-WR-CALNAME:Amici del Museo Poldi Pezzoli
X-ORIGINAL-URL:https://amicipoldipezzoli.it
X-WR-CALDESC:Eventi per Amici del Museo Poldi Pezzoli
REFRESH-INTERVAL;VALUE=DURATION:PT1H
X-Robots-Tag:noindex
X-PUBLISHED-TTL:PT1H
BEGIN:VTIMEZONE
TZID:Europe/Rome
BEGIN:DAYLIGHT
TZOFFSETFROM:+0100
TZOFFSETTO:+0200
TZNAME:CEST
DTSTART:20220327T010000
END:DAYLIGHT
BEGIN:STANDARD
TZOFFSETFROM:+0200
TZOFFSETTO:+0100
TZNAME:CET
DTSTART:20221030T010000
END:STANDARD
BEGIN:DAYLIGHT
TZOFFSETFROM:+0100
TZOFFSETTO:+0200
TZNAME:CEST
DTSTART:20230326T010000
END:DAYLIGHT
BEGIN:STANDARD
TZOFFSETFROM:+0200
TZOFFSETTO:+0100
TZNAME:CET
DTSTART:20231029T010000
END:STANDARD
BEGIN:DAYLIGHT
TZOFFSETFROM:+0100
TZOFFSETTO:+0200
TZNAME:CEST
DTSTART:20240331T010000
END:DAYLIGHT
BEGIN:STANDARD
TZOFFSETFROM:+0200
TZOFFSETTO:+0100
TZNAME:CET
DTSTART:20241027T010000
END:STANDARD
END:VTIMEZONE
BEGIN:VEVENT
DTSTART;TZID=Europe/Rome:20230201T110000
DTEND;TZID=Europe/Rome:20230201T130000
DTSTAMP:20260420T141100
CREATED:20230124T090508Z
LAST-MODIFIED:20230307T083342Z
UID:10000052-1675249200-1675256400@amicipoldipezzoli.it
SUMMARY:Bellezza e bruttezza nel Rinascimento
DESCRIPTION:La mostra attualmente in corso a Palazzo Reale prosegue idealmente il percorso inaugurato dall’esposizione  dedicata a Ieronimous Bosch\, nelle cui opere appaiono per la prima volta mostriciattoli e figure grottesche; il focus ora si allarga a comprendere  altri artisti  che durante il Rinascimento maturo  portano avanti un ‘idea di arte  alternativa\, sganciata  dai concetti di misura\, armonia\, senso delle proporzioni\, bellezza ideale che il Rinascimento  aveva recuperato  dalla classicità.  Per questi artisti \,più che il riferimento all’Antichità e ai suoi criteri di razionalità \,conta lo studio della Natura\, imperfetta ma vera\, di cui vengono indagate le forme sempre varie e diverse\, fino al deforme\, al grottesco\, in una parola al Brutto…Leonardo deforma le fisionomie nelle sue teste “caricate”\, Bramantino  rende protagoniste delle sue pale Madonne ambigue  e mascoline\, Michelangelo forza le anatomie insistendo sulla muscolatura possente dei suoi personaggi (compresi quelli femminili)\, Tintoretto sperimenta luci artificiali e azzarda  contrasti luministici … Un viaggio affascinante in un Rinascimento contorto e spigoloso\, assolutamente anticonvenzionale. \nAssistenza storico-artistica: dott.ssa Alessandra Novellone\nRitrovo: ore 10.45 all’ingresso della mostra\, Palazzo Reale\, Piazza del Duomo 12\nQuota di partecipazione: 18 euro \nPrenotazione e pagamento direttamente a questa pagina con carta credito o Paypal\nIn alternativa contattare la Segreteria amici@museopoldipezzoli.it – 366 5830536 ed effettuare il pagamento in Segreteria o con bonifico bancario:\nCASSA LOMBARDA – FILIALE 100 – Via Manzoni\, 14 – 20121 Milano\nIBAN: IT 75 U 03488 01601 000000020238\nIntestato a: Associazione Amici del Museo Poldi Pezzoli\nCausale: Rinascimento – Nome e cognome del Socio \nGrazie a LCA Studio Legale
URL:https://amicipoldipezzoli.it/attivita/bellezza-e-bruttezza-nel-rinascimento/
LOCATION:Palazzo Reale\, Milano\, Italy
CATEGORIES:Visita guidata
ATTACH;FMTTYPE=image/jpeg:https://amicipoldipezzoli.it/wp-content/uploads/2023/01/BB.jpg
ORGANIZER;CN="Amici Museo Poldi Pezzoli":MAILTO:amici@museopoldipezzoli.it
END:VEVENT
END:VCALENDAR