BEGIN:VCALENDAR
VERSION:2.0
PRODID:-//Amici del Museo Poldi Pezzoli - ECPv6.15.20//NONSGML v1.0//EN
CALSCALE:GREGORIAN
METHOD:PUBLISH
X-WR-CALNAME:Amici del Museo Poldi Pezzoli
X-ORIGINAL-URL:https://amicipoldipezzoli.it
X-WR-CALDESC:Eventi per Amici del Museo Poldi Pezzoli
REFRESH-INTERVAL;VALUE=DURATION:PT1H
X-Robots-Tag:noindex
X-PUBLISHED-TTL:PT1H
BEGIN:VTIMEZONE
TZID:Europe/Rome
BEGIN:DAYLIGHT
TZOFFSETFROM:+0100
TZOFFSETTO:+0200
TZNAME:CEST
DTSTART:20220327T010000
END:DAYLIGHT
BEGIN:STANDARD
TZOFFSETFROM:+0200
TZOFFSETTO:+0100
TZNAME:CET
DTSTART:20221030T010000
END:STANDARD
BEGIN:DAYLIGHT
TZOFFSETFROM:+0100
TZOFFSETTO:+0200
TZNAME:CEST
DTSTART:20230326T010000
END:DAYLIGHT
BEGIN:STANDARD
TZOFFSETFROM:+0200
TZOFFSETTO:+0100
TZNAME:CET
DTSTART:20231029T010000
END:STANDARD
BEGIN:DAYLIGHT
TZOFFSETFROM:+0100
TZOFFSETTO:+0200
TZNAME:CEST
DTSTART:20240331T010000
END:DAYLIGHT
BEGIN:STANDARD
TZOFFSETFROM:+0200
TZOFFSETTO:+0100
TZNAME:CET
DTSTART:20241027T010000
END:STANDARD
END:VTIMEZONE
BEGIN:VEVENT
DTSTART;TZID=Europe/Rome:20230213T163000
DTEND;TZID=Europe/Rome:20230213T183000
DTSTAMP:20260420T140409
CREATED:20230125T081834Z
LAST-MODIFIED:20230210T082716Z
UID:10000055-1676305800-1676313000@amicipoldipezzoli.it
SUMMARY:Portrait Milano: il nuovo hotel Ferragamo nell’ex Seminario Arcivescovile
DESCRIPTION:Un nuovo tassello per il fantastico mosaico che compone il disegno della bella Milano. L’antico Seminario Arcivescovile\, capolavoro del Barocco lombardo tra Cinque e Seicento\, uno dei più antichi seminari in Europa con la sua importante biblioteca\, la stamperia e la scuola\, trasformatosi nel tempo in numero considerevole di altre funzioni\, con la magnifica corte divenuta troppo a lungo un parcheggio\, da pochi mesi è tornato ad essere un indirizzo speciale con il monumentale portale affacciato su Corso Venezia. Da qui si fa accesso all’Hotel Portrait Milano. L’ultimo nato della serie di alberghi del Gruppo che fa capo al noto brand Ferragamo.  Così dopo un attento e sofisticato progetto di restauro e riqualificazione condotto dallo studio AMDL (Michele de Lucchi)\, curato negli interni dallo studio fiorentino Michele Bonan\, l’importante complesso monumentale si è aperto nuovamente alla città declinando con eleganza il gesto contemporaneo con la storica vocazione di luogo nascosto e tranquillo nel cuore di Milano\, con la sua ampissima piazza del Quadrilatero e il magnifico giardino ‘segreto’\,  divenendo luogo di ospitalità e cultura. \nAssistenza storico-artistica: dott.ssa Maria Vittoria Capitanucci\, arch. Alberto Bianchi (Project Architect dal 2015 all’apertura seguendo tutte le fasi del progetto e le relazioni con il Cliente\, la Curia e la Soprintendenza) e dott. Vignola (Direttore dell’hotel).\nRitrovo: ore 14.45 in Corso Venezia 11\nQuota di partecipazione: 20 euro \nPrenotazione e pagamento direttamente a questa pagina con carta credito o Paypal \nIn alternativa contattare la Segreteria amici@museopoldipezzoli.it – 366 5830536 ed effettuare il pagamento in Segreteria o con bonifico bancario:\nCASSA LOMBARDA – FILIALE 100 – Via Manzoni\, 14 – 20121 Milano\nIBAN: IT 75 U 03488 01601 000000020238\nIntestato a: Associazione Amici del Museo Poldi Pezzoli\nCausale: Portrait Hotel – Nome e cognome del Socio \nGrazie a LCA Studio Legale
URL:https://amicipoldipezzoli.it/attivita/portrait/
LOCATION:Portrait Hotel\, Corso Venezia 11\, Milano\, Milano\, Italia
CATEGORIES:Visita guidata
ATTACH;FMTTYPE=image/jpeg:https://amicipoldipezzoli.it/wp-content/uploads/2023/01/portrait-milano-Piazza-del-QuadrilateroView_courtesy-Lungarno-Hotel-Collection.jpg
ORGANIZER;CN="Amici Museo Poldi Pezzoli":MAILTO:amici@museopoldipezzoli.it
END:VEVENT
END:VCALENDAR