BEGIN:VCALENDAR
VERSION:2.0
PRODID:-//Amici del Museo Poldi Pezzoli - ECPv6.15.20//NONSGML v1.0//EN
CALSCALE:GREGORIAN
METHOD:PUBLISH
X-ORIGINAL-URL:https://amicipoldipezzoli.it
X-WR-CALDESC:Eventi per Amici del Museo Poldi Pezzoli
REFRESH-INTERVAL;VALUE=DURATION:PT1H
X-Robots-Tag:noindex
X-PUBLISHED-TTL:PT1H
BEGIN:VTIMEZONE
TZID:Europe/Rome
BEGIN:DAYLIGHT
TZOFFSETFROM:+0100
TZOFFSETTO:+0200
TZNAME:CEST
DTSTART:20220327T010000
END:DAYLIGHT
BEGIN:STANDARD
TZOFFSETFROM:+0200
TZOFFSETTO:+0100
TZNAME:CET
DTSTART:20221030T010000
END:STANDARD
BEGIN:DAYLIGHT
TZOFFSETFROM:+0100
TZOFFSETTO:+0200
TZNAME:CEST
DTSTART:20230326T010000
END:DAYLIGHT
BEGIN:STANDARD
TZOFFSETFROM:+0200
TZOFFSETTO:+0100
TZNAME:CET
DTSTART:20231029T010000
END:STANDARD
BEGIN:DAYLIGHT
TZOFFSETFROM:+0100
TZOFFSETTO:+0200
TZNAME:CEST
DTSTART:20240331T010000
END:DAYLIGHT
BEGIN:STANDARD
TZOFFSETFROM:+0200
TZOFFSETTO:+0100
TZNAME:CET
DTSTART:20241027T010000
END:STANDARD
END:VTIMEZONE
BEGIN:VEVENT
DTSTART;TZID=Europe/Rome:20230223T180000
DTEND;TZID=Europe/Rome:20230223T193000
DTSTAMP:20260420T141137
CREATED:20230216T113859Z
LAST-MODIFIED:20230216T113859Z
UID:10000061-1677175200-1677180600@amicipoldipezzoli.it
SUMMARY:Culture del dono e vita sociale degli oggetti d'arte: prospettive antropologiche
DESCRIPTION:In occasione della mostra temporanea L’arte del dono. Da Gian Giacomo Poldi Pezzoli a oggi\, in corso fino al 27 febbraio\, il Museo organizza un ciclo di incontri dedicati al tema del dono\, che verrà esplorato in tutte le sue sfaccettature\, da quelle filosofiche a quelle giuridiche\, fino a quelle antropologiche. \nIl terzo appuntamento\, Culture del dono e vita sociale degli oggetti d’arte: prospettive antropologiche\, si terrà giovedì 23 febbraio alle ore 18.00\, a cura della dottoressa Amalia Rossi\, PhD in Antropologia della contemporaneità. Il tema del dono rappresenta una delle questioni classiche affrontate dai primi antropologi culturali tra la fine dell’ XIX e l’inizio del XX secolo – ovvero proprio nei decenni successivi all’istituzione del Museo Poldi Pezzoli.  In questo intervento\, oltre a ripercorrere le traiettorie della teoria antropologica sulle forme culturali del dono\, sottolineando gli scarti tra formazioni culturali occidentali e contesti coloniali e post-coloniali\, si cercherà di estendere la riflessione al “qui e ora”\, provando a descrivere la vita sociale degli oggetti d’arte “donati” e accennando alle dinamiche della loro circolazione e scambio apparentemente disinteressati. Lungi dal rappresentare un contraltare alle dinamiche di accumulazione del privilegio\, l’arte del dono costituisce un imprescindibile dispositivo di accrescimento del capitale sociale e culturale per le élites del presente come per quelle del passato. \nA cura di Amalia Rossi\, docente di Antropologia culturale presso la Nuova Accademia di Belle Arti (NABA) di Milano. PhD in Antropologia della contemporaneità\, ha condotto ricerche in Italia e Thailandia e\, dal 2017\, si occupa di asilo e protezione internazionale come consulente per agenzie governative nazionali ed europee. \nIncontro gratuito. I posti disponibili sono limitati.\nPrenotazione obbligatoria direttamente a questa pagina oppure contattando la Segreteria amici@museopoldipezzoli.it – 366 5830536
URL:https://amicipoldipezzoli.it/attivita/donare-e-senso-terzo-appuntamento-del-ciclo-di-incontri-intorno-alla-mostra-larte-del-dono/
LOCATION:Museo Poldi Pezzoli\, Via Manzoni 12\, Milano\, Italy
CATEGORIES:Conferenza
ATTACH;FMTTYPE=image/jpeg:https://amicipoldipezzoli.it/wp-content/uploads/2022/11/10_20221102_POLDI_PEZZOLI_1200x1200_ig.jpg
ORGANIZER;CN="Amici Museo Poldi Pezzoli":MAILTO:amici@museopoldipezzoli.it
END:VEVENT
END:VCALENDAR