BEGIN:VCALENDAR
VERSION:2.0
PRODID:-//Amici del Museo Poldi Pezzoli - ECPv6.15.20//NONSGML v1.0//EN
CALSCALE:GREGORIAN
METHOD:PUBLISH
X-ORIGINAL-URL:https://amicipoldipezzoli.it
X-WR-CALDESC:Eventi per Amici del Museo Poldi Pezzoli
REFRESH-INTERVAL;VALUE=DURATION:PT1H
X-Robots-Tag:noindex
X-PUBLISHED-TTL:PT1H
BEGIN:VTIMEZONE
TZID:Europe/Rome
BEGIN:DAYLIGHT
TZOFFSETFROM:+0100
TZOFFSETTO:+0200
TZNAME:CEST
DTSTART:20220327T010000
END:DAYLIGHT
BEGIN:STANDARD
TZOFFSETFROM:+0200
TZOFFSETTO:+0100
TZNAME:CET
DTSTART:20221030T010000
END:STANDARD
BEGIN:DAYLIGHT
TZOFFSETFROM:+0100
TZOFFSETTO:+0200
TZNAME:CEST
DTSTART:20230326T010000
END:DAYLIGHT
BEGIN:STANDARD
TZOFFSETFROM:+0200
TZOFFSETTO:+0100
TZNAME:CET
DTSTART:20231029T010000
END:STANDARD
BEGIN:DAYLIGHT
TZOFFSETFROM:+0100
TZOFFSETTO:+0200
TZNAME:CEST
DTSTART:20240331T010000
END:DAYLIGHT
BEGIN:STANDARD
TZOFFSETFROM:+0200
TZOFFSETTO:+0100
TZNAME:CET
DTSTART:20241027T010000
END:STANDARD
END:VTIMEZONE
BEGIN:VEVENT
DTSTART;TZID=Europe/Rome:20230315T160000
DTEND;TZID=Europe/Rome:20230315T180000
DTSTAMP:20260422T121817
CREATED:20230217T104735Z
LAST-MODIFIED:20230310T100913Z
UID:10000062-1678896000-1678903200@amicipoldipezzoli.it
SUMMARY:Masaccio La Crocifissione. Omaggio ad Alberto Crespi
DESCRIPTION:La Crocifissione di Masaccio (San Giovanni Valdarno 1401 – Roma 1428) è il fondo oro per eccellenza della pittura italiana\, oltre ad essere una delle opere più importanti dell’artista toscano che rivoluziona la storia dell’arte nel suo breve ma folgorante percorso. La preziosa tavola\, conservata al Museo e Real Bosco di Capodimonte di Napoli\, arriva per la prima volta a Milano al Museo Diocesano e vuole essere un omaggio alla memoria del giurista e collezionista Alberto Crespi (1923 -2022)\, che al museo ha lasciato la sua preziosa collezione di Fondi Oro. \nAssistenza storico-artistica: Luisa Strada\nRitrovo: ore 16.00 all’ingresso del Museo Diocesano in Piazza Sant’Eustorgio 3\nQuota di partecipazione: 15 euro \nPrenotazione e pagamento direttamente a questa pagina con carta credito o Paypal\nIn alternativa contattare la Segreteria amici@museopoldipezzoli.it – 366 5830536 ed effettuare il pagamento in Segreteria o con bonifico bancario:\nCASSA LOMBARDA – FILIALE 100 – Via Manzoni\, 14 – 20121 Milano\nIBAN: IT 75 U 03488 01601 000000020238\nIntestato a: Associazione Amici del Museo Poldi Pezzoli\nCausale: Masaccio – Nome e cognome del Socio \nGrazie a LCA Studio Legale
URL:https://amicipoldipezzoli.it/attivita/masaccio/
LOCATION:Museo Diocesano\, Piazza Sant'Eustorgio 3\, Milano\, Italy
CATEGORIES:Visita guidata
ATTACH;FMTTYPE=image/jpeg:https://amicipoldipezzoli.it/wp-content/uploads/2023/02/Cattura-Copia.jpg
ORGANIZER;CN="Amici Museo Poldi Pezzoli":MAILTO:amici@museopoldipezzoli.it
END:VEVENT
END:VCALENDAR