BEGIN:VCALENDAR
VERSION:2.0
PRODID:-//Amici del Museo Poldi Pezzoli - ECPv6.15.20//NONSGML v1.0//EN
CALSCALE:GREGORIAN
METHOD:PUBLISH
X-WR-CALNAME:Amici del Museo Poldi Pezzoli
X-ORIGINAL-URL:https://amicipoldipezzoli.it
X-WR-CALDESC:Eventi per Amici del Museo Poldi Pezzoli
REFRESH-INTERVAL;VALUE=DURATION:PT1H
X-Robots-Tag:noindex
X-PUBLISHED-TTL:PT1H
BEGIN:VTIMEZONE
TZID:Europe/Rome
BEGIN:DAYLIGHT
TZOFFSETFROM:+0100
TZOFFSETTO:+0200
TZNAME:CEST
DTSTART:20220327T010000
END:DAYLIGHT
BEGIN:STANDARD
TZOFFSETFROM:+0200
TZOFFSETTO:+0100
TZNAME:CET
DTSTART:20221030T010000
END:STANDARD
BEGIN:DAYLIGHT
TZOFFSETFROM:+0100
TZOFFSETTO:+0200
TZNAME:CEST
DTSTART:20230326T010000
END:DAYLIGHT
BEGIN:STANDARD
TZOFFSETFROM:+0200
TZOFFSETTO:+0100
TZNAME:CET
DTSTART:20231029T010000
END:STANDARD
BEGIN:DAYLIGHT
TZOFFSETFROM:+0100
TZOFFSETTO:+0200
TZNAME:CEST
DTSTART:20240331T010000
END:DAYLIGHT
BEGIN:STANDARD
TZOFFSETFROM:+0200
TZOFFSETTO:+0100
TZNAME:CET
DTSTART:20241027T010000
END:STANDARD
END:VTIMEZONE
BEGIN:VEVENT
DTSTART;TZID=Europe/Rome:20230318T090000
DTEND;TZID=Europe/Rome:20230318T193000
DTSTAMP:20260422T121755
CREATED:20230308T141835Z
LAST-MODIFIED:20230320T110933Z
UID:10000065-1679130000-1679167800@amicipoldipezzoli.it
SUMMARY:Tra la raffinatezza di una celebre casa-museo e i capolavori di un maestro della scultura moderna: Vercelli si svela
DESCRIPTION:Vercelli città posta ne’ primi termini del Piemonte\, sede ora del Signor Duca di Savoja\, è assai ben popolata e abbondantemente fornita di vettovaglie e ogni sorta di merci… Vi sono assai belle contrade con buoni casamenti…”: questa è Vercelli vista da un viaggiatore qualche secolo fa. Al suo giudizio lusinghiero aggiungiamo giusto qualche dato non meno degno di senso: la Basilica di Sant’Andrea è un capolavoro precoce dell’architettura gotica europea\, il Museo Borgogna è la seconda pinacoteca del Piemonte in virtù dell’importanza della collezione\, il centro urbano è ancora rispettosamente raccolto attorno alla sua piazza centrale\, l’elegante Piazza Cavour\, i palazzi privati di pregio storico-artistico sono numerosi. Un tempo tra le più importanti chiese cittadine\, oggi San Marco (ad affreschi completamente recuperati) è sede espositiva: qui ci aspetta per un gradito ritorno il maestro Giacomo Manzù\, con una retrospettiva di rara qualità. Sotto lo sguardo vigile di una montagna-regina delle Alpi: il Monte Rosa\, patrimonio ambientale della provincia vercellese. \nA cura della Dott.ssa Paola Rapelli \nINFORMAZIONI PRATICHE \nOre 09.00 ritrovo e partenza in pullman da piazza IV novembre all’angolo tra la Stazione Centrale e l’Hotel Gallia. Rientro a Milano nel tardo pomeriggio. \nQuota di partecipazione: 130 euro\nLa quota comprende: il viaggio in pullman\, i biglietti di ingresso\, l’assistenza storico artistica\, i radiomicrofoni\, il pranzo presso la rinomata Trattoria Paolino e le mance. \nUn nostro Consigliere sarà presente per tutta la durata del viaggio. \nPrenotazioni  e pagamento con Paypal/carta di credito a questa pagina. \nIn alternativa prenotare contattando la Segreteria amici@museopoldipezzoli.it – 366 5830536. \nPagamento in Segreteria (contanti\, carta di credito\, bancomat\, assegno) o con bonifico bancario: \nCassa Lombarda – Via Manzoni 14\nIBAN: IT 75 U 03488 01601 000000020238\nIntestato a: Associazione Amici del Museo Poldi Pezzoli\nCausale: Vercelli  + Nome e Cognome del Socio \n  \nGrazie a LCA Studio Legale
URL:https://amicipoldipezzoli.it/attivita/vercelli/
LOCATION:Vercelli\, Italia
CATEGORIES:Itinerario fuori città
ATTACH;FMTTYPE=image/jpeg:https://amicipoldipezzoli.it/wp-content/uploads/2023/03/piazza-cavour-vercelli.jpg
ORGANIZER;CN="Amici Museo Poldi Pezzoli":MAILTO:amici@museopoldipezzoli.it
END:VEVENT
END:VCALENDAR