BEGIN:VCALENDAR
VERSION:2.0
PRODID:-//Amici del Museo Poldi Pezzoli - ECPv6.15.20//NONSGML v1.0//EN
CALSCALE:GREGORIAN
METHOD:PUBLISH
X-WR-CALNAME:Amici del Museo Poldi Pezzoli
X-ORIGINAL-URL:https://amicipoldipezzoli.it
X-WR-CALDESC:Eventi per Amici del Museo Poldi Pezzoli
REFRESH-INTERVAL;VALUE=DURATION:PT1H
X-Robots-Tag:noindex
X-PUBLISHED-TTL:PT1H
BEGIN:VTIMEZONE
TZID:Europe/Rome
BEGIN:DAYLIGHT
TZOFFSETFROM:+0100
TZOFFSETTO:+0200
TZNAME:CEST
DTSTART:20220327T010000
END:DAYLIGHT
BEGIN:STANDARD
TZOFFSETFROM:+0200
TZOFFSETTO:+0100
TZNAME:CET
DTSTART:20221030T010000
END:STANDARD
BEGIN:DAYLIGHT
TZOFFSETFROM:+0100
TZOFFSETTO:+0200
TZNAME:CEST
DTSTART:20230326T010000
END:DAYLIGHT
BEGIN:STANDARD
TZOFFSETFROM:+0200
TZOFFSETTO:+0100
TZNAME:CET
DTSTART:20231029T010000
END:STANDARD
BEGIN:DAYLIGHT
TZOFFSETFROM:+0100
TZOFFSETTO:+0200
TZNAME:CEST
DTSTART:20240331T010000
END:DAYLIGHT
BEGIN:STANDARD
TZOFFSETFROM:+0200
TZOFFSETTO:+0100
TZNAME:CET
DTSTART:20241027T010000
END:STANDARD
END:VTIMEZONE
BEGIN:VEVENT
DTSTART;TZID=Europe/Rome:20230329T103000
DTEND;TZID=Europe/Rome:20230329T120000
DTSTAMP:20260420T101048
CREATED:20230124T085303Z
LAST-MODIFIED:20230320T111537Z
UID:10000050-1680085800-1680091200@amicipoldipezzoli.it
SUMMARY:Bill Viola. Il Maestro della Videoart
DESCRIPTION:Curata da Kira Perov\, verrà analizzata l’intera produzione di questo Maestro della Videoart dagli anni Settanta ad oggi: dai primi video in cui sottolineava il profondo rapporto tra uomo e natura\, anche se con l’aiuto della più moderna tecnologia per quell’epoca\, per passare poi alle opere ispirate dall’iconologia classica\, riferendosi frequentemente ai capolavori italiani. Bill Viola riesce sovente a trovare il chiavistello della nostre emozioni stimolando un viaggio interiore di estrema intensità negli anfratti più intimi e spirituali proprio attraverso il mezzo elettronico. Ricordiamo che una sua opera è collocata su un altare della cattedrale di Saint Patrick a New York\, a riprova di una ricerca del Sacro senza confini. \nAssistenza storico-artistica: dott.ssa Alessandra Montalbetti\nRitrovo: ore 10.15 all’ingresso della mostra\, Palazzo Reale\, Piazza del Duomo 12\nQuota di partecipazione: 18 euro \nPrenotazione e pagamento direttamente a questa pagina con carta credito o Paypal\nIn alternativa contattare la Segreteria amici@museopoldipezzoli.it – 366 5830536 ed effettuare il pagamento in Segreteria o con bonifico bancario:\nCASSA LOMBARDA – FILIALE 100 – Via Manzoni\, 14 – 20121 Milano\nIBAN: IT 75 U 03488 01601 000000020238\nIntestato a: Associazione Amici del Museo Poldi Pezzoli\nCausale: Viola – Nome e cognome del Socio \nGrazie a LCA Studio Legale
URL:https://amicipoldipezzoli.it/attivita/bill-viola-il-maestro-della-videoart/
LOCATION:Palazzo Reale\, Milano\, Italy
CATEGORIES:Visita guidata
ATTACH;FMTTYPE=image/jpeg:https://amicipoldipezzoli.it/wp-content/uploads/2023/01/02_emergence150d_0434kpcc.jpg
ORGANIZER;CN="Amici Museo Poldi Pezzoli":MAILTO:amici@museopoldipezzoli.it
END:VEVENT
END:VCALENDAR