BEGIN:VCALENDAR
VERSION:2.0
PRODID:-//Amici del Museo Poldi Pezzoli - ECPv6.15.20//NONSGML v1.0//EN
CALSCALE:GREGORIAN
METHOD:PUBLISH
X-WR-CALNAME:Amici del Museo Poldi Pezzoli
X-ORIGINAL-URL:https://amicipoldipezzoli.it
X-WR-CALDESC:Eventi per Amici del Museo Poldi Pezzoli
REFRESH-INTERVAL;VALUE=DURATION:PT1H
X-Robots-Tag:noindex
X-PUBLISHED-TTL:PT1H
BEGIN:VTIMEZONE
TZID:Europe/Rome
BEGIN:DAYLIGHT
TZOFFSETFROM:+0100
TZOFFSETTO:+0200
TZNAME:CEST
DTSTART:20220327T010000
END:DAYLIGHT
BEGIN:STANDARD
TZOFFSETFROM:+0200
TZOFFSETTO:+0100
TZNAME:CET
DTSTART:20221030T010000
END:STANDARD
BEGIN:DAYLIGHT
TZOFFSETFROM:+0100
TZOFFSETTO:+0200
TZNAME:CEST
DTSTART:20230326T010000
END:DAYLIGHT
BEGIN:STANDARD
TZOFFSETFROM:+0200
TZOFFSETTO:+0100
TZNAME:CET
DTSTART:20231029T010000
END:STANDARD
BEGIN:DAYLIGHT
TZOFFSETFROM:+0100
TZOFFSETTO:+0200
TZNAME:CEST
DTSTART:20240331T010000
END:DAYLIGHT
BEGIN:STANDARD
TZOFFSETFROM:+0200
TZOFFSETTO:+0100
TZNAME:CET
DTSTART:20241027T010000
END:STANDARD
END:VTIMEZONE
BEGIN:VEVENT
DTSTART;TZID=Europe/Rome:20230404T143000
DTEND;TZID=Europe/Rome:20230404T180000
DTSTAMP:20260420T101048
CREATED:20230320T122255Z
LAST-MODIFIED:20230322T135555Z
UID:10000067-1680618600-1680631200@amicipoldipezzoli.it
SUMMARY:Saronno
DESCRIPTION:Appena giunti a Saronno andremo alla scoperta dell’interessante Museo Gianetti\, in una signorile Villa degli anni ’40 del ‘900 con stanze e arredi pressoché intatti\, si trova una delle più belle collezioni private di ceramiche italiane\, quella dell’industriale Giuseppe Gianetti (1887-1950). L’industriale saronnese costituì una ricca collezione di porcellane\, maioliche\, ceramiche di epoche e provenienze diverse\, dalle porcellane cinesi alle porcellane Meissen\, a quelle di Capodimonte\, Ginori… Una splendida Casa-Museo perfettamente in linea con lo spirito della nostra Associazione. Durante la visita avremo modo di ammirare\, inoltre\, la prestigiosa mostra dell’antiquario Subert con la sua importante collezione di ceramiche rinascimentali e Settecentesche e non solo. Successivamente visiteremo il bellissimo Santuario della Beata Vergine dei Miracoli di Saronno. La costruzione del santuario incominciò l’8 maggio 1498\, sembra ad opera del noto Giovanni Antonio Amadeo\, architetto della Fabbrica del Duomo. Nel 1556 la chiesa fu ingrandita da   Vincenzo Seregni e completata fra il 1596-1613 con una maestosa facciata\, altamente simbolica\, progettata da Pellegrino Tibaldi\, architetto caro a San Carlo Borromeo. La parte più antica del santuario\, comprendente la zona presbiteriale e absidale\, racchiude i grandi tesori della chiesa: splendidi affreschi realizzati da Bernardino Luini adornano le pareti dell’antipresbiterio e del presbiterio e una bellissima cupola affrescata da Gaudenzio Ferrari\, incanta il visitatore\, con la raffigurazione dell’Assunzione di Maria in cielo\, circondata da 126 angeli . Un magnifico paradiso! \nAssistenza storico-artistica: dott.ssa Barbara Pasolini\nIl gruppo sarà accompagnato dal nostro Consigliere Cinzia Buccellato \nRitrovo: ore 14.20 all’interno della Stazione Cadorna\, piano binari\, davanti all’edicola. \nPartenza con il treno delle ore 14.39. Rientro in città alle ore 17.30/18.00. \nQuota di partecipazione: 40 euro\nLa quota comprende: l’assistenza culturale\, i radiomicrofoni\, il viaggio in treno\, i biglietti di ingresso e le mance. \nPrenotazione e pagamento direttamente a questa pagina con carta credito o Paypal\nIn alternativa contattare la Segreteria amici@museopoldipezzoli.it – 366 5830536 ed effettuare il pagamento in Segreteria o con bonifico bancario:\nCASSA LOMBARDA – FILIALE 100 – Via Manzoni\, 14 – 20121 Milano\nIBAN: IT 75 U 03488 01601 000000020238\nIntestato a: Associazione Amici del Museo Poldi Pezzoli\nCausale: Saronno– Nome e cognome del Socio \nGrazie a LCA Studio Legale
URL:https://amicipoldipezzoli.it/attivita/saronno/
LOCATION:Saronno
CATEGORIES:Itinerario fuori città
ATTACH;FMTTYPE=image/jpeg:https://amicipoldipezzoli.it/wp-content/uploads/2023/03/Museo-Gianetti.jpg
ORGANIZER;CN="Amici Museo Poldi Pezzoli":MAILTO:amici@museopoldipezzoli.it
END:VEVENT
END:VCALENDAR