BEGIN:VCALENDAR
VERSION:2.0
PRODID:-//Amici del Museo Poldi Pezzoli - ECPv6.15.20//NONSGML v1.0//EN
CALSCALE:GREGORIAN
METHOD:PUBLISH
X-ORIGINAL-URL:https://amicipoldipezzoli.it
X-WR-CALDESC:Eventi per Amici del Museo Poldi Pezzoli
REFRESH-INTERVAL;VALUE=DURATION:PT1H
X-Robots-Tag:noindex
X-PUBLISHED-TTL:PT1H
BEGIN:VTIMEZONE
TZID:Europe/Rome
BEGIN:DAYLIGHT
TZOFFSETFROM:+0100
TZOFFSETTO:+0200
TZNAME:CEST
DTSTART:20220327T010000
END:DAYLIGHT
BEGIN:STANDARD
TZOFFSETFROM:+0200
TZOFFSETTO:+0100
TZNAME:CET
DTSTART:20221030T010000
END:STANDARD
BEGIN:DAYLIGHT
TZOFFSETFROM:+0100
TZOFFSETTO:+0200
TZNAME:CEST
DTSTART:20230326T010000
END:DAYLIGHT
BEGIN:STANDARD
TZOFFSETFROM:+0200
TZOFFSETTO:+0100
TZNAME:CET
DTSTART:20231029T010000
END:STANDARD
BEGIN:DAYLIGHT
TZOFFSETFROM:+0100
TZOFFSETTO:+0200
TZNAME:CEST
DTSTART:20240331T010000
END:DAYLIGHT
BEGIN:STANDARD
TZOFFSETFROM:+0200
TZOFFSETTO:+0100
TZNAME:CET
DTSTART:20241027T010000
END:STANDARD
END:VTIMEZONE
BEGIN:VEVENT
DTSTART;TZID=Europe/Rome:20230413T190000
DTEND;TZID=Europe/Rome:20230413T203000
DTSTAMP:20260420T101149
CREATED:20230320T110625Z
LAST-MODIFIED:20230320T153047Z
UID:10000066-1681412400-1681417800@amicipoldipezzoli.it
SUMMARY:Il racconto dell'arte italiana - Stefano Zuffi presenta il suo nuovo libro
DESCRIPTION:250 anni di arte italiana dal Seicento all’Ottocento raccontati seguendo le vicende di grandi artisti da Bernini a Canaletto\, da Bellotto a Canova\, fino ad Hayez\, ma anche di città come Roma\, Firenze\, Venezia\, Milano\, Napoli e altre ancora nel quadro delle trasformazioni storiche – sono i secoli delle dominazioni straniere – che interessano la nostra Penisola. Un quadro affollato\, vivacissimo\, narrato da Stefano Zuffi con garbo\, competenza e partecipazione. \nUna serata a cura di Hoepli e NW e con la partecipazione di Alberto Saibene. \nPrenotazione obbligatoria a questa pagina oppure scrivendo a amici@museopoldipezzoli.it
URL:https://amicipoldipezzoli.it/attivita/arteitaliana/
LOCATION:Museo Poldi Pezzoli\, Via Manzoni 12\, Milano\, Italy
CATEGORIES:Conferenza
ORGANIZER;CN="Amici Museo Poldi Pezzoli":MAILTO:amici@museopoldipezzoli.it
END:VEVENT
END:VCALENDAR