BEGIN:VCALENDAR
VERSION:2.0
PRODID:-//Amici del Museo Poldi Pezzoli - ECPv6.15.20//NONSGML v1.0//EN
CALSCALE:GREGORIAN
METHOD:PUBLISH
X-ORIGINAL-URL:https://amicipoldipezzoli.it
X-WR-CALDESC:Eventi per Amici del Museo Poldi Pezzoli
REFRESH-INTERVAL;VALUE=DURATION:PT1H
X-Robots-Tag:noindex
X-PUBLISHED-TTL:PT1H
BEGIN:VTIMEZONE
TZID:Europe/Rome
BEGIN:DAYLIGHT
TZOFFSETFROM:+0100
TZOFFSETTO:+0200
TZNAME:CEST
DTSTART:20220327T010000
END:DAYLIGHT
BEGIN:STANDARD
TZOFFSETFROM:+0200
TZOFFSETTO:+0100
TZNAME:CET
DTSTART:20221030T010000
END:STANDARD
BEGIN:DAYLIGHT
TZOFFSETFROM:+0100
TZOFFSETTO:+0200
TZNAME:CEST
DTSTART:20230326T010000
END:DAYLIGHT
BEGIN:STANDARD
TZOFFSETFROM:+0200
TZOFFSETTO:+0100
TZNAME:CET
DTSTART:20231029T010000
END:STANDARD
BEGIN:DAYLIGHT
TZOFFSETFROM:+0100
TZOFFSETTO:+0200
TZNAME:CEST
DTSTART:20240331T010000
END:DAYLIGHT
BEGIN:STANDARD
TZOFFSETFROM:+0200
TZOFFSETTO:+0100
TZNAME:CET
DTSTART:20241027T010000
END:STANDARD
END:VTIMEZONE
BEGIN:VEVENT
DTSTART;TZID=Europe/Rome:20230418T180000
DTEND;TZID=Europe/Rome:20230418T193000
DTSTAMP:20260420T101150
CREATED:20230308T124652Z
LAST-MODIFIED:20230313T140538Z
UID:10000064-1681840800-1681846200@amicipoldipezzoli.it
SUMMARY:Dan Flavin - Il Maestro della Luce
DESCRIPTION:Uno dei principali esponenti della Minimal Art statunitense ed uno dei Maestri più amati da Giuseppe Panza\, tanto da poter contare su una camera sempre a disposizione nella villa di Biumo\,  è ora protagonista di una “luminosa” rassegna presentata alle Gallerie d’Italia con opere della collezione di Luigi e Peppino Agrati\, oggi parte del patrimonio di Intesa Sanpaolo. Neon di produzione industriale e di formato standard sono il materiale privilegiato di un artista che amava meditare sui testi di Guglielmo di Ockhan e di Duns Scoto e che scopre l’arte in qualità di terapia personale. Esposte opere di rara bellezza\, come quella del 1968 dedicata a Giuseppe Agrati\, esemplare unico mai replicato ed esempio di appassionato collezionismo ricambiato dall’affetto di Dan Flavin. \nAssistenza storico-artistica: dott.ssa Alessandra Montalbetti\nRitrovo: ore 17.45 all’ingresso della mostra\, Gallerie d’Italia – Piazza Scala\nGratuito. Riservato ai Soci. \nPrenotazione e pagamento direttamente a questa pagina con carta credito o Paypal\nIn alternativa contattare la Segreteria amici@museopoldipezzoli.it – 366 5830536 ed effettuare il pagamento in Segreteria o con bonifico bancario:\nCASSA LOMBARDA – FILIALE 100 – Via Manzoni\, 14 – 20121 Milano\nIBAN: IT 75 U 03488 01601 000000020238\nIntestato a: Associazione Amici del Museo Poldi Pezzoli\nCausale: Dan Flavin – Nome e cognome del Socio \nGrazie a LCA Studio Legale
URL:https://amicipoldipezzoli.it/attivita/danflavin/
LOCATION:Gallerie d’Italia\, Piazza Scala\, Milano\, Milano\, Italia
CATEGORIES:Visita guidata
ATTACH;FMTTYPE=image/jpeg:https://amicipoldipezzoli.it/wp-content/uploads/2023/03/Flavin-Hero-Desktop.jpg
ORGANIZER;CN="Amici Museo Poldi Pezzoli":MAILTO:amici@museopoldipezzoli.it
END:VEVENT
END:VCALENDAR