BEGIN:VCALENDAR
VERSION:2.0
PRODID:-//Amici del Museo Poldi Pezzoli - ECPv6.15.20//NONSGML v1.0//EN
CALSCALE:GREGORIAN
METHOD:PUBLISH
X-WR-CALNAME:Amici del Museo Poldi Pezzoli
X-ORIGINAL-URL:https://amicipoldipezzoli.it
X-WR-CALDESC:Eventi per Amici del Museo Poldi Pezzoli
REFRESH-INTERVAL;VALUE=DURATION:PT1H
X-Robots-Tag:noindex
X-PUBLISHED-TTL:PT1H
BEGIN:VTIMEZONE
TZID:Europe/Rome
BEGIN:DAYLIGHT
TZOFFSETFROM:+0100
TZOFFSETTO:+0200
TZNAME:CEST
DTSTART:20220327T010000
END:DAYLIGHT
BEGIN:STANDARD
TZOFFSETFROM:+0200
TZOFFSETTO:+0100
TZNAME:CET
DTSTART:20221030T010000
END:STANDARD
BEGIN:DAYLIGHT
TZOFFSETFROM:+0100
TZOFFSETTO:+0200
TZNAME:CEST
DTSTART:20230326T010000
END:DAYLIGHT
BEGIN:STANDARD
TZOFFSETFROM:+0200
TZOFFSETTO:+0100
TZNAME:CET
DTSTART:20231029T010000
END:STANDARD
BEGIN:DAYLIGHT
TZOFFSETFROM:+0100
TZOFFSETTO:+0200
TZNAME:CEST
DTSTART:20240331T010000
END:DAYLIGHT
BEGIN:STANDARD
TZOFFSETFROM:+0200
TZOFFSETTO:+0100
TZNAME:CET
DTSTART:20241027T010000
END:STANDARD
END:VTIMEZONE
BEGIN:VEVENT
DTSTART;TZID=Europe/Rome:20230529T131500
DTEND;TZID=Europe/Rome:20230529T160000
DTSTAMP:20260420T064219
CREATED:20230523T104410Z
LAST-MODIFIED:20230523T105007Z
UID:10000075-1685366100-1685376000@amicipoldipezzoli.it
SUMMARY:Assemblea annuale dei Soci
DESCRIPTION:L’Assemblea annuale dell’Associazione Amici del Museo Poldi Pezzoli ETS è convocata per il giorno \nLunedì 29 maggio alle ore 07.00 in prima convocazione e alle ore 14.30 in seconda convocazione presso il Museo Poldi Pezzoli\, via Manzoni 12. \nORDINE DEL GIORNO \n\nRelazione del Consiglio di Amministrazione sull’attività e sull’andamento economico dell’Associazione nell’anno 2022;\nApprovazione del bilancio dell’esercizio sociale 2022;\nVarie ed eventuali.\n\nL’Assemblea sarà preceduta alle ore 13.15 dalla visita “San Nicola da Tolentino” di Piero della Francesca a cura di Stefano Zuffi\nStefano Zuffi\, storico dell’arte e nostro Vice Presidente\, racconterà l’opera San Nicola da Tolentino di Piero della Francesca nel Salone dorato del Museo Poldi Pezzoli.\nTra la sofisticata “Dama” di Pollaiolo e all’incantevole “Madonna del Libro” di Botticelli\, il corposo\, massiccio “San Nicola da Tolentino” di Piero della Francesca segna con fiera energia il valore del volume\, del peso\, della stazza fisica del personaggio. Pannello di un polittico sciaguratamente smembrato e sparpagliato in tutto il mondo\, la tavola di Piero è una testimonianza esplicita della centralità della figura nell’umanesimo italiano\, di cui Piero è uno dei più autorevoli esponenti. \n\nClicca qui per scaricare il modulo delega \nPer il Consiglio Direttivo\nIl Presidente Aldo Citterio
URL:https://amicipoldipezzoli.it/attivita/assemblea/
LOCATION:Museo Poldi Pezzoli\, Via Manzoni 12\, Milano\, Italy
CATEGORIES:Evento
ATTACH;FMTTYPE=image/jpeg:https://amicipoldipezzoli.it/wp-content/uploads/2023/05/200.200°POLDI-PEZZOLI-SETT-22-scaled.jpg
ORGANIZER;CN="Amici Museo Poldi Pezzoli":MAILTO:amici@museopoldipezzoli.it
END:VEVENT
END:VCALENDAR