BEGIN:VCALENDAR
VERSION:2.0
PRODID:-//Amici del Museo Poldi Pezzoli - ECPv6.15.20//NONSGML v1.0//EN
CALSCALE:GREGORIAN
METHOD:PUBLISH
X-ORIGINAL-URL:https://amicipoldipezzoli.it
X-WR-CALDESC:Eventi per Amici del Museo Poldi Pezzoli
REFRESH-INTERVAL;VALUE=DURATION:PT1H
X-Robots-Tag:noindex
X-PUBLISHED-TTL:PT1H
BEGIN:VTIMEZONE
TZID:Europe/Rome
BEGIN:DAYLIGHT
TZOFFSETFROM:+0100
TZOFFSETTO:+0200
TZNAME:CEST
DTSTART:20220327T010000
END:DAYLIGHT
BEGIN:STANDARD
TZOFFSETFROM:+0200
TZOFFSETTO:+0100
TZNAME:CET
DTSTART:20221030T010000
END:STANDARD
BEGIN:DAYLIGHT
TZOFFSETFROM:+0100
TZOFFSETTO:+0200
TZNAME:CEST
DTSTART:20230326T010000
END:DAYLIGHT
BEGIN:STANDARD
TZOFFSETFROM:+0200
TZOFFSETTO:+0100
TZNAME:CET
DTSTART:20231029T010000
END:STANDARD
BEGIN:DAYLIGHT
TZOFFSETFROM:+0100
TZOFFSETTO:+0200
TZNAME:CEST
DTSTART:20240331T010000
END:DAYLIGHT
BEGIN:STANDARD
TZOFFSETFROM:+0200
TZOFFSETTO:+0100
TZNAME:CET
DTSTART:20241027T010000
END:STANDARD
END:VTIMEZONE
BEGIN:VEVENT
DTSTART;TZID=Europe/Rome:20230922T090000
DTEND;TZID=Europe/Rome:20230922T180000
DTSTAMP:20260420T013043
CREATED:20230714T085845Z
LAST-MODIFIED:20230913T085846Z
UID:10000089-1695373200-1695405600@amicipoldipezzoli.it
SUMMARY:Andar per valli\, sulle tracce di Lotto e Romanino; e un piccolo Poldi Pezzoli sulle rive del Lago di Iseo...
DESCRIPTION:Il nostro percorso ci conduce dalla Bergamasca su per la Val Seriana\, la Val Cavallina e la Valcamonica\, per concludersi sulle verdissime sponde del lago d’Iseo. Iniziamo con un confronto tra Lotto e Romanino: diversi per indole\, ma accomunati da una profonda fede\, e dal periodo storico di crisi politica e religiosa \, questi due outsider partecipano a loro modo alla riscossa della Chiesa\, messa a dura prova dall’avanzata della Riforma\, sulla scorta di quegli eserciti di mercenari che da Oltralpe scendevano a combattere in Italia\, al soldo di sovrani stranieri\, passando proprio da queste valli. Qui\, promossi dalla Controriforma\, fioriscono allora Sacri Monti e luoghi di culto\, che diventano veri e propri baluardi contro la penetrazione delle idee luterane. Lotto e Romanino si fanno interpreti del forte sentimento religioso di quei tempi in luoghi come l’oratorio Suardi a Trescore Balneario\, affrescato da Lotto con la straordinaria invenzione del Cristo-vite che è un vero manifesto del cattolicesimo militante; e la chiesa di Santa Maria della Neve a Pisogne – tanto ricca da essere definita “la cappella Sistina del Nord” – decorata da Romanino con storie della Passione di Cristo con il suo linguaggio vigoroso e popolaresco\, intriso di umori nordici. Nel pomeriggio\, cambio di passo: a Lovere\, delizioso borgo sull’alto lago di Iseo\, visiteremo la galleria dell’Accademia Tadini\, in un candido palazzo neoclassico proprio sul lungolago : una sorta di piccola casa-museo\, fondata dal conte Luigi Tadini\, che vanta opere di Paris Bordon\, Jacopo Bellini\, Antonio Canova\, Francesco Hayez e molti altri\, insieme a vetri\, porcellane\, oggetti d’arte decorativa\, arredi\, in una cornice di quieta raffinatezza ottocentesca… Al secondo piano della residenza è allestita una mostra temporanea su Cesare Tallone\, esponente di razza di quel solido realismo lombardo ottocentesco che egli contribuì a diffondere dalle aule dell’accademia Carrara di Bergamo di cui mantenne la cattedra per quasi 40 anni\, tra il 1846 e il 1884. Legato a Lovere da consuetudini e frequentazioni ha ritratto la buona società locale in un periodo di grande sviluppo per la cittadina. \nAssistenza storico-artistica: dott.ssa Alessandra Novellone\nNell’ambito della giornata il gruppo sarà accompagnato dal Consigliere Cinzia Buccellato\nRitrovo: ore 08.50 in Piazza IV Novembre all’angolo tra l’Hotel Gallia e la Stazione Centrale. Rientro a Milano nel tardo pomeriggio.\nQuota di partecipazione: 145 euro. La quota comprende: il pullman\, l’assistenza culturale\, il pranzo in un ristorante tipico\, gli ingressi ai musei e alle chiese\, i radiomicrofoni e le mance. \nPrenotazione e pagamento direttamente a questa pagina con carta credito o Paypal\nIn alternativa contattare la Segreteria amici@museopoldipezzoli.it – 366 5830536 ed effettuare il pagamento in Segreteria o con bonifico bancario:\nCASSA LOMBARDA – FILIALE 100 – Via Manzoni\, 14 – 20121 Milano\nIBAN: IT 75 U 03488 01601 000000020238\nIntestato a: Associazione Amici del Museo Poldi Pezzoli\nCausale: Lovere – Nome e cognome del Socio
URL:https://amicipoldipezzoli.it/attivita/lovere/
LOCATION:Lovere
CATEGORIES:Itinerario fuori città
ATTACH;FMTTYPE=image/png:https://amicipoldipezzoli.it/wp-content/uploads/2023/07/Immagine-2023-07-14-105653.png
ORGANIZER;CN="Amici Museo Poldi Pezzoli":MAILTO:amici@museopoldipezzoli.it
END:VEVENT
END:VCALENDAR