BEGIN:VCALENDAR
VERSION:2.0
PRODID:-//Amici del Museo Poldi Pezzoli - ECPv6.15.20//NONSGML v1.0//EN
CALSCALE:GREGORIAN
METHOD:PUBLISH
X-WR-CALNAME:Amici del Museo Poldi Pezzoli
X-ORIGINAL-URL:https://amicipoldipezzoli.it
X-WR-CALDESC:Eventi per Amici del Museo Poldi Pezzoli
REFRESH-INTERVAL;VALUE=DURATION:PT1H
X-Robots-Tag:noindex
X-PUBLISHED-TTL:PT1H
BEGIN:VTIMEZONE
TZID:Europe/Rome
BEGIN:DAYLIGHT
TZOFFSETFROM:+0100
TZOFFSETTO:+0200
TZNAME:CEST
DTSTART:20220327T010000
END:DAYLIGHT
BEGIN:STANDARD
TZOFFSETFROM:+0200
TZOFFSETTO:+0100
TZNAME:CET
DTSTART:20221030T010000
END:STANDARD
BEGIN:DAYLIGHT
TZOFFSETFROM:+0100
TZOFFSETTO:+0200
TZNAME:CEST
DTSTART:20230326T010000
END:DAYLIGHT
BEGIN:STANDARD
TZOFFSETFROM:+0200
TZOFFSETTO:+0100
TZNAME:CET
DTSTART:20231029T010000
END:STANDARD
BEGIN:DAYLIGHT
TZOFFSETFROM:+0100
TZOFFSETTO:+0200
TZNAME:CEST
DTSTART:20240331T010000
END:DAYLIGHT
BEGIN:STANDARD
TZOFFSETFROM:+0200
TZOFFSETTO:+0100
TZNAME:CET
DTSTART:20241027T010000
END:STANDARD
END:VTIMEZONE
BEGIN:VEVENT
DTSTART;TZID=Europe/Rome:20230927T120000
DTEND;TZID=Europe/Rome:20230927T133000
DTSTAMP:20260419T234435
CREATED:20230914T101721Z
LAST-MODIFIED:20230920T081447Z
UID:10000091-1695816000-1695821400@amicipoldipezzoli.it
SUMMARY:La nuova stagione del Poldi! Le Sale dei Lombardi e il rinnovato Scalone Antico
DESCRIPTION:Il Direttore Alessandra Quarto e il Curatore Lavinia Galli hanno il piacere e l’onore di presentare gli ultimi progetti realizzati grazie al contributo dell’Associazione Amici del Museo Poldi Pezzoli. L’appuntamento è al Museo Poldi Pezzoli per una visita esclusiva e riservata  alle nuove Sale dei Lombardi e al rinnovato Scalone Antico. \nMartedì 19 settembre il Museo Poldi Pezzoli ha presentato al pubblico le Sale dedicate alla pittura rinascimentale lombarda\, in una nuova veste. Come per l’illuminazione dello Scalone Antico inaugurata a luglio\, a guidare questa scelta progettuale due obiettivi fondamentali: valorizzare la collezione del museo e coinvolgere il visitatore per migliorare la sua esperienza di visita\, permettendo così la riscoperta di un’identità e di un rapporto sempre più forte con la città di Milano. Le tre sale ospitano forse la collezione più ricca e omogenea di pittura del museo\, per cui è possibile narrare la storia dell’evoluzione dell’arte lombarda dal 1450 al 1535 attraverso i suoi protagonisti con una selezione di pezzi eccezionali: Boltraffio\, Solario\, Luini\, Foppa\, Bergognone\, Zenale. Il rinnovato ordinamento delle opere è a cura di Lavinia Galli e Federica Manoli del Museo Poldi Pezzoli e Stefania Buganza\, docente di Storia dell’arte medievale e Storia dell’arte lombarda della Università Cattolica del Sacro Cuore. Le sale sono ripensate in termini di riordino delle opere\, nuova illuminazione\, colore alle pareti\, cornici\, didascalie più leggibili\, pannelli di sala più esplicativi con QR code per garantire un supporto costante al pubblico e guidarlo durante la visita. Nuovo protagonista della veste di queste sale è sicuramente il colore. Il verde crea un legame importante tra passato e presente e accompagna l’esperienza di visita delle sale della casa museo in quegli ambienti suggestivi che raccontano la storia e valorizzano la collezione.
URL:https://amicipoldipezzoli.it/attivita/nuovastagionepoldi/
LOCATION:Museo Poldi Pezzoli\, Via Manzoni 12\, Milano\, Italy
CATEGORIES:Visita guidata
ATTACH;FMTTYPE=image/jpeg:https://amicipoldipezzoli.it/wp-content/uploads/2023/09/Prima_sala-_lombardi-scaled.jpg
ORGANIZER;CN="Amici Museo Poldi Pezzoli":MAILTO:amici@museopoldipezzoli.it
END:VEVENT
END:VCALENDAR