BEGIN:VCALENDAR
VERSION:2.0
PRODID:-//Amici del Museo Poldi Pezzoli - ECPv6.15.20//NONSGML v1.0//EN
CALSCALE:GREGORIAN
METHOD:PUBLISH
X-ORIGINAL-URL:https://amicipoldipezzoli.it
X-WR-CALDESC:Eventi per Amici del Museo Poldi Pezzoli
REFRESH-INTERVAL;VALUE=DURATION:PT1H
X-Robots-Tag:noindex
X-PUBLISHED-TTL:PT1H
BEGIN:VTIMEZONE
TZID:Europe/Rome
BEGIN:DAYLIGHT
TZOFFSETFROM:+0100
TZOFFSETTO:+0200
TZNAME:CEST
DTSTART:20220327T010000
END:DAYLIGHT
BEGIN:STANDARD
TZOFFSETFROM:+0200
TZOFFSETTO:+0100
TZNAME:CET
DTSTART:20221030T010000
END:STANDARD
BEGIN:DAYLIGHT
TZOFFSETFROM:+0100
TZOFFSETTO:+0200
TZNAME:CEST
DTSTART:20230326T010000
END:DAYLIGHT
BEGIN:STANDARD
TZOFFSETFROM:+0200
TZOFFSETTO:+0100
TZNAME:CET
DTSTART:20231029T010000
END:STANDARD
BEGIN:DAYLIGHT
TZOFFSETFROM:+0100
TZOFFSETTO:+0200
TZNAME:CEST
DTSTART:20240331T010000
END:DAYLIGHT
BEGIN:STANDARD
TZOFFSETFROM:+0200
TZOFFSETTO:+0100
TZNAME:CET
DTSTART:20241027T010000
END:STANDARD
END:VTIMEZONE
BEGIN:VEVENT
DTSTART;TZID=Europe/Rome:20231019T083000
DTEND;TZID=Europe/Rome:20231019T183000
DTSTAMP:20260419T234452
CREATED:20230712T105747Z
LAST-MODIFIED:20230726T095005Z
UID:10000088-1697704200-1697740200@amicipoldipezzoli.it
SUMMARY:Due nuovi spazi per l'arte a Brescia: Palazzo Monti e Spazio ALMAG
DESCRIPTION:Dopo una passeggiata storica- artistica alla scoperta del centro storico di Brescia\, fra antiche testimonianze dell’antica Roma\, antichi palazzi e chiese fino alle piazze simbolo della storia della città (Piazza del Duomo e  Piazza Loggia)\, saremo accolti a Palazzo Monti\, storico edificio del 1200 convertito a residenza per artisti e designer internazionali. Qui incontreremo il giovane collezionista Edoardo Monti classe 1991 nel suo incubatore di creatività e produttività che offre agli artisti la possibilità di trovare ispirazione e creare collaborazioni. Decorato con affreschi neoclassici della fine del 1750\, Palazzo Monti offre un ambiente stimolante per creare arte contemporanea. All’interno\, 18 camere affrescate raggiungibili dalla grande scalinata in marmo e pietra lasciate spoglie per consentire agli ospiti la libera creazione. Molti dei lavori di design realizzati sono frutto di commissioni o di collaborazioni con artigiani della zona. Nel pomeriggio\, dopo la pausa pranzo in un ristorante tipico della città\, visiteremo Spazio ALMAG a Roncadelle\, la nuova sede che ospita le opere dell’imprenditrice\, collezionista e Presidente del Club del Restauro del Museo Poldi Pezzoli Umberta Gnutti Beretta. Ci troveremo dinanzi ad una vasta collezione\, di oltre 140 opere\, che spaziano dai primi anni del ‘900 fino ad essere ultra contemporanee\, con opere eseguite nei primi giorni del 2023. Sui due piani dello Spazio Almag\, ripensato dal curatore Edoardo Monti e ristrutturato con la precisa intenzione di accogliere opere d’arte\, ammireremo opere di fotografia e pittura\, installazioni e sculture\, opere luminose e realizzate specificatamente per lo spazio. Tra i tanti nomi: Anselm Kiefer\, Anish Kapoor\, Andy Warhol e Michelangelo Pistoletto\, Maurizio Cattelan\, Francesco Vezzoli\, Elmgreen & Dragset\, Nicolas Party e Miles Aldridge. E poi ancora Barbara Kruger\, Nan Goldin e Jenny Holzer\, Jacopo Benassi\, Lady Tarin\, Paola Pivi\, Vanessa Beecroft\, Marinella Senatore. E Louis Fratino\, Jonathan Monk\, Adelita Husni-Bey\, Velasco Vitali. Accanto a Lucio Fontana e Lucian Freud\, Giulio Paolini ed Enrico Baj\, e tanti altri. \nAssistenza storico-artistica: dott.ssa Umberta Gnutti Beretta\, Dott. Edoardo Monti\, Dott.ssa Barbara Pasolini\nNell’ambito della giornata il gruppo sarà accompagnato dal Consigliere Cinzia Buccellato\nRitrovo: ore 08.40 in Piazza IV Novembre all’angolo tra l’Hotel Gallia e la Stazione Centrale. Rientro nel tardo pomeriggio.\nQuota di partecipazione: 140 euro. La quota comprende il pullman\, l’assistenza culturale\, il pranzo in un ristorante tipico\, gli omaggi\, i radiomicrofoni e le mance. \nPrenotazione e pagamento direttamente a questa pagina con carta credito o Paypal\nIn alternativa contattare la Segreteria amici@museopoldipezzoli.it – 366 5830536 ed effettuare il pagamento in Segreteria o con bonifico bancario:\nCASSA LOMBARDA – FILIALE 100 – Via Manzoni\, 14 – 20121 Milano\nIBAN: IT 75 U 03488 01601 000000020238\nIntestato a: Associazione Amici del Museo Poldi Pezzoli\nCausale: Brescia – Nome e cognome del Socio
URL:https://amicipoldipezzoli.it/attivita/brescia/
LOCATION:Brescia
CATEGORIES:Itinerario fuori città
ATTACH;FMTTYPE=image/jpeg:https://amicipoldipezzoli.it/wp-content/uploads/2023/07/Spazio-Almag-Roncadelle-BS.-Ph.-Leonardo-Anker-Vandal.-Courtesy-Collezione-Umberta-Gnutti-Beretta-768x512-1.jpg
ORGANIZER;CN="Amici Museo Poldi Pezzoli":MAILTO:amici@museopoldipezzoli.it
END:VEVENT
END:VCALENDAR