BEGIN:VCALENDAR
VERSION:2.0
PRODID:-//Amici del Museo Poldi Pezzoli - ECPv6.15.20//NONSGML v1.0//EN
CALSCALE:GREGORIAN
METHOD:PUBLISH
X-ORIGINAL-URL:https://amicipoldipezzoli.it
X-WR-CALDESC:Eventi per Amici del Museo Poldi Pezzoli
REFRESH-INTERVAL;VALUE=DURATION:PT1H
X-Robots-Tag:noindex
X-PUBLISHED-TTL:PT1H
BEGIN:VTIMEZONE
TZID:Europe/Rome
BEGIN:DAYLIGHT
TZOFFSETFROM:+0100
TZOFFSETTO:+0200
TZNAME:CEST
DTSTART:20220327T010000
END:DAYLIGHT
BEGIN:STANDARD
TZOFFSETFROM:+0200
TZOFFSETTO:+0100
TZNAME:CET
DTSTART:20221030T010000
END:STANDARD
BEGIN:DAYLIGHT
TZOFFSETFROM:+0100
TZOFFSETTO:+0200
TZNAME:CEST
DTSTART:20230326T010000
END:DAYLIGHT
BEGIN:STANDARD
TZOFFSETFROM:+0200
TZOFFSETTO:+0100
TZNAME:CET
DTSTART:20231029T010000
END:STANDARD
BEGIN:DAYLIGHT
TZOFFSETFROM:+0100
TZOFFSETTO:+0200
TZNAME:CEST
DTSTART:20240331T010000
END:DAYLIGHT
BEGIN:STANDARD
TZOFFSETFROM:+0200
TZOFFSETTO:+0100
TZNAME:CET
DTSTART:20241027T010000
END:STANDARD
END:VTIMEZONE
BEGIN:VEVENT
DTSTART;TZID=Europe/Rome:20231026T103000
DTEND;TZID=Europe/Rome:20231026T120000
DTSTAMP:20260419T234539
CREATED:20230704T072045Z
LAST-MODIFIED:20231023T080746Z
UID:10000086-1698316200-1698321600@amicipoldipezzoli.it
SUMMARY:El Greco visionario a Palazzo Reale
DESCRIPTION:Dalla Grecia alla Spagna\, passando per l’Italia: un concentrato di cultura e gusto mediterranei\, in cui  gli influssi bizantini della terra d’origine si mescolano al cromatismo veneto\, al Manierismo di marca romana\, al  rigore  controriformato\, agli umori mistici propri dell’arte spagnola:  con questi presupposti non stupisce che Domènikos Theotokòpulos\, più noto come El Greco\, nato a Candia nel 1541\, abbia maturato uno stile personalissimo e riconoscibile\, visionario ed espressionistico\, con quelle figure dai corpi allungati\, dalle pose esasperate e  innaturali\, che emergono dal buio più fondo illuminate con violenza da luci abbaglianti o stellari\,  dalla tavolozza disarmonica impostata sui toni acidi dei verdi\, dei rossi\, dei gialli. Ambizioso e astuto\,  carismatico e coraggioso\, dimenticato dai contemporanei dopo la morte avvenuta a  Toledo nel 1614\, El Greco ha ispirato artisti come Delacroix\, Manet\, Cezanne\, Chagall\, gli Espressionisti; e lo stesso Picasso  per le celebri “Demoiselles d’Avignon” pare abbia tratto spunto dalla sua\, forse\, ultima opera\, “L’apertura del V sigillo dell’Apocalisse”. La mostra in corso a Palazzo Reale è un’occasione per riscoprire questo protagonista dell’arte del ‘500/’600. \nAssistenza storico-artistica: dott.ssa Alessandra Novellone\nRitrovo: ore 10.15  all’ingresso della mostra\, Palazzo Reale\, Piazza del Duomo 12\nQuota di partecipazione: 20 euro \nPrenotazione e pagamento direttamente a questa pagina con carta credito o Paypal\nIn alternativa contattare la Segreteria amici@museopoldipezzoli.it – 366 5830536 ed effettuare il pagamento in Segreteria o con bonifico bancario:\nCASSA LOMBARDA – FILIALE 100 – Via Manzoni\, 14 – 20121 Milano\nIBAN: IT 75 U 03488 01601 000000020238\nIntestato a: Associazione Amici del Museo Poldi Pezzoli\nCausale: El Greco – Nome e cognome del Socio
URL:https://amicipoldipezzoli.it/attivita/elgreco/
LOCATION:Palazzo Reale\, Milano\, Italy
CATEGORIES:Visita guidata
ATTACH;FMTTYPE=image/png:https://amicipoldipezzoli.it/wp-content/uploads/2023/07/Immagine-2023-07-04-091604.png
ORGANIZER;CN="Amici Museo Poldi Pezzoli":MAILTO:amici@museopoldipezzoli.it
END:VEVENT
BEGIN:VEVENT
DTSTART;TZID=Europe/Rome:20231026T163000
DTEND;TZID=Europe/Rome:20231026T180000
DTSTAMP:20260419T234539
CREATED:20231020T090000Z
LAST-MODIFIED:20231020T090000Z
UID:10000097-1698337800-1698343200@amicipoldipezzoli.it
SUMMARY:ORO BIANCO. Tre secoli di porcellane Ginori  Visita esclusiva con il curatore
DESCRIPTION:Oro bianco. Tre secoli di porcellane Ginori è il titolo della mostra che il Museo Poldi Pezzoli e il Museo Ginori presentano al pubblico dal 25 ottobre 2023 al 19 febbraio 2024. La mostra\, a cura di Federica Manoli\, curatrice della collezione di ceramiche del Museo Poldi Pezzoli\, e di Oliva Rucellai e Rita Balleri\, conservatrici del Museo Ginori\, presenta una selezione delle più importanti opere realizzate dalla Manifattura Ginori\, tra il XVIII e il XX secolo\, conservate in diversi musei italiani ed europei\, oltre che al Poldi Pezzoli\, al Museo Ginori\, al momento chiuso per restauro\, e in collezioni private.\nL’allestimento\, elegante e suggestivo\, è a cura dello studio Guicciardini e Magni Architetti di Firenze. La mostra è sostenuta dalla Fondazione Ico Falck. \nAssistenza storico-artistica: dott.ssa Federica Manoli\, curatore della mostra.\nGratuito per i Soci.\nPrenotazione obbligatoria amici@museopoldipezzoli.it
URL:https://amicipoldipezzoli.it/attivita/oro-bianco-tre-secoli-di-porcellane-ginori-visita-esclusiva-con-il-curatore/
LOCATION:Museo Poldi Pezzoli\, Via Manzoni 12\, Milano\, Italy
CATEGORIES:Visita guidata
ATTACH;FMTTYPE=image/jpeg:https://amicipoldipezzoli.it/wp-content/uploads/2023/10/invito-20maggio083.jpg
ORGANIZER;CN="Amici Museo Poldi Pezzoli":MAILTO:amici@museopoldipezzoli.it
END:VEVENT
END:VCALENDAR