BEGIN:VCALENDAR
VERSION:2.0
PRODID:-//Amici del Museo Poldi Pezzoli - ECPv6.15.20//NONSGML v1.0//EN
CALSCALE:GREGORIAN
METHOD:PUBLISH
X-WR-CALNAME:Amici del Museo Poldi Pezzoli
X-ORIGINAL-URL:https://amicipoldipezzoli.it
X-WR-CALDESC:Eventi per Amici del Museo Poldi Pezzoli
REFRESH-INTERVAL;VALUE=DURATION:PT1H
X-Robots-Tag:noindex
X-PUBLISHED-TTL:PT1H
BEGIN:VTIMEZONE
TZID:Europe/Rome
BEGIN:DAYLIGHT
TZOFFSETFROM:+0100
TZOFFSETTO:+0200
TZNAME:CEST
DTSTART:20250330T010000
END:DAYLIGHT
BEGIN:STANDARD
TZOFFSETFROM:+0200
TZOFFSETTO:+0100
TZNAME:CET
DTSTART:20251026T010000
END:STANDARD
BEGIN:DAYLIGHT
TZOFFSETFROM:+0100
TZOFFSETTO:+0200
TZNAME:CEST
DTSTART:20260329T010000
END:DAYLIGHT
BEGIN:STANDARD
TZOFFSETFROM:+0200
TZOFFSETTO:+0100
TZNAME:CET
DTSTART:20261025T010000
END:STANDARD
BEGIN:DAYLIGHT
TZOFFSETFROM:+0100
TZOFFSETTO:+0200
TZNAME:CEST
DTSTART:20270328T010000
END:DAYLIGHT
BEGIN:STANDARD
TZOFFSETFROM:+0200
TZOFFSETTO:+0100
TZNAME:CET
DTSTART:20271031T010000
END:STANDARD
END:VTIMEZONE
BEGIN:VEVENT
DTSTART;TZID=Europe/Rome:20260528T152000
DTEND;TZID=Europe/Rome:20260528T170000
DTSTAMP:20260421T173345
CREATED:20260420T140226Z
LAST-MODIFIED:20260420T140226Z
UID:10000314-1779981600-1779987600@amicipoldipezzoli.it
SUMMARY:MUSEI - La rinnovata Galleria Egizia del Castello Sforzesco
DESCRIPTION:Dopo nove anni di chiusura\, Milano riapre le porte a uno dei suoi spazi culturali più affascinanti: la rinnovata Galleria Egizia al Castello Sforzesco\, un ritorno molto atteso che restituisce alla città una delle collezioni tra le più splendide del patrimonio civico\, con un allestimento ampliato\, suggestivo e contemporaneo\, in uno spazio completamente ripensato. Il nuovo percorso accompagna i visitatori in una esperienza immersiva alla scoperta della civiltà egizia attraverso i suoi protagonisti e i suoi simboli. Le origini della collezione egizia del Comune di Milano risalgono ai primi decenni dell’Ottocento e da quel momento ha continuato ad arricchirsi. Negli anni ’30 l’amministrazione aveva anche finanziato gli scavi nella zona del Fayum di Achille Vogliano\, papirologo e docente universitario che nel 1935 a Medinet Madi scoprì un enorme complesso templare con due statue del faraone integre: una di queste\, la statua del faraone Amenemhat III\, è uno degli oggetti più̀ preziosi dell’intera collezione. Con una selezione di 330 reperti (di cui 80 in mostra per la prima volta) che coprono un arco temporale dal IV millennio a.C. al VII secolo d.C.\, il percorso mette in luce numerosi reperti: mummie\, sarcofagi\, ushabti\, oggetti del corredo funerario\, amuleti\, gioielli\, un papiro del Libro dei Morti e sculture; manufatti valorizzati da un allestimento moderno e coinvolgente che rendono la visita più suggestiva e accessibile. \nAssistenza storico-artistica: dott.ssa Valeria Gerli\nRitrovo alle ore 15.10 all’ingresso principale del Castello Sforzesco \nQuota di partecipazione: 25 euro\nVisita riservata ai Soci. \nPrenotazione e pagamento direttamente a questa pagina con carta credito o Paypal\nIn alternativa contattare la Segreteria amici@museopoldipezzoli.it – 366 5830536 ed effettuare il pagamento in Segreteria o con bonifico bancario:\nCASSA LOMBARDA – FILIALE 100 – Via Manzoni\, 14 – 20121 Milano\nIBAN: IT 75 U 03488 01601 000000020238\nIntestato a: Associazione Amici del Museo Poldi Pezzoli ETS\nCausale: Galleria Egizia – Nome e cognome del Socio
URL:https://amicipoldipezzoli.it/attivita/galleria-egizia-catsello-sforzesco/
LOCATION:Castello Sforzesco\, Italy
CATEGORIES:Mostra
ATTACH;FMTTYPE=image/jpeg:https://amicipoldipezzoli.it/wp-content/uploads/2026/04/Galleria-Egizia-Castello-Sforzesco.-Milano-ph.-Milano-Segreta-17.jpg
ORGANIZER;CN="Amici Museo Poldi Pezzoli":MAILTO:amici@museopoldipezzoli.it
END:VEVENT
END:VCALENDAR