BEGIN:VCALENDAR
VERSION:2.0
PRODID:-//Amici del Museo Poldi Pezzoli - ECPv6.15.20//NONSGML v1.0//EN
CALSCALE:GREGORIAN
METHOD:PUBLISH
X-WR-CALNAME:Amici del Museo Poldi Pezzoli
X-ORIGINAL-URL:https://amicipoldipezzoli.it
X-WR-CALDESC:Eventi per Amici del Museo Poldi Pezzoli
REFRESH-INTERVAL;VALUE=DURATION:PT1H
X-Robots-Tag:noindex
X-PUBLISHED-TTL:PT1H
BEGIN:VTIMEZONE
TZID:Europe/Rome
BEGIN:DAYLIGHT
TZOFFSETFROM:+0100
TZOFFSETTO:+0200
TZNAME:CEST
DTSTART:20240331T010000
END:DAYLIGHT
BEGIN:STANDARD
TZOFFSETFROM:+0200
TZOFFSETTO:+0100
TZNAME:CET
DTSTART:20241027T010000
END:STANDARD
BEGIN:DAYLIGHT
TZOFFSETFROM:+0100
TZOFFSETTO:+0200
TZNAME:CEST
DTSTART:20250330T010000
END:DAYLIGHT
BEGIN:STANDARD
TZOFFSETFROM:+0200
TZOFFSETTO:+0100
TZNAME:CET
DTSTART:20251026T010000
END:STANDARD
BEGIN:DAYLIGHT
TZOFFSETFROM:+0100
TZOFFSETTO:+0200
TZNAME:CEST
DTSTART:20260329T010000
END:DAYLIGHT
BEGIN:STANDARD
TZOFFSETFROM:+0200
TZOFFSETTO:+0100
TZNAME:CET
DTSTART:20261025T010000
END:STANDARD
END:VTIMEZONE
BEGIN:VEVENT
DTSTART;TZID=Europe/Rome:20250519T170000
DTEND;TZID=Europe/Rome:20250519T180000
DTSTAMP:20260424T171224
CREATED:20250418T062726Z
LAST-MODIFIED:20250512T150300Z
UID:10000218-1747674000-1747677600@amicipoldipezzoli.it
SUMMARY:CONFERENZA - I gioielli di Solario
DESCRIPTION:Andrea Solario è stato un grande artista e anche i gioielli indossati nei ritratti lo dimostrano. Dalla collana\, piena di significati\, indossata nello splendido quadro raffigurante  di Charles d’Amboise  all’anello sul pollice nel Ritratto d’uomo della National Gallery di Londra agli orecchini di perle di Cleopatra\, una rilettura delle opere partendo da questi preziosi monili e dalla loro ricca simbologia. \nA cura del Dott. Aldo Citterio\, esperto di gioielli e oreficerie\nRitrovo: ore 16.30 all’ingresso del Museo Poldi Pezzoli\nVisita gratuita. Riservata ai Soci.\nPRENOTAZIONE OBBLIGATORIA direttamente a questa pagina. In alternativa scrivere una mail all’indirizzo amici@museopoldipezzoli.it\nLe persone che non effettuano preventivamente la prenotazione non potranno accedere alla mostra.
URL:https://amicipoldipezzoli.it/attivita/gioiellisolario/
LOCATION:Museo Poldi Pezzoli\, Via Manzoni 12\, Milano\, Italy
CATEGORIES:Conferenza
ATTACH;FMTTYPE=image/jpeg:https://amicipoldipezzoli.it/wp-content/uploads/2025/02/Immagine-2025-01-28-121058.jpg
ORGANIZER;CN="Amici Museo Poldi Pezzoli":MAILTO:amici@museopoldipezzoli.it
END:VEVENT
END:VCALENDAR