BEGIN:VCALENDAR
VERSION:2.0
PRODID:-//Amici del Museo Poldi Pezzoli - ECPv6.15.20//NONSGML v1.0//EN
CALSCALE:GREGORIAN
METHOD:PUBLISH
X-ORIGINAL-URL:https://amicipoldipezzoli.it
X-WR-CALDESC:Eventi per Amici del Museo Poldi Pezzoli
REFRESH-INTERVAL;VALUE=DURATION:PT1H
X-Robots-Tag:noindex
X-PUBLISHED-TTL:PT1H
BEGIN:VTIMEZONE
TZID:Europe/Rome
BEGIN:DAYLIGHT
TZOFFSETFROM:+0100
TZOFFSETTO:+0200
TZNAME:CEST
DTSTART:20240331T010000
END:DAYLIGHT
BEGIN:STANDARD
TZOFFSETFROM:+0200
TZOFFSETTO:+0100
TZNAME:CET
DTSTART:20241027T010000
END:STANDARD
BEGIN:DAYLIGHT
TZOFFSETFROM:+0100
TZOFFSETTO:+0200
TZNAME:CEST
DTSTART:20250330T010000
END:DAYLIGHT
BEGIN:STANDARD
TZOFFSETFROM:+0200
TZOFFSETTO:+0100
TZNAME:CET
DTSTART:20251026T010000
END:STANDARD
BEGIN:DAYLIGHT
TZOFFSETFROM:+0100
TZOFFSETTO:+0200
TZNAME:CEST
DTSTART:20260329T010000
END:DAYLIGHT
BEGIN:STANDARD
TZOFFSETFROM:+0200
TZOFFSETTO:+0100
TZNAME:CET
DTSTART:20261025T010000
END:STANDARD
END:VTIMEZONE
BEGIN:VEVENT
DTSTART;TZID=Europe/Rome:20251013T180000
DTEND;TZID=Europe/Rome:20251013T190000
DTSTAMP:20260420T133454
CREATED:20250722T122134Z
LAST-MODIFIED:20251009T125408Z
UID:10000231-1760378400-1760382000@amicipoldipezzoli.it
SUMMARY:ARTE E PACE - Conferenza - Raffaello: curare l’arte e coltivare la pace
DESCRIPTION:In occasione della III Giornata Europea degli Amici dei Musei e della XXII Giornata Nazionale Fidam\, gli Amici del Museo Poldi Pezzoli organizzano una conferenza dedicata al tema “Arte e Pace”. Un binomio legato da una relazione strettissima: Arte simbolica\, i cui valori uniscono luoghi e generazioni al di sopra e al di là del tempo\, delle fedi religiose\, della politica. Arte presa a simbolo del potere\, con valenza programmatica. Arte come esperienza di vita\, arte che consola dalla morte\, Arte che trascende e che unisce nella pace. Pace come risoluzione di guerre; Pace come assenza di conflitti\, che è conditio sine qua non per la fioritura dell’Arte\, ma anche come strumento d’evasione e rifugio nella devastazione bellica. Arte sottratta\, deteriorata\, distrutta. In senso più ampio\, anche Pace intesa come condizione interiore\, ricercata dall’artista per il tramite dell’azione creativa o\, semplicemente\, suscitata in chi guarda un’opera d’Arte. Pace interiore e pace col prossimo\, che è sempre più difficile da conseguire in una società che esorta ad “armarci” per imporre l’identità. Pace che genera ed è generata dall’Amicizia: il sostantivo su cui si fondano le nostre associazioni amiche dei musei. Musei che\, come ricordava il compianto Papa Francesco\, “devono essere uno strumento di dialogo tra le culture e le religioni\, uno strumento di pace!” \nVerso la fine della sua breve vita\, Raffaello ha indirizzato a Papa Leone X una lettera\, scritta a quattro mani con l’amico letterato Baldassar Castiglioni. E’ un testo di commovente intensità\, dedicato alla conservazione delle opere d’arte. Raffaello sollecita il pontefice a promuovere la cura del patrimonio artistico come fondamentale aiuto alla pace e alla concordia. La cura della bellezza “serve” per far crescere l’armonia e la comprensione tra le persone. E’ passato più di mezzo millennio\, e l’appello del grande pittore è sempre attuale. Partendo dalla preziosa opera giovanile conservata nel Museo Poldi Pezzoli\, dedichiamo a Raffaello la giornata FIDAM sulla Pace. \nConferenza a cura del dott. Stefano Zuffi\, Vicepresidente degli Amici del Museo Poldi Pezzoli.\nPartecipazione gratuita fino ad esaurimento dei posti disponibili.\nPrenotazione obbligatoria sul sito www.amicipoldipezzoli.it – amici@museopoldipezzoli.it
URL:https://amicipoldipezzoli.it/attivita/fidam-arte-pace/
LOCATION:Museo Poldi Pezzoli\, Via Manzoni 12\, Milano\, Italy
CATEGORIES:Conferenza
ATTACH;FMTTYPE=image/jpeg:https://amicipoldipezzoli.it/wp-content/uploads/2025/07/Baldassare_Castiglione_by_Raffaello_Sanzio_from_C2RMF_retouched.jpg
ORGANIZER;CN="Amici Museo Poldi Pezzoli":MAILTO:amici@museopoldipezzoli.it
END:VEVENT
BEGIN:VEVENT
DTSTART;TZID=Europe/Rome:20251027T170000
DTEND;TZID=Europe/Rome:20251027T180000
DTSTAMP:20260420T133454
CREATED:20250723T120009Z
LAST-MODIFIED:20251017T092219Z
UID:10000244-1761584400-1761588000@amicipoldipezzoli.it
SUMMARY:PERCORSI PREZIOSI - Conferenza - I gioielli nei dipinti del Poldi Pezzoli
DESCRIPTION:Il nostro modo di guardare\, apprezzare e acquistare i gioielli è molto diverso da quello dell’uomo rinascimentale. Per noi il valore di ornamento è fondamentale e molto soggettivo\, mentre dal Medioevo in poi le pietre preziose hanno sempre avuto forti significati simbolici\, sia che fossero indossati da donne che da uomini. I pittori proprio per questo davano molta importanza a questi dettagli\, che non erano lasciati al caso\, ma che davano sempre importanti messaggi a chi guardava l’opera. Una conversazione attorno ad alcuni dipinti del Museo Poldi Pezzoli con un “focus” particolare sui loro preziosi monili\, disegnati dai più importanti maestri del nostro Rinascimento. \nConferenza a cura del dott. Aldo Citterio.\nOre 16.45 ritrovo all’ingresso del Museo Poldi Pezzoli. \nAttività riservata ai Soci.\nPartecipazione gratuita fino ad esaurimento dei posti disponibili.\nPrenotazione obbligatoria sul sito www.amicipoldipezzoli.it – amici@museopoldipezzoli.it
URL:https://amicipoldipezzoli.it/attivita/gioiellipoldi/
LOCATION:Museo Poldi Pezzoli\, Via Manzoni 12\, Milano\, Italy
CATEGORIES:Conferenza
ATTACH;FMTTYPE=image/jpeg:https://amicipoldipezzoli.it/wp-content/uploads/2025/07/510627545_1288754266618491_1776967557950027796_n.jpg
ORGANIZER;CN="Amici Museo Poldi Pezzoli":MAILTO:amici@museopoldipezzoli.it
END:VEVENT
END:VCALENDAR