BEGIN:VCALENDAR
VERSION:2.0
PRODID:-//Amici del Museo Poldi Pezzoli - ECPv6.15.20//NONSGML v1.0//EN
CALSCALE:GREGORIAN
METHOD:PUBLISH
X-ORIGINAL-URL:https://amicipoldipezzoli.it
X-WR-CALDESC:Eventi per Amici del Museo Poldi Pezzoli
REFRESH-INTERVAL;VALUE=DURATION:PT1H
X-Robots-Tag:noindex
X-PUBLISHED-TTL:PT1H
BEGIN:VTIMEZONE
TZID:Europe/Rome
BEGIN:DAYLIGHT
TZOFFSETFROM:+0100
TZOFFSETTO:+0200
TZNAME:CEST
DTSTART:20250330T010000
END:DAYLIGHT
BEGIN:STANDARD
TZOFFSETFROM:+0200
TZOFFSETTO:+0100
TZNAME:CET
DTSTART:20251026T010000
END:STANDARD
BEGIN:DAYLIGHT
TZOFFSETFROM:+0100
TZOFFSETTO:+0200
TZNAME:CEST
DTSTART:20260329T010000
END:DAYLIGHT
BEGIN:STANDARD
TZOFFSETFROM:+0200
TZOFFSETTO:+0100
TZNAME:CET
DTSTART:20261025T010000
END:STANDARD
BEGIN:DAYLIGHT
TZOFFSETFROM:+0100
TZOFFSETTO:+0200
TZNAME:CEST
DTSTART:20270328T010000
END:DAYLIGHT
BEGIN:STANDARD
TZOFFSETFROM:+0200
TZOFFSETTO:+0100
TZNAME:CET
DTSTART:20271031T010000
END:STANDARD
END:VTIMEZONE
BEGIN:VEVENT
DTSTART;TZID=Europe/Rome:20260525T180000
DTEND;TZID=Europe/Rome:20260525T190000
DTSTAMP:20260420T053209
CREATED:20260311T132357Z
LAST-MODIFIED:20260311T132357Z
UID:10000303-1779732000-1779735600@amicipoldipezzoli.it
SUMMARY:PERCORSI PREZIOSI - Conferenza - I gioielli nei dipinti delle collezioni d’arte italiane
DESCRIPTION:Prosegue il ciclo di incontri dedicato alla presenza e al significato dei gioielli nella pittura. Dopo i primi appuntamenti\, dedicati ai gioielli nei dipinti del Museo Poldi Pezzoli e della Pinacoteca di Brera\, il nostro sguardo si amplia verso i dipinti presenti in altre collezioni d’arte italiane. Attraverso alcuni esempi significativi\, scopriremo come collane\, anelli\, spille e diademi non siano solo dettagli decorativi\, ma elementi ricchi di significato: simboli di potere\, segni di status sociale e indizi preziosi per comprendere la moda\, il gusto e la cultura delle diverse epoche. Un invito a osservare i dipinti da una prospettiva diversa\, lasciandosi guidare proprio dai gioielli che li impreziosiscono. \nConferenza a cura di Aldo Citterio.\nOre 18.00 Museo Poldi Pezzoli. \nGratuito per i Soci.\nPer i non Soci è previsto il versamento in loco della quota di 10 euro.\nPrenotazione obbligatoria sul sito www.amicipoldipezzoli.it – amici@museopoldipezzoli.it
URL:https://amicipoldipezzoli.it/attivita/percorsi-preziosi-conferenza-i-gioielli-nei-dipinti-delle-collezioni-darte-italiane/
LOCATION:Museo Poldi Pezzoli\, Via Manzoni 12\, Milano\, Italy
CATEGORIES:Conferenza
ATTACH;FMTTYPE=image/jpeg:https://amicipoldipezzoli.it/wp-content/uploads/2026/03/Bronzino_-_Sacra_famiglia_Panciatichi_or_Madonna_Panciatichi_-_Google_Art_Project-scaled.jpg
ORGANIZER;CN="Amici Museo Poldi Pezzoli":MAILTO:amici@museopoldipezzoli.it
END:VEVENT
END:VCALENDAR