BEGIN:VCALENDAR
VERSION:2.0
PRODID:-//Amici del Museo Poldi Pezzoli - ECPv6.15.20//NONSGML v1.0//EN
CALSCALE:GREGORIAN
METHOD:PUBLISH
X-WR-CALNAME:Amici del Museo Poldi Pezzoli
X-ORIGINAL-URL:https://amicipoldipezzoli.it
X-WR-CALDESC:Eventi per Amici del Museo Poldi Pezzoli
REFRESH-INTERVAL;VALUE=DURATION:PT1H
X-Robots-Tag:noindex
X-PUBLISHED-TTL:PT1H
BEGIN:VTIMEZONE
TZID:Europe/Rome
BEGIN:DAYLIGHT
TZOFFSETFROM:+0100
TZOFFSETTO:+0200
TZNAME:CEST
DTSTART:20210328T010000
END:DAYLIGHT
BEGIN:STANDARD
TZOFFSETFROM:+0200
TZOFFSETTO:+0100
TZNAME:CET
DTSTART:20211031T010000
END:STANDARD
BEGIN:DAYLIGHT
TZOFFSETFROM:+0100
TZOFFSETTO:+0200
TZNAME:CEST
DTSTART:20220327T010000
END:DAYLIGHT
BEGIN:STANDARD
TZOFFSETFROM:+0200
TZOFFSETTO:+0100
TZNAME:CET
DTSTART:20221030T010000
END:STANDARD
BEGIN:DAYLIGHT
TZOFFSETFROM:+0100
TZOFFSETTO:+0200
TZNAME:CEST
DTSTART:20230326T010000
END:DAYLIGHT
BEGIN:STANDARD
TZOFFSETFROM:+0200
TZOFFSETTO:+0100
TZNAME:CET
DTSTART:20231029T010000
END:STANDARD
END:VTIMEZONE
BEGIN:VEVENT
DTSTART;TZID=Europe/Rome:20221004T190000
DTEND;TZID=Europe/Rome:20221004T233000
DTSTAMP:20260420T193646
CREATED:20220810T132152Z
LAST-MODIFIED:20221118T140827Z
UID:10000031-1664910000-1664926200@amicipoldipezzoli.it
SUMMARY:Gian Giacomo Poldi Pezzoli. Il collezionista "illuminato"
DESCRIPTION:Guarda il video della serata qui  \nIn occasione del Bicentenario della nascita di Gian Giacomo Poldi Pezzoli\, si è svolta martedì 4 ottobre la serata di raccolta fondi Gian Giacomo Poldi Pezzoli. Il collezionista “illuminato”\, ideata dall’Associazione Amici del Museo Poldi Pezzoli ETS in collaborazione con il Museo Poldi Pezzoli\, a sostegno della casa-museo milanese da lui fondata. \nNella splendida cornice della nuova Orangerie e del Salone dell’affresco del Museo Poldi Pezzoli si è tenuta la cena di gala alla presenza di autorevoli personalità del mondo dell’arte. La serata è stata aperta da un dibattito sui temi del collezionismo di ieri e di oggi con moderatore Marco Carminati\, caporedattore responsabile dell’inserto culturale “Domenica” del “Sole 24 Ore”. Il dibattito ha visto gli interventi di Giovanna Forlanelli\, nota collezionista e Presidente della Fondazione Luigi Rovati\, e Luciano Lanfranchi\, proprietario di una collezione poliedrica che va dalla Pop Art all’Arte Primitiva\, con una importante selezione di opere dei movimenti Spaziale e Nucleare. \nA rendere suggestiva l’atmosfera della serata l’installazione luminosa “Il tempo della Luce” del Maestro Marco Nereo Rotelli\, che fin dagli anni ‘80 ha posto al centro delle sue opere la ricerca sulla luce e sulla dimensione poetica\, con il coinvolgimento di filosofi\, musicisti e poeti. Per l’occasione il Maestro ha ideato un’installazione concepita nella messa in luce del meraviglioso giardino Poldi Pezzoli\, della fontana interna e della corte di ingresso del Museo Poldi Pezzoli. Il progetto è stato realizzato grazie a Ever In Art\, società che sviluppa progetti artistici cross-world con un impatto sociale e ambientale\, nel modo reale e virtuale. \nAldo Citterio – Presidente degli Amici del Museo Poldi Pezzoli:\n“L’evento si inserisce nell’attività di fundraising dell’Associazione Amici del Poldi Pezzoli che dal 1960 affianca il Museo nella promozione e diffusione delle sue preziose collezioni d’arte. La serata\, grazie anche alle istallazioni luminose di Marco Nereo Rotelli\, è stata l’occasione per far dialogare collezionisti d’arte secondo lo spirito “eclettico” che animò Gian Giacomo Poldi Pezzoli nella sua ricerca del bello. Tenere viva questa sensibilità è proprio uno degli scopi della nostra Associazione che ho cercato di perseguire in tutti questi anni”. \nNel corso della serata è stato raccolto un importante contributo destinato al sostegno dei progetti culturali e museografici del Museo Poldi Pezzoli\, grazie a: Amici del Museo Poldi Pezzoli\, Club del Restauro del Museo Poldi Pezzoli\, LCA Studio Legale\, Banca Patrimoni Sella & C.\, Galleria Peres Projects\, Coeclerici Spa\, Claudia Cremonini e Coniugi Antonini. \nL’evento è stato realizzato grazie al prezioso sostegno di Big Ciaccio Arte\, Terre Borromeo e Ever In Art\, con la generosa partecipazione di Bullona Milano e Calvisius Caviar e la collaborazione di Garden Club Milano.
URL:https://amicipoldipezzoli.it/attivita/gian-giacomo-poldi-pezzoli-il-collezionista-illuminato/
LOCATION:Museo Poldi Pezzoli\, Via Manzoni 12\, Milano\, Italy
CATEGORIES:Evento
ATTACH;FMTTYPE=image/jpeg:https://amicipoldipezzoli.it/wp-content/uploads/2022/10/ACL8736.jpg
ORGANIZER;CN="Amici Museo Poldi Pezzoli":MAILTO:amici@museopoldipezzoli.it
END:VEVENT
BEGIN:VEVENT
DTSTART;TZID=Europe/Rome:20221006T183000
DTEND;TZID=Europe/Rome:20221006T203000
DTSTAMP:20260420T193646
CREATED:20220810T091552Z
LAST-MODIFIED:20220914T095221Z
UID:10000024-1665081000-1665088200@amicipoldipezzoli.it
SUMMARY:Max Ernst Pictor Doctus
DESCRIPTION:Grazie alla sua prima rassegna retrospettiva in Italia\, curata da Martina Mazzotta e Jürgen Pech\, scopriamo Max Ernst\, uno dei protagonisti di uno dei più rivoluzionari movimenti delle Avanguardie parigine di inizio 900\, il Surrealismo. Max Ernst inizia il suo percorso con studi di psicologia perché è affascinato della mente umana e dalle profondità dell’inconscio\, ma sceglie poi l’arte per poter fondere nel modo più completo le sue conoscenze\, ispirandosi al modello di Leonardo da Vinci che aveva scritto “è il pittore il signore di ogni sorta di gente e di tutte le cose\, che la pittura avanza tutte le opere umane per sottili speculazioni che solo a quella tengono”. I suoi dipinti raccolgono le sue speculazioni filosofiche e scientifiche tese ad approfondire il rapporto con le religioni più antiche ed i miti primordiali\, incontrati per la prima volta durante la sua infanzia in Renania. Appassionato cultore di Alchimia\, la sua vita avrà poi una significativa svolta nell’incontro con Peggy Guggenheim che diventerà sua moglie e che lo sosterrà poi con la sua attiva galleria d’arte. \nAssistenza storico-artistica: dott.ssa Alessandra Montalbetti \nRitrovo: ore 18.15 all’ingresso della mostra\, Palazzo Reale\, Piazza del Duomo 12 \nQuota di partecipazione: 15 euro (biglietto d’ingresso\, assistenza storico-artistica\, radiomicrofoni) \nPrenotazione e pagamento direttamente a questa pagina con carta credito/Paypal \nIn alternativa contattare la Segreteria amici@museopoldipezzoli.it – 366 5830536 ed effettuare il pagamento in Segreteria o con bonifico bancario:\nCASSA LOMBARDA – FILIALE 100 – Via Manzoni\, 14 – 20121 Milano\nIBAN: IT 75 U 03488 01601 000000020238\nIntestato a: Associazione Amici del Museo Poldi Pezzoli\nCausale: Ernst – Nome e cognome del Socio \nGrazie a LCA Studio Legale
URL:https://amicipoldipezzoli.it/attivita/max-ernst-pictor-doctus/
LOCATION:Palazzo Reale\, Milano\, Italy
CATEGORIES:Visita guidata
ATTACH;FMTTYPE=image/jpeg:https://amicipoldipezzoli.it/wp-content/uploads/2022/08/Max-Ernst-6-ottobre.jpg
ORGANIZER;CN="Amici Museo Poldi Pezzoli":MAILTO:amici@museopoldipezzoli.it
END:VEVENT
BEGIN:VEVENT
DTSTART;TZID=Europe/Rome:20221008T100000
DTEND;TZID=Europe/Rome:20221008T130000
DTSTAMP:20260420T193646
CREATED:20220909T123938Z
LAST-MODIFIED:20220913T104217Z
UID:10000034-1665223200-1665234000@amicipoldipezzoli.it
SUMMARY:Giardini in Arte - L'antica corsia del Giardino
DESCRIPTION:In occasione della XIX Giornata Nazionale degli Amici dei Musei promossa dalla FIDAM – Federazione Italiana degli Amici dei Musei\, vi invitiamo a partecipare a una piacevole passeggiata lungo l’antica corsia del Giardino\, l’attuale via Manzoni\, per scoprire alcuni giardini “segreti” di Milano custoditi all’interno di antichi e prestigiosi palazzi nobiliari. Dopo un piacevole coffee break gentilmente offerto dalla Famiglia Borromeo d’Adda\, inizieremo la nostra visita proprio dal cortile d’onore e dal giardino di Palazzo Borromeo d’Adda. Proseguiremo l’itinerario lungo via Manzoni fino al Museo Poldi Pezzoli dove\, dalle vetrate della nuova Orangerie della casa-museo di Gian Giacomo Poldi Pezzoli\, potremo ammirare uno splendido esempio di giardino all’inglese\, uno dei più antichi di Milano. Concluderemo la nostra passeggiata visitando il giardino di Alessandro Manzoni che si trova tra la Casa del Manzoni e Palazzo Anguissola Antona Traversi. Passeggiando tra i tigli e le magnolie di questo angolo verde nel cuore di Milano si possono ammirare alcune sculture di arte contemporanea della collezione Intesa Sanpaolo realizzate da Joan Miró\, Giò Pomodoro\, Jean Arp e Pietro Cascella. \nAssistenza storico-artistica: dott.ssa Barbara Pasolini \nQuota di partecipazione: 15 euro (radiomicrofoni\, assistenza storico-artistica\, mance) \nRitrovo: ore 10.00 all’ingresso di Palazzo Borromeo d’Adda\, via Manzoni 41. \nPrenotazione e pagamento direttamente a questa pagina con carta credito/Paypal \nIn alternativa contattare la Segreteria amici@museopoldipezzoli.it – 366 5830536 ed effettuare il pagamento in Segreteria o con bonifico bancario:\nCASSA LOMBARDA – FILIALE 100 – Via Manzoni\, 14 – 20121 Milano\nIBAN: IT 75 U 03488 01601 000000020238\nIntestato a: Associazione Amici del Museo Poldi Pezzoli\nCausale: Giardini in Arte – Nome e cognome del Socio \nGrazie a LCA Studio Legale
URL:https://amicipoldipezzoli.it/attivita/giardiniarte/
LOCATION:Milano\, Milano\, Italy
CATEGORIES:Visita guidata
ATTACH;FMTTYPE=image/jpeg:https://amicipoldipezzoli.it/wp-content/uploads/2022/09/entrata_600.jpg
ORGANIZER;CN="Amici Museo Poldi Pezzoli":MAILTO:amici@museopoldipezzoli.it
END:VEVENT
BEGIN:VEVENT
DTSTART;TZID=Europe/Rome:20221019T080000
DTEND;TZID=Europe/Rome:20221019T190000
DTSTAMP:20260420T193646
CREATED:20220831T081025Z
LAST-MODIFIED:20220831T081308Z
UID:10000033-1666166400-1666206000@amicipoldipezzoli.it
SUMMARY:Una giornata alla scoperta di Cremona
DESCRIPTION:Cremona\, città a misura d’uomo\, tra le più caratteristiche della Val Padana\, racchiude i suoi tesori nella fitta rete di antiche vie del centro storico. La cartolina più significativa ci viene regalata dalla medievale Piazza del Comune\, dove si susseguono la Cattedrale\, capolavoro di architettura gotica e di pittura manierista\, il famoso Torrazzo\, torre campanaria più alta d’Europa\, il Battistero ottagonale\, il Palazzo Comunale\, tipico Broletto lombardo\, e la Loggia dei Militi\, luogo di ritrovo da sempre animato. È l’ottobre del 1441 quando nella chiesa di San Sigismondo vengono celebrate le nozze tra Bianca Maria Visconti\, ultima erede della dinastia\, e Francesco Sforza\, futuro duca di Milano. Tra i tanti regali\, una miscela di albume\, miele e mandorle: nasceva così il torrone! \nLe varie prelibatezze culinarie (mostarda\, insaccati\, tortelli\, bollito misto\, torrone…) si intrecciano così alla storia della città\, piccola capitale della musica\, con il Museo del Violino\, il Teatro Ponchielli e le 150 botteghe dei maestri liutai\, che rendono unica Cremona nel mondo. Il pranzo è previsto in un’osteria con cucina tipica cremonese\, per poter compiere un viaggio culturale e gastronomico nella tradizione millenaria della città. \nDopo il pasto\, visiteremo il Museo del Violino e la bottega artigiana di un liutaio\, per immergerci nel sapere di quest’antica arte\, che ha reso famosa Cremona nel mondo\, regalando alla storia\, insuperabili interpreti violinisti\, come il famosissimo Antonio Stradivari. \nINFORMAZIONI PRATICHE \nOre 08.00 partenza in pullman da piazza IV novembre all’angolo tra la Stazione Centrale e l’Hotel Gallia. Rientro a Milano nel tardo pomeriggio. \nQuota di partecipazione: 125 euro\nLa quota comprende: viaggio in pullman\, biglietti di ingresso\, pranzo presso il ristorante storico Osteria Bissone\, concerto\, radiomicrofoni\, assistenza storico artistica e mance. \nPrenotazioni entro il 10 ottobre con pagamento direttamente a questa pagina con carta credito/Paypal. \nIn alternativa contattare la Segreteria amici@museopoldipezzoli.it – 366 5830536 ed effettuare il pagamento in Segreteria o con bonifico bancario:\nCassa Lombarda – Filiale 100 Via Manzoni\, 14 – 20121 Milano I\nBAN: IT 75 U 03488 01601 000000020238\nIntestato a: Associazione Amici del Museo Poldi Pezzoli\nCausale: Cremona – Nome e Cognome del partecipante \nNell’ambito della giornata saremo accompagnati dal nostro Consigliere Cinzia Buccellato. \nGrazie a LCA Studio Legale
URL:https://amicipoldipezzoli.it/attivita/cremona/
LOCATION:Cremona\, Italy
CATEGORIES:Itinerario fuori città
ATTACH;FMTTYPE=image/jpeg:https://amicipoldipezzoli.it/wp-content/uploads/2022/08/Cremona.jpg
ORGANIZER;CN="Amici Museo Poldi Pezzoli":MAILTO:amici@museopoldipezzoli.it
END:VEVENT
BEGIN:VEVENT
DTSTART;TZID=Europe/Rome:20221026T143000
DTEND;TZID=Europe/Rome:20221026T163000
DTSTAMP:20260420T193646
CREATED:20220810T093351Z
LAST-MODIFIED:20221020T130256Z
UID:10000027-1666794600-1666801800@amicipoldipezzoli.it
SUMMARY:La chiesa di San Maurizio al Monastero Maggiore e il vicino Museo Archeologico
DESCRIPTION:Splendida chiesa situata nel centro di Milano la Chiesa di San Maurizio è una meravigliosa testimonianza dell’arte rinascimentale. Costruita nell’aspetto attuale nel 1503\, sul luogo di un’altra più antica\, realizzata sui resti dell’antico Circo Romano\, San Maurizio è una chiesa a navata unica\, divisa in dieci campate da contrafforti angolari\, realizzata per volontà delle monache di clausura del Monastero Maggiore di San Maurizio; divisa da una parete trasversale\, con un singolare pontile\, che divide la zona riservata alle monache da quella pubblica per i fedeli\, l’opera è attribuita all’architetto Gian Giacomo Dolcebuono\, noto per aver operato per il Duomo di Milano\, e rappresenta uno straordinario esempio dell’eleganza e della raffinatezza dell’arte rinascimentale. Il famoso pittore Bernardino Luini lavorò a san Maurizio dal 1522 al 1529 e anche i suoi figli. L’interno è maestoso\, pur nella sua purezza geometrica\, interamente affrescato ricorda per eleganza e cura dei dettagli gli antichi palazzi nobiliari del tempo. La storia della  Cinquecentesca chiesa di San Maurizio si intreccia indissolubilmente con la gloriosa storia di Milano\, capitale dell’Impero Romano d’Occidente nel 286 d.c\, e del suo imperatore Massimiano che costruì il Palazzo Imperiale\, il Circo romano dove fu eretta \, sulle sue rovine\, l’antica prima chiesa dedicata a San Maurizio poi scomparsa; così come in un viaggio ripercorreremo la storia della Milano Romana\, visitando l’attiguo Museo Archeologico\, che ha sede nell’ex- convento del Monastero Maggiore di San Maurizio\, con il suo splendido chiostro interno\, circondato dalle Mura della Milano Romana\, con la bellissima torre poligonale che conserva antichi affreschi del XIII-XIV secolo. \nAssistenza storico-artistica: dott.ssa Barbara Pasolini \nRitrovo: ore 14.20 in via Corso Magenta 15 (tram 16\, 19) \nQuota di partecipazione: 10 euro (biglietto di ingresso\, assistenza storico artistica e radiomicrofoni) \nPrenotazione e pagamento direttamente a questa pagina con carta credito/Paypal \nIn alternativa contattare la Segreteria amici@museopoldipezzoli.it – 366 5830536 ed effettuare il pagamento in Segreteria o con bonifico bancario:\nCASSA LOMBARDA – FILIALE 100 – Via Manzoni\, 14 – 20121 Milano\nIBAN: IT 75 U 03488 01601 000000020238\nIntestato a: Associazione Amici del Museo Poldi Pezzoli\nCausale: San Maurizio – Nome e cognome del Socio \nGrazie a LCA Studio Legale
URL:https://amicipoldipezzoli.it/attivita/la-chiesa-di-san-maurizio-al-monastero-maggiore-e-il-vicino-museo-archeologico/
LOCATION:San Maurizio al Monastero Maggiore\, Corso Magenta 15\, Milano\, Milano\, 20123\, Italia
CATEGORIES:Visita guidata
ATTACH;FMTTYPE=image/webp:https://amicipoldipezzoli.it/wp-content/uploads/2022/08/Milano-San-Maurizio-chiesa-pubblica.webp
ORGANIZER;CN="Amici Museo Poldi Pezzoli":MAILTO:amici@museopoldipezzoli.it
END:VEVENT
END:VCALENDAR