BEGIN:VCALENDAR
VERSION:2.0
PRODID:-//Amici del Museo Poldi Pezzoli - ECPv6.15.20//NONSGML v1.0//EN
CALSCALE:GREGORIAN
METHOD:PUBLISH
X-WR-CALNAME:Amici del Museo Poldi Pezzoli
X-ORIGINAL-URL:https://amicipoldipezzoli.it
X-WR-CALDESC:Eventi per Amici del Museo Poldi Pezzoli
REFRESH-INTERVAL;VALUE=DURATION:PT1H
X-Robots-Tag:noindex
X-PUBLISHED-TTL:PT1H
BEGIN:VTIMEZONE
TZID:Europe/Rome
BEGIN:DAYLIGHT
TZOFFSETFROM:+0100
TZOFFSETTO:+0200
TZNAME:CEST
DTSTART:20210328T010000
END:DAYLIGHT
BEGIN:STANDARD
TZOFFSETFROM:+0200
TZOFFSETTO:+0100
TZNAME:CET
DTSTART:20211031T010000
END:STANDARD
BEGIN:DAYLIGHT
TZOFFSETFROM:+0100
TZOFFSETTO:+0200
TZNAME:CEST
DTSTART:20220327T010000
END:DAYLIGHT
BEGIN:STANDARD
TZOFFSETFROM:+0200
TZOFFSETTO:+0100
TZNAME:CET
DTSTART:20221030T010000
END:STANDARD
BEGIN:DAYLIGHT
TZOFFSETFROM:+0100
TZOFFSETTO:+0200
TZNAME:CEST
DTSTART:20230326T010000
END:DAYLIGHT
BEGIN:STANDARD
TZOFFSETFROM:+0200
TZOFFSETTO:+0100
TZNAME:CET
DTSTART:20231029T010000
END:STANDARD
END:VTIMEZONE
BEGIN:VEVENT
DTSTART;TZID=Europe/Rome:20221108T150000
DTEND;TZID=Europe/Rome:20221108T173000
DTSTAMP:20260420T174339
CREATED:20220810T091952Z
LAST-MODIFIED:20220914T095508Z
UID:10000025-1667919600-1667928600@amicipoldipezzoli.it
SUMMARY:Max Ernst Pictor Doctus
DESCRIPTION:Grazie alla sua prima rassegna retrospettiva in Italia\, curata da Martina Mazzotta e Jürgen Pech\, scopriamo Max Ernst\, uno dei protagonisti di uno dei più rivoluzionari movimenti delle Avanguardie parigine di inizio 900\, il Surrealismo. Max Ernst inizia il suo percorso con studi di psicologia perché è affascinato della mente umana e dalle profondità dell’inconscio\, ma sceglie poi l’arte per poter fondere nel modo più completo le sue conoscenze\, ispirandosi al modello di Leonardo da Vinci che aveva scritto “è il pittore il signore di ogni sorta di gente e di tutte le cose\, che la pittura avanza tutte le opere umane per sottili speculazioni che solo a quella tengono”. I suoi dipinti raccolgono le sue speculazioni filosofiche e scientifiche tese ad approfondire il rapporto con le religioni più antiche ed i miti primordiali\, incontrati per la prima volta durante la sua infanzia in Renania. Appassionato cultore di Alchimia\, la sua vita avrà poi una significativa svolta nell’incontro con Peggy Guggenheim che diventerà sua moglie e che lo sosterrà poi con la sua attiva galleria d’arte. \nAssistenza storico-artistica: dott.ssa Alessandra Montalbetti\nRitrovo: ore 14.45 all’ingresso della mostra\, Palazzo Reale\, Piazza del Duomo 12 \nQuota di partecipazione: 15 euro (biglietto d’ingresso\, assistenza storico-artistica\, radiomicrofoni) \nPrenotazione e pagamento direttamente a questa pagina con carta credito/Paypal \nIn alternativa contattare la Segreteria amici@museopoldipezzoli.it – 366 5830536 ed effettuare il pagamento in Segreteria o con bonifico bancario:\nCASSA LOMBARDA – FILIALE 100 – Via Manzoni\, 14 – 20121 Milano\nIBAN: IT 75 U 03488 01601 000000020238\nIntestato a: Associazione Amici del Museo Poldi Pezzoli\nCausale: Ernst – Nome e cognome del Socio \nGrazie a LCA Studio Legale
URL:https://amicipoldipezzoli.it/attivita/max-ernst-pictor-doctus-2/
LOCATION:Palazzo Reale\, Milano\, Italy
CATEGORIES:Visita guidata
ATTACH;FMTTYPE=image/jpeg:https://amicipoldipezzoli.it/wp-content/uploads/2022/08/Max-Ernst-8-novembre.jpg
ORGANIZER;CN="Amici Museo Poldi Pezzoli":MAILTO:amici@museopoldipezzoli.it
END:VEVENT
BEGIN:VEVENT
DTSTART;TZID=Europe/Rome:20221112T090000
DTEND;TZID=Europe/Rome:20221112T200000
DTSTAMP:20260420T174339
CREATED:20221019T105903Z
LAST-MODIFIED:20221103T090330Z
UID:10000036-1668243600-1668283200@amicipoldipezzoli.it
SUMMARY:Intrecci di storie: a Novara per pittura\, architettura e territorio
DESCRIPTION:A cura della Dott.ssa Paola Rapelli \nLa giornata che proponiamo è articolata di modo da poter cogliere l’occasione di una bella mostra e vivere alcune mete di un territorio molto ricco sotto il profilo storico-artistico ed architettonico e naturalistico. “Milano da romantica a scapigliata” è il tema portante dell’esposizione\, che ci porta a capire come un sottile filo rosso si insinua tra le pieghe del tempo ed è animato dai molti legami tra le generazioni e le esperienze artistiche. La mostra è organizzata nel Castello di Novara\, oggi nel cuore della città ma di cui non dobbiamo dimenticare la fondamentale funzione di baluardo esterno difensivo\, collocato ai piedi delle Alpi e nell’area pianeggiante tra i fiumi Ticino e Sesia. A pochi metri di distanza sorprende per la qualità di manufatto il Battistero\, una delle architetture sacre più importanti del Piemonte. Maestoso e al tempo stesso semplice negli apparati murari\, possiede ancora decorazioni di mosaico e di pittura\, che ci permettono di recuperarne la continuità di culto in seno alla comunità. In questa “terra d’acqua” numerose sono le testimonianze che appunto la fede ha reso manifeste nelle forme e negli stili storici più diffusi. L’Abbazia benedettina di San Nazzaro Sesia è un magnifico complesso risultato di costruzioni realizzate nel tempo a partire dal sec. XI/XII; il vivido colore delle pietre del Sesia e dei mattoni fabbricati dagli uomini si sposa con i morbidi colori degli affreschi\, sapientemente recuperati nonostante le difficoltà create\, tra l’altro\, dall’umidità vista la vicinanza con l’acqua. E pure antica nella sua origine romanica è la Parrocchiale di Ss. Giorgio e Martino a Vicolungo\, inglobata nella successiva edificazione datata al Cinquecento: si tratta di un pregevole episodio d’arte in un territorio dai tempi più antichi capace di distinguersi coi risultati ottenuti nell’agricoltura. \nINFORMAZIONI PRATICHE \nOre 09.00 ritrovo e partenza in pullman da piazza IV novembre all’angolo tra la Stazione Centrale e l’Hotel Gallia. Rientro a Milano nel tardo pomeriggio. \nQuota di partecipazione: 100 euro\nLa quota comprende: il viaggio in pullman\, il biglietto della mostra\, l’assistenza storico artistica\, i radiomicrofoni\, il pranzo e le mance. \nUn nostro Consigliere sarà presente per tutta la durata del viaggio. \nPrenotazioni  e pagamento con Paypal/carta di credito a questa pagina. \nIn alternativa prenotare contattando la Segreteria amici@museopoldipezzoli.it – 366 5830536. \nPagamento in Segreteria (contanti\, carta di credito\, bancomat\, assegno) o con bonifico bancario: \nCassa Lombarda – Via Manzoni 14\nIBAN: IT 75 U 03488 01601 000000020238\nIntestato a: Associazione Amici del Museo Poldi Pezzoli\nCausale: Novara  + Nome e Cognome del Socio
URL:https://amicipoldipezzoli.it/attivita/novara/
LOCATION:Novara\, Novara\, Italia
CATEGORIES:Itinerario fuori città
ATTACH;FMTTYPE=image/jpeg:https://amicipoldipezzoli.it/wp-content/uploads/2022/10/Novara-12-novembre.jpg
ORGANIZER;CN="Amici Museo Poldi Pezzoli":MAILTO:amici@museopoldipezzoli.it
END:VEVENT
BEGIN:VEVENT
DTSTART;TZID=Europe/Rome:20221116T113000
DTEND;TZID=Europe/Rome:20221116T133000
DTSTAMP:20260420T174339
CREATED:20220810T092506Z
LAST-MODIFIED:20221103T122125Z
UID:10000026-1668598200-1668605400@amicipoldipezzoli.it
SUMMARY:Mostri e creature fantastiche. L’anti-rinascimento di Ieronimus Bosch
DESCRIPTION:La retrospettiva unica nel suo genere è frutto di una lunga e approfondita ricerca accademica e intende illustrare il successo di Bosch quale creatore di visioni fantastiche in relazione alle tendenze del collezionismo del tempo e della ricezione artistica da parte del Rinascimento spagnolo e italiano. Legami importanti con l’arte di Bosch si possono infatti cogliere in opere di primissimo piano\, tra gli altri\, di Tiziano\, El Greco\, Savoldo. La mostra offre dunque per la prima volta al pubblico italiano ed internazionale l’opportunità di familiarizzare col ruolo di Bosch all’apice del cosiddetto “anti-Rinascimento” che aveva preso piede in Europa. \nAssistenza storico-artistica: dott. Stefano Zuffi \nRitrovo: ore 11.15 all’ingresso della mostra\, Palazzo Reale\, Piazza del Duomo 12 \nQuota di partecipazione: 15 euro (biglietto d’ingresso\, assistenza storico-artistica\, radiomicrofoni) \nPrenotazione e pagamento direttamente a questa pagina con carta credito/Paypal \nIn alternativa contattare la Segreteria amici@museopoldipezzoli.it – 366 5830536 ed effettuare il pagamento in Segreteria o con bonifico bancario:\nCASSA LOMBARDA – FILIALE 100 – Via Manzoni\, 14 – 20121 Milano\nIBAN: IT 75 U 03488 01601 000000020238\nIntestato a: Associazione Amici del Museo Poldi Pezzoli\nCausale: Bosch – Nome e cognome del Socio \nGrazie a LCA Studio Legale
URL:https://amicipoldipezzoli.it/attivita/mostri-e-creature-fantastiche-lanti-rinascimento-di-ieronimus-bosch/
LOCATION:Palazzo Reale\, Milano\, Italy
CATEGORIES:Visita guidata
ATTACH;FMTTYPE=image/jpeg:https://amicipoldipezzoli.it/wp-content/uploads/2022/08/Bosch-16-novembre.jpg
ORGANIZER;CN="Amici Museo Poldi Pezzoli":MAILTO:amici@museopoldipezzoli.it
END:VEVENT
BEGIN:VEVENT
DTSTART;TZID=Europe/Rome:20221119T103000
DTEND;TZID=Europe/Rome:20221119T123000
DTSTAMP:20260420T174339
CREATED:20221103T093225Z
LAST-MODIFIED:20221110T092546Z
UID:10000037-1668853800-1668861000@amicipoldipezzoli.it
SUMMARY:Palazzo Belgioioso apre le porte agli Amici del Museo Poldi Pezzoli
DESCRIPTION:Palazzo Belgioioso situato nel cuore di Milano è la più importante residenza privata cittadina d’età neoclassica\, insieme a palazzo Greppi. Concepito assieme alla piazza antistante\, che esalta gli scorci prospettici dell’ampio fronte\, il complesso costituisce un esempio unico di disegno urbano tardo settecentesco nel contesto della città. Coinvolti nella realizzazione del cantiere ­– il più importante tra quelli privati d’età neoclassica\, insieme a palazzo Greppi\, – sono alcuni dei protagonisti della Milano dell’epoca. Il committente\, principe Alberico XII Barbiano di Belgioioso d’Este (1725-1813)\, del quale sono noti i prestigiosi incarichi politici e militari resi a servizio degli Asburgo\, raffinatissimo mecenate in campo letterario ed artistico e Giuseppe Piermarini incaricato del progetto architettonico a partire dal 1772\, impegnato nello stesso giro d’anni nei prestigiosi cantieri arciducali. Per gli apparati decorativi a stucco e ad affresco essi sono affiancati da artisti e maestranze operosi anche alla villa Reale di Monza o al rinnovato palazzo ducale\, quali Martino Knoller\, Giocondo Albertolli\, Giuseppe Franchi\, i fratelli Gerli. Infine\, nella definizione dei soggetti iconografici degli affreschi\, volti ad esaltare l’antichità della casata Belgioioso e le sue ambiziose aspirazioni politiche\, viene convocato Giuseppe Parini. Per le precoci date di esecuzione e l’originalità e unitarietà delle soluzioni costruttive e decorative proposte\, palazzo Belgioioso si dovette da subito imporre in città come un unicum\, modello di indiscussa rilevanza storica e artistica. \nAssistenza storico-artistica: dott.ssa Alessandra Squizzato\, docente dell’Università Cattolica del Sacro Cuore di Milano \nGrazie all’Avv. Gianni Origoni e allo Studio Origoni per la cortese ospitalità \nRitrovo: ore 10.15 all’ingresso di Palazzo Belgioioso\, Piazza Belgioioso 2. \nQuota di partecipazione: 20 euro \nPrenotazione e pagamento direttamente a questa pagina con carta credito/Paypal \nIn alternativa contattare la Segreteria amici@museopoldipezzoli.it – 366 5830536 ed effettuare il pagamento in Segreteria o con bonifico bancario:\nCASSA LOMBARDA – FILIALE 100 – Via Manzoni\, 14 – 20121 Milano\nIBAN: IT 75 U 03488 01601 000000020238\nIntestato a: Associazione Amici del Museo Poldi Pezzoli\nCausale: Belgioioso – Nome e cognome del Socio \nGrazie a LCA Studio Legale
URL:https://amicipoldipezzoli.it/attivita/palazzobelgioioso/
LOCATION:Palazzo Belgioioso\, Piazza Belgioioso 2\, Milano\, Milano\, 20121\, Italia
CATEGORIES:Visita guidata
ATTACH;FMTTYPE=image/jpeg:https://amicipoldipezzoli.it/wp-content/uploads/2022/11/Interni-del-Palazzo-Belgioioso-di-Milano.jpeg
ORGANIZER;CN="Amici Museo Poldi Pezzoli":MAILTO:amici@museopoldipezzoli.it
END:VEVENT
BEGIN:VEVENT
DTSTART;TZID=Europe/Rome:20221121T153000
DTEND;TZID=Europe/Rome:20221121T180000
DTSTAMP:20260420T174339
CREATED:20221107T091217Z
LAST-MODIFIED:20221116T091226Z
UID:10000038-1669044600-1669053600@amicipoldipezzoli.it
SUMMARY:Conferenza la Carità e la Bellezza
DESCRIPTION:Si rinnova il tradizionale appuntamento con l’arte presso il Municipio della città. Quest’anno\, grazie a un rapporto di reciprocità con Firenze\, saranno esposte a Palazzo Marino quattro importanti opere tre-quattrocentesche: una scultura e tre dipinti\, riuniti sotto il titolo “la Carità e la Bellezza”. Inoltre\, è prevista una “mostra diffusa” presso le Biblioteche di otto diversi quartieri. L’iniziativa sarà inaugurata il primo dicembre: ce la fa scoprire in anteprima Stefano Zuffi\, curatore dell’esposizione e Vice Presidente degli Amici del Museo Poldi Pezzoli.\n\n\nA cura del Dott. Stefano Zuffi.\n\nAlle ore 15.30 appuntamento al Museo Poldi Pezzoli con possibilità di gradire un dolcetto di benvenuto offerto dall’Associazione. \n\nA seguire la conferenza.\n\nIn questa occasione i Soci che lo desiderano potranno rinnovare la propria quota associativa per il 2023.\n\nIngresso gratuito. Riservato ai Soci.\n\n\nNella foto “Filippo Lippi\, Madonna col Bambino\, Palazzo Medici Riccardi\, Firenze”
URL:https://amicipoldipezzoli.it/attivita/conferenzacaritaebellezza/
LOCATION:Museo Poldi Pezzoli\, Via Manzoni 12\, Milano\, Italy
CATEGORIES:Conferenza
ATTACH;FMTTYPE=image/jpeg:https://amicipoldipezzoli.it/wp-content/uploads/2022/11/Madonna_col_bambino_palazzo_medici_riccardi_filippo_lippi-part-002.jpg
ORGANIZER;CN="Amici Museo Poldi Pezzoli":MAILTO:amici@museopoldipezzoli.it
END:VEVENT
BEGIN:VEVENT
DTSTART;TZID=Europe/Rome:20221122T150000
DTEND;TZID=Europe/Rome:20221122T173000
DTSTAMP:20260420T174339
CREATED:20220810T094205Z
LAST-MODIFIED:20221116T091132Z
UID:10000028-1669129200-1669138200@amicipoldipezzoli.it
SUMMARY:Andy Warhol. La pubblicità della forma
DESCRIPTION:Dopo dieci anni di assenza\, torna a Milano una rassegna dedicata ad uno dei più attenti osservatori della realtà\, forse il più brillante a cogliere i segnali premonitori di un mondo che\, solo più tardi\, il filosofo Guy Debord avrebbe definito “la società dello spettacolo”. Curata da Edoardo Falcioni ed Achille Bonito Oliva\, ripercorre l’intensa attività di Andy Warhol dagli inizi\, gli Anni ’50\, che lo videro ammirato e premiato disegnatore\, agli Anni ’60\, uno dei suoi periodi più prolifici\, perché\, trasformatosi in un vero e proprio “commentatore sociale”\, rende icone gli oggetti quotidiani\, quali la mitica Campbell’s Soup\, e ci indica quali sarebbero diventate\, di lì a poco\, le “nuove divinità”\, ovvero Liz Taylor e Marilyn Monroe. Si passa poi alle opere più approfondite\, quali i mille volti di Jackie Kennedy segnati per il funerale del marito e i primi tragici incidenti con le automobili\, mito intoccabile per gli Stati Uniti: questo era il cosiddetto lato impegnato di questo infaticabile folletto dell’arte\, che giocava con le parrucche e con gli atteggiamenti provocatori\, come la contestatissima serie dedicata alla Sedia elettrica. E\, per finire\, la sua eredità raccolta\, ahimè solo in parte\, dai giovani Jean-Michel Basquiat e Keith Haring\, che\, causa la loro precoce morte\, non riusciranno a realizzare le premesse del loro intelligente padre spirituale. \nAssistenza storico-artistica: dott.ssa Alessandra Montalbetti \nRitrovo: ore 14.45 all’ingresso della Fabbrica del Vapore\, via Procaccini 4\nM5 lilla fermata Monumentale o Cenisio\, tram 14-12-10 fermate Bramante – Monumentale – Procaccini \nQuota di partecipazione: 10 euro (biglietto d’ingresso\, assistenza storico-artistica\, radiomicrofoni) \nPrenotazione e pagamento direttamente a questa pagina con carta credito/Paypal \nIn alternativa contattare la Segreteria amici@museopoldipezzoli.it – 366 5830536 ed effettuare il pagamento in Segreteria o con bonifico bancario:\nCASSA LOMBARDA – FILIALE 100 – Via Manzoni\, 14 – 20121 Milano\nIBAN: IT 75 U 03488 01601 000000020238\nIntestato a: Associazione Amici del Museo Poldi Pezzoli\nCausale: Warhol – Nome e cognome del Socio \nGrazie a LCA Studio Legale
URL:https://amicipoldipezzoli.it/attivita/warhol/
LOCATION:Fabbrica del Vapore\, Via Giulio Cesare Procaccini 4\, Milano\, Milano\, 20154\, Italia
CATEGORIES:Visita guidata
ATTACH;FMTTYPE=image/jpeg:https://amicipoldipezzoli.it/wp-content/uploads/2022/08/Warhol.jpeg
ORGANIZER;CN="Amici Museo Poldi Pezzoli":MAILTO:amici@museopoldipezzoli.it
END:VEVENT
BEGIN:VEVENT
DTSTART;TZID=Europe/Rome:20221124T170000
DTEND;TZID=Europe/Rome:20221124T190000
DTSTAMP:20260420T174339
CREATED:20221018T102135Z
LAST-MODIFIED:20221118T140542Z
UID:10000035-1669309200-1669316400@amicipoldipezzoli.it
SUMMARY:Visita a porte chiuse alla mostra 'La seduzione del bello. Capolavori segreti tra ‘600 e ‘700' al Museo Bagatti Valsecchi
DESCRIPTION:A cura di Antonio D’Amico\, curatore del Museo Bagatti Valsecchi \nFoto @elenadatrino \nLa Casa Museo Bagatti Valsecchi\, ricca di variegate forme e generi artistici\, torna ad essere un rinnovato e inedito convivio aperto alle arti sorelle. Con la mostra “La seduzione del bello Capolavori segreti tra ‘600 e ‘700”  vuol diventare una residenza d’eccezione che accoglie altre collezioni private\, consentendo al pubblico di scoprire i tanti capolavori che si celano nelle segrete stanze dei collezionisti. \nIn mostra i quadri della collezione Gastaldi Rotelli\, una selezione di circa cinquanta capolavori di una più vasta raccolta che lasciano la loro abituale collocazione per mostrarsi\, per la prima volta\, in un’altra dimora storica che li ospita\, generando un dialogo tematico\, nel quale ciascuno mantiene la propria identità. Il percorso si sviluppa in tutte le sale del museo e il visitatore è chiamato a scrutare i dettagli dei dipinti per individuare le assonanze con gli ambienti di casa Bagatti Valsecchi\, un gioiello neorinascimentale nel cuore di Milano\, pensato a fine Ottocento dai fratelli Fausto e Giuseppe. \nAlla fine del Novecento Gilda Gastaldi e Giuseppe Rotelli\, appassionati della pittura sei-settecentesca e attratti dalla varietà dei temi che la caratterizzano\, raccolgono un nucleo eccezionale di dipinti\, partecipando ad aste in tutto il mondo. Lungo il corso di decenni i due collezionisti\, costantemente sedotti dal bello\, disegnano insieme una geografia di viaggi alla ricerca di preziose opere d’arte. \nQuota di partecipazione: 20 euro\nLa quota comprende: biglietto d’ingresso\, assistenza storico-artistica del curatore e conservatore del Museo Bagatti Valsecchi \nPrenotazione e pagamento direttamente a questa pagina con carta credito/Paypal \nIn alternativa contattare la Segreteria amici@museopoldipezzoli.it – 366 5830536 ed effettuare il pagamento in Segreteria o con bonifico bancario:\nCASSA LOMBARDA – FILIALE 100 – Via Manzoni\, 14 – 20121 Milano\nIBAN: IT 75 U 03488 01601 000000020238\nIntestato a: Associazione Amici del Museo Poldi Pezzoli\nCausale: Bagatti Valsecchi – Nome e cognome del Socio \nGrazie a LCA Studio Legale
URL:https://amicipoldipezzoli.it/attivita/capolavorisegreti/
LOCATION:Museo Bagatti Valsecchi\, Via Gesù 5\, Milano\, Italy
CATEGORIES:Visita guidata
ATTACH;FMTTYPE=image/jpeg:https://amicipoldipezzoli.it/wp-content/uploads/2022/10/Cattura.jpg
ORGANIZER;CN="Amici Museo Poldi Pezzoli":MAILTO:amici@museopoldipezzoli.it
END:VEVENT
BEGIN:VEVENT
DTSTART;TZID=Europe/Rome:20221129T103000
DTEND;TZID=Europe/Rome:20221129T120000
DTSTAMP:20260420T174339
CREATED:20221109T103316Z
LAST-MODIFIED:20221116T090934Z
UID:10000039-1669717800-1669723200@amicipoldipezzoli.it
SUMMARY:Michelangelo e il tema della Pietà
DESCRIPTION:In un allestimento spettacolare\, studiato ad hoc per l’occasione\, vengono esposti per la prima volta insieme nella Sala delle Cariatidi di Palazzo Reale i calchi delle tre Pietà scolpite da Michelangelo nell’arco di 50 anni di carriera: la Pietà Vaticana\, databile al 1498/99\, la Pietà Bandini ( il cui restauro dell’originale \, lungo e delicato\, ha offerto lo spunto per la mostra) del 1550/55\, e infine la Pietà Rondanini\, rimasta incompiuta alla morte dell’artista\, nel 1564. Secondo  Timothy Verdon\, direttore del museo dell’Opera di Firenze\, che ha curato l’esposizione fiorentina\,  l’inedito confronto tra le tre opere permette di mettere a fuoco il nesso tra vita e arte da parte dello scultore che è stato al servizio dei papi\, “e quindi interprete privilegiato delle istanze di una Chiesa in dinamico cambiamento”. Ma offre anche l’occasione unica   di approfondire l’evoluzione spirituale e la riflessione sui temi della religiosità di Michelangelo\, frutto di un intenso travaglio interiore. \nAssistenza storico-artistica: dott.ssa Alessandra Novellone \nRitrovo: ore 10.15 all’ingresso di Palazzo Reale\, Piazza del Duomo 12 \nQuota di partecipazione: 10 euro \nPrenotazione e pagamento direttamente a questa pagina con carta credito/Paypal \nIn alternativa contattare la Segreteria amici@museopoldipezzoli.it – 366 5830536 ed effettuare il pagamento in Segreteria o con bonifico bancario:\nCASSA LOMBARDA – FILIALE 100 – Via Manzoni\, 14 – 20121 Milano\nIBAN: IT 75 U 03488 01601 000000020238\nIntestato a: Associazione Amici del Museo Poldi Pezzoli\nCausale: Michelangelo – Nome e cognome del Socio \nGrazie a LCA Studio Legale
URL:https://amicipoldipezzoli.it/attivita/michelangelo/
LOCATION:Palazzo Reale\, Milano\, Italy
CATEGORIES:Visita guidata
ATTACH;FMTTYPE=image/jpeg:https://amicipoldipezzoli.it/wp-content/uploads/2022/11/Cattura1.jpg
ORGANIZER;CN="Amici Museo Poldi Pezzoli":MAILTO:amici@museopoldipezzoli.it
END:VEVENT
END:VCALENDAR