BEGIN:VCALENDAR
VERSION:2.0
PRODID:-//Amici del Museo Poldi Pezzoli - ECPv6.15.20//NONSGML v1.0//EN
CALSCALE:GREGORIAN
METHOD:PUBLISH
X-WR-CALNAME:Amici del Museo Poldi Pezzoli
X-ORIGINAL-URL:https://amicipoldipezzoli.it
X-WR-CALDESC:Eventi per Amici del Museo Poldi Pezzoli
REFRESH-INTERVAL;VALUE=DURATION:PT1H
X-Robots-Tag:noindex
X-PUBLISHED-TTL:PT1H
BEGIN:VTIMEZONE
TZID:Europe/Rome
BEGIN:DAYLIGHT
TZOFFSETFROM:+0100
TZOFFSETTO:+0200
TZNAME:CEST
DTSTART:20220327T010000
END:DAYLIGHT
BEGIN:STANDARD
TZOFFSETFROM:+0200
TZOFFSETTO:+0100
TZNAME:CET
DTSTART:20221030T010000
END:STANDARD
BEGIN:DAYLIGHT
TZOFFSETFROM:+0100
TZOFFSETTO:+0200
TZNAME:CEST
DTSTART:20230326T010000
END:DAYLIGHT
BEGIN:STANDARD
TZOFFSETFROM:+0200
TZOFFSETTO:+0100
TZNAME:CET
DTSTART:20231029T010000
END:STANDARD
BEGIN:DAYLIGHT
TZOFFSETFROM:+0100
TZOFFSETTO:+0200
TZNAME:CEST
DTSTART:20240331T010000
END:DAYLIGHT
BEGIN:STANDARD
TZOFFSETFROM:+0200
TZOFFSETTO:+0100
TZNAME:CET
DTSTART:20241027T010000
END:STANDARD
END:VTIMEZONE
BEGIN:VEVENT
DTSTART;TZID=Europe/Rome:20231004T103000
DTEND;TZID=Europe/Rome:20231004T120000
DTSTAMP:20260419T220713
CREATED:20230703T101133Z
LAST-MODIFIED:20230703T101133Z
UID:10000079-1696415400-1696420800@amicipoldipezzoli.it
SUMMARY:La Certosa di Garegnano
DESCRIPTION:Il 19 settembre 1349 l’arcivescovo di Milano Giovanni Visconti donò all’ordine certosino dei terreni in una zona di campagna\, nel borgo di Garegnano\, vicino a Milano\, al fine di costruire un monastero e una chiesa per i monaci. La chiesa fu ufficialmente consacrata nel 1367\, il suo attuale aspetto però non è trecentesco\, ma è frutto di rifacimenti avvenuti nel corso del XVI-XVII secolo. La chiesa ha un’unica navata con volta a botte e stucchi\, le pareti sono state splendidamente affrescate dal celebre pittore seicentesco\, Daniele Crespi\, con il ciclo delle Storie di San Bruno fondatore dell’Ordine Certosino. Il presbiterio e l’abside sono impreziositi da bellissimi dipinti realizzati\, tra il 1578 e il 1582\, da Simone Peterzano\, maestro di Caravaggio. La Certosa di Garegnano per la bellezza dei suoi affreschi è detta la Cappella Sistina di Milano. \nAssistenza storico-artistica: dott.ssa Barbara Pasolini\nRitrovo: ore 10.30 ritrovo in via Garegnano\, 28 (zona Viale Certosa).\nTrasporti consigliati: MM1 fermata Uruguay; tram 14 o bus 80.\nQuota di partecipazione: 20 euro \nPrenotazione e pagamento direttamente a questa pagina con carta credito o Paypal \nIn alternativa contattare la Segreteria amici@museopoldipezzoli.it – 366 5830536 ed effettuare il pagamento in Segreteria o con bonifico bancario:\nCASSA LOMBARDA – FILIALE 100 – Via Manzoni\, 14 – 20121 Milano\nIBAN: IT 75 U 03488 01601 000000020238\nIntestato a: Associazione Amici del Museo Poldi Pezzoli\nCausale: Certosa Garegnano – Nome e cognome del Socio
URL:https://amicipoldipezzoli.it/attivita/certosagaregnano/
LOCATION:Certosa Garegnano\, Italia
CATEGORIES:Visita guidata
ATTACH;FMTTYPE=image/jpeg:https://amicipoldipezzoli.it/wp-content/uploads/2023/07/SC_A_LMD80-00412_IMG-0000187138.jpg
ORGANIZER;CN="Amici Museo Poldi Pezzoli":MAILTO:amici@museopoldipezzoli.it
END:VEVENT
BEGIN:VEVENT
DTSTART;TZID=Europe/Rome:20231006T060000
DTEND;TZID=Europe/Rome:20231014T160000
DTSTAMP:20260419T220713
CREATED:20230522T092532Z
LAST-MODIFIED:20230522T104852Z
UID:10000074-1696572000-1697299200@amicipoldipezzoli.it
SUMMARY:Boston e il New England
DESCRIPTION:DA VENERDI’ 6 A SABATO 14 OTTOBRE 2023\nNella stagione degli aceri rosseggianti\, un itinerario ricco di suggestioni storiche\, artistiche e paesaggistiche. Punto di partenza e cuore dell’itinerario è la bellissima Boston\, la città da cui è partito il moto dell’indipendenza statunitense\, che per l’amore della cultura ha meritato l’appellativo di “Atene d’America”. I capolavori dei musei e le celebri sedi universitarie dialogano con una storia monumentale ricca di episodi e di edifici importanti; poi\, gli scenari paesaggistici della costa atlantica e delle colline tra Massachusetts e Connecticut\, per un viaggio ricco di emozioni e di scoperte. \nAssistenza storico artistica Dott. stefano zuffi\nVenerdi’ 6 ottobre – MILANO/BOSTON\nViaggio aereo per Boston con volo Milano Malpensa/Francoforte LH 247 – 9\,05/10\,25 e proseguimento con volo Francoforte/Boston LH 422 – 13\,25/16\,05.\nAll’arrivo in aeroporto\, un breve trasferimento conduce nel pieno centro cittadino per un primo giro orientativo: Beacon Hill\, Charles Street\, Public Gardens. Sistemazione in pieno distretto portuale di Boston presso l’elegante Omni Boston Hotel at the Seaport (www.omnihotels.com): cena libera. \nsabato 7 ottobre – boston\nGiornata dedicata alla città di Boston\, movimentata e sempre varia nei contesti urbani\, carica di ricordi del XVIII e XIX secolo ma anche di affascinanti architetture contemporanee. Il centro della città è caratterizzato dal Freedom Trail\, il percorso della Libertà\, passeggiata che si snoda attraverso tutti i punti salienti della storia della città e conduce al porto\, dove la celeberrima rivolta del the (il “tea party”) segnò l’inizio della guerra per l’indipendenza americana. Momenti significativi della giornata saranno la vista panoramica dal grattacielo Prudential\, i vecchi quartieri di Beacon Hill e di Charles Street\, la monumentale Trinity Church\, capolavoro dell’architettura sacra del XIX secolo con l’antistante John Hancock Tower e la moderna Christ Science Church\, progettata da Ieoh Ming Pei. Pranzo libero e cena in ristorante. \ndomenica 8 ottobre – boston\nL’intera mattinata trascorre nelle sale del Museum of Fine Arts\, uno dei più vari e importanti musei d’arte degli Stati Uniti\, mentre il pomeriggio regala ai partecipanti una pausa di tempo libero in città. Pasti liberi. \nLunedi’ 9 ottobre – boston\nProsegue la visita ai monumenti storici di Boston con la visita alla Massachusetts State House\, grandiosa sede amministrativa della fine del Settecento. Nel pomeriggio è il turno dell’incantevole Isabella Stewart Gardner Museum\, collezione privata di fine ottocento\, dedicata all’arte antica europea (e soprattutto italiana)\, scelta con finissimo gusto e infinite risorse economiche. Pasti liberi. \nMartedi’ 10 ottobre – Cambridge/Springfield/Lenox\nBoston\, o meglio i suoi immediati dintorni\, è un centro universitario di fama mondiale. La mattinata è dedicata alla visita alla zona di Cambridge\, dove si trovano l’esclusivo ateneo di Harvard (con le raccolte museali)\, e l’altrettanto celebre MIT (Massachusetts Institute of Technology)\, uno dei centri di studi scientifici e tecnici più celebri del mondo. Entrambi i complessi sono splendidi esempi di architettura\, distribuiti nel verde di incantevoli giardini. Pranzo libero. Nel pomeriggio ci dirigiamo verso ovest. Lasciata la città e la costa atlantica\, si penetra nella regione collinare del Berkhsire\, approfittando della stagione più suggestiva dell’anno per i boschi e le tenute. In serata si sosta al Courtyard Lenox Berkshires (www.marriot.com)\, elegante struttura immersa nel verde che circonda la cittadina di Lenox: cena in ristorante \nMercoledi’ 11 ottobre – Williamstown/Stockbridge\nL’Istituto Clark di Williamstown è una delle più prestigiose raccolte private d’America: il museo è stato ampliato e si presenta ora in una nuova sede espositiva più accogliente\, dove trovano spazio centinaia di dipinti e sculture europei\, dal Rinascimento alle soglie del XX secolo\, con particolare attenzione verso gli impressionisti francesi. Nel pomeriggio\, il respiro maestoso della natura nei Giardini Botanici di Stockbridge. Al termine delle visite\, rientro in albergo a Lenox. Pasti liberi \ngiovedi’ 12 ottobre – Hartford/new haven\nIl viaggio nel New England prosegue in direzione del Connecticut\, e tocca Hartford\, dove si trova il Wadsworth Athenaeum: ancora un museo di opere italiane ed europee\, con incontri inaspettati e toccanti. Pranzo libero. Infine\, attraversando paesaggi di solenne bellezza\, si raggiunge la città di New Haven\, con notevoli architetture ottocentesche. In centro città si fa tappa presso il prestigioso Omni New Haven hotel (www.omnihotels.com): cena in\nristorante. \nvenerdi’ 13 ottobre – new haven/new york\nLa storica università di Yale è il centro culturale di New Haven: il campus è un complesso architettonico ricco di fascino\, con una raffinata Art Gallery presso la quale sono provvisoriamente ospitati anche i migliori dipinti del museo dedicato all’arte britannica\, in fase di ristrutturazione. Nel pomeriggio si prosegue sino a New York per raggiungere l’aeroporto JFK e imbarcarsi per il volo notturno di rientro in Europa New York/Francoforte LH 405 – 21\,50/11\,45 (+1) \nsabato 14 ottobre – francoforte/milano\nScalo a Francoforte e coincidenza con il volo di rientro in Italia: Francoforte/Milano Linate LH 280 – 13\,25/14\,40. \nQuota individuale di partecipazione (minimo 15 partecipanti)\n\n€ 5.600\nIscrizioni in corso sino ad esaurimento dei posti disponibili \nSupplemento camera singola\n€ 1.550\nAcconto 2.000 euro alla conferma\nSaldo entro 15 giorni dalla partenza \nPrenotare contattando la Segreteria amici@museopoldipezzoli.it – 02 780872 \nInviare la scheda di adesione compilata con i dati personali \nscarica il programma del viaggio\nScarica la scheda di adesione\nVersare la quota di partecipazione con\n– Assegno intestato a Celeber srl Milano\nin alternativa\n– Bonifico bancario:\nCeleber srl – Milano\nIBAN: IT89O0569601600000018882X00\nCausale: APP Boston – “Cognome partecipante” \nLa quota comprende:\nViaggio aereo con voli di linea\, tasse aeroportuali e un bagaglio da stiva max 23 kg\, trasferimenti in pullman come da programma\, sistemazione in camera a due letti presso gli alberghi citati con trattamento di pernottamento e prima colazione\, tre cene in ristorante\, visite e ingressi come da programma\, assistenza storico artistica di Stefano Zuffi\, polizza di assistenza “medico-bagaglio-annullamento”. \nLa quota non comprende:\nGli extra in genere\, 11 pasti liberi\, le bevande\, il costo della procedura ESTA\, le mance e quanto non espressamente citato nel programma. \ndocumenti necessari:\nPassaporto in corso di validità per l’intera durata del viaggio. Indispensabile provvedere alla compilazione del modulo online ESTA (Electronic System for Travel Authorization) per ottenere l’autorizzazione all’ingresso negli USA. \nassicurazione sanitaria supplementare:\nLe condizioni del sistema sanitario statunitense suggeriscono vivamente la sottoscrizione di una polizza integrativa “spese mediche”: preventivi disponibili presso gli uffici Celeber. \nIn collaborazione con
URL:https://amicipoldipezzoli.it/attivita/bostonnewengland/
LOCATION:Boston e New England
CATEGORIES:Viaggio
ATTACH;FMTTYPE=image/jpeg:https://amicipoldipezzoli.it/wp-content/uploads/2023/05/6a40ad55aba05918c2aff74a6588eb74.jpg
ORGANIZER;CN="Amici Museo Poldi Pezzoli":MAILTO:amici@museopoldipezzoli.it
END:VEVENT
BEGIN:VEVENT
DTSTART;TZID=Europe/Rome:20231012T153000
DTEND;TZID=Europe/Rome:20231012T170000
DTSTAMP:20260419T220713
CREATED:20230703T101803Z
LAST-MODIFIED:20230920T091203Z
UID:10000080-1697124600-1697130000@amicipoldipezzoli.it
SUMMARY:Giorgio Morandi. Il silenzio parlante
DESCRIPTION:“Si può dipingere ogni cosa\, basta vederla”…questo soleva ripetere il Maestro bolognese\, ma è proprio in quel “basta vederla” che si annida il nucleo profondo di un pittore che sembra facile\, leggibile\, avvicinabile\, sicuramente più decodificabile del Cubismo di Picasso\,  ma che poi evidenzia questa sua incommensurabile capacità di sondare la realtà negli oggetti più quotidiani e nel saperne distillare l’essenza nascosta. Curata da Maria Cristina Bandera\, la rassegna\, ricca di prestiti da collezioni italiane e internazionali\, intende prenderci per mano e portarci nel mondo ascetico ed enigmatico di un artista che tutti ha conosciuto ma non è stato seguace di  nessuno\, amatissimo dai collezionisti\, ma la sua casa raramente era aperta\, protagonista silente come le sue Nature morte. Davanti ai suoi dipinti\, respireremo l’aria pirandelliana dei Sei personaggi in cerca d’autore …ed è subito sera. \nAssistenza storico-artistica: dott.ssa Alessandra Montalbetti\nRitrovo: ore 15.15 all’ingresso della mostra\, Palazzo Reale\, Piazza del Duomo 12\nQuota di partecipazione: 20 euro \nPrenotazione e pagamento direttamente a questa pagina con carta credito o Paypal\nIn alternativa contattare la Segreteria amici@museopoldipezzoli.it – 366 5830536 ed effettuare il pagamento in Segreteria o con bonifico bancario:\nCASSA LOMBARDA – FILIALE 100 – Via Manzoni\, 14 – 20121 Milano\nIBAN: IT 75 U 03488 01601 000000020238\nIntestato a: Associazione Amici del Museo Poldi Pezzoli\nCausale: Morandi – Nome e cognome del Socio
URL:https://amicipoldipezzoli.it/attivita/morandi/
LOCATION:Palazzo Reale\, Milano\, Italy
CATEGORIES:Visita guidata
ATTACH;FMTTYPE=image/png:https://amicipoldipezzoli.it/wp-content/uploads/2023/07/Immagine-2023-07-03-121556.png
ORGANIZER;CN="Amici Museo Poldi Pezzoli":MAILTO:amici@museopoldipezzoli.it
END:VEVENT
BEGIN:VEVENT
DTSTART;TZID=Europe/Rome:20231016T163000
DTEND;TZID=Europe/Rome:20231016T180000
DTSTAMP:20260419T220713
CREATED:20230522T082650Z
LAST-MODIFIED:20230901T083432Z
UID:10000072-1697473800-1697479200@amicipoldipezzoli.it
SUMMARY:Archivio Regina Cassolo Bracchi:  una protagonista del secolo ventesimo
DESCRIPTION:Dopo la prima grande retrospettiva museale italiana alla Gamec di Bergamo\, la partecipazione alla bellissima collettiva Donne e Avanguardia a Villa Olmo (Como) e l’acquisizione da parte del Centre Pompidou di Parigi di un significativo nucleo di opere dell’artista lombarda\, arriviamo alla altrettanto importante presenza alla 59 Biennale di Venezia: questa è la minima recentissima cronostoria della cara Regina (1894/1947)\, la prima scultrice dell’avanguardia storica italiana! E non solo: unica donna presente nel MAC italiano\, attiva sul versante della ricerca e della relazione internazionale\, instancabile sostenitrice dell’idea di una arte nuova. L’Archivio è aperto grazie a Gaetano e Zoe fermani\, fedeli amici di una vita e attenti custodi della sua memoria. Visita in esclusiva per i Soci.” \nAssistenza storico-artistica: dott.ssa Paola Rapelli\nRitrovo: ore 16.15 in via Marcantonio Colonna\, 57\, Milano (Tram 1 – Fermata V.le Certosa V.le Serra)\nQuota di partecipazione: 15 euro \nPrenotazione e pagamento direttamente a questa pagina con carta credito o Paypal\nIn alternativa contattare la Segreteria amici@museopoldipezzoli.it – 366 5830536 ed effettuare il pagamento in Segreteria o con bonifico bancario:\nCASSA LOMBARDA – FILIALE 100 – Via Manzoni\, 14 – 20121 Milano\nIBAN: IT 75 U 03488 01601 000000020238\nIntestato a: Associazione Amici del Museo Poldi Pezzoli\nCausale: Archivio Regina – Nome e cognome del Socio
URL:https://amicipoldipezzoli.it/attivita/reginacassolobracchi/
LOCATION:Archivio Regina Cassolo Bracchi
CATEGORIES:Visita guidata
ATTACH;FMTTYPE=image/jpeg:https://amicipoldipezzoli.it/wp-content/uploads/2023/05/Regina-Cassolo-Bracchi-Omaggio-a-Charles-P.-Conrad-e-Alan-Bean-1970-Collezione-Archivio-Gaetano-e-Zoe-Fermani.Photo-Alessandro-Saletta-e-Piercarlo-Quecchia-DSL-Studio.jpg
ORGANIZER;CN="Amici Museo Poldi Pezzoli":MAILTO:amici@museopoldipezzoli.it
END:VEVENT
BEGIN:VEVENT
DTSTART;TZID=Europe/Rome:20231019T083000
DTEND;TZID=Europe/Rome:20231019T183000
DTSTAMP:20260419T220713
CREATED:20230712T105747Z
LAST-MODIFIED:20230726T095005Z
UID:10000088-1697704200-1697740200@amicipoldipezzoli.it
SUMMARY:Due nuovi spazi per l'arte a Brescia: Palazzo Monti e Spazio ALMAG
DESCRIPTION:Dopo una passeggiata storica- artistica alla scoperta del centro storico di Brescia\, fra antiche testimonianze dell’antica Roma\, antichi palazzi e chiese fino alle piazze simbolo della storia della città (Piazza del Duomo e  Piazza Loggia)\, saremo accolti a Palazzo Monti\, storico edificio del 1200 convertito a residenza per artisti e designer internazionali. Qui incontreremo il giovane collezionista Edoardo Monti classe 1991 nel suo incubatore di creatività e produttività che offre agli artisti la possibilità di trovare ispirazione e creare collaborazioni. Decorato con affreschi neoclassici della fine del 1750\, Palazzo Monti offre un ambiente stimolante per creare arte contemporanea. All’interno\, 18 camere affrescate raggiungibili dalla grande scalinata in marmo e pietra lasciate spoglie per consentire agli ospiti la libera creazione. Molti dei lavori di design realizzati sono frutto di commissioni o di collaborazioni con artigiani della zona. Nel pomeriggio\, dopo la pausa pranzo in un ristorante tipico della città\, visiteremo Spazio ALMAG a Roncadelle\, la nuova sede che ospita le opere dell’imprenditrice\, collezionista e Presidente del Club del Restauro del Museo Poldi Pezzoli Umberta Gnutti Beretta. Ci troveremo dinanzi ad una vasta collezione\, di oltre 140 opere\, che spaziano dai primi anni del ‘900 fino ad essere ultra contemporanee\, con opere eseguite nei primi giorni del 2023. Sui due piani dello Spazio Almag\, ripensato dal curatore Edoardo Monti e ristrutturato con la precisa intenzione di accogliere opere d’arte\, ammireremo opere di fotografia e pittura\, installazioni e sculture\, opere luminose e realizzate specificatamente per lo spazio. Tra i tanti nomi: Anselm Kiefer\, Anish Kapoor\, Andy Warhol e Michelangelo Pistoletto\, Maurizio Cattelan\, Francesco Vezzoli\, Elmgreen & Dragset\, Nicolas Party e Miles Aldridge. E poi ancora Barbara Kruger\, Nan Goldin e Jenny Holzer\, Jacopo Benassi\, Lady Tarin\, Paola Pivi\, Vanessa Beecroft\, Marinella Senatore. E Louis Fratino\, Jonathan Monk\, Adelita Husni-Bey\, Velasco Vitali. Accanto a Lucio Fontana e Lucian Freud\, Giulio Paolini ed Enrico Baj\, e tanti altri. \nAssistenza storico-artistica: dott.ssa Umberta Gnutti Beretta\, Dott. Edoardo Monti\, Dott.ssa Barbara Pasolini\nNell’ambito della giornata il gruppo sarà accompagnato dal Consigliere Cinzia Buccellato\nRitrovo: ore 08.40 in Piazza IV Novembre all’angolo tra l’Hotel Gallia e la Stazione Centrale. Rientro nel tardo pomeriggio.\nQuota di partecipazione: 140 euro. La quota comprende il pullman\, l’assistenza culturale\, il pranzo in un ristorante tipico\, gli omaggi\, i radiomicrofoni e le mance. \nPrenotazione e pagamento direttamente a questa pagina con carta credito o Paypal\nIn alternativa contattare la Segreteria amici@museopoldipezzoli.it – 366 5830536 ed effettuare il pagamento in Segreteria o con bonifico bancario:\nCASSA LOMBARDA – FILIALE 100 – Via Manzoni\, 14 – 20121 Milano\nIBAN: IT 75 U 03488 01601 000000020238\nIntestato a: Associazione Amici del Museo Poldi Pezzoli\nCausale: Brescia – Nome e cognome del Socio
URL:https://amicipoldipezzoli.it/attivita/brescia/
LOCATION:Brescia
CATEGORIES:Itinerario fuori città
ATTACH;FMTTYPE=image/jpeg:https://amicipoldipezzoli.it/wp-content/uploads/2023/07/Spazio-Almag-Roncadelle-BS.-Ph.-Leonardo-Anker-Vandal.-Courtesy-Collezione-Umberta-Gnutti-Beretta-768x512-1.jpg
ORGANIZER;CN="Amici Museo Poldi Pezzoli":MAILTO:amici@museopoldipezzoli.it
END:VEVENT
BEGIN:VEVENT
DTSTART;TZID=Europe/Rome:20231025T163000
DTEND;TZID=Europe/Rome:20231025T180000
DTSTAMP:20260419T220713
CREATED:20231020T084417Z
LAST-MODIFIED:20231020T084545Z
UID:10000096-1698251400-1698256800@amicipoldipezzoli.it
SUMMARY:ORO BIANCO. Tre secoli di porcellane Ginori  Visita esclusiva con il curatore
DESCRIPTION:Oro bianco. Tre secoli di porcellane Ginori è il titolo della mostra che il Museo Poldi Pezzoli e il Museo Ginori presentano al pubblico dal 25 ottobre 2023 al 19 febbraio 2024. La mostra\, a cura di Federica Manoli\, curatrice della collezione di ceramiche del Museo Poldi Pezzoli\, e di Oliva Rucellai e Rita Balleri\, conservatrici del Museo Ginori\, presenta una selezione delle più importanti opere realizzate dalla Manifattura Ginori\, tra il XVIII e il XX secolo\, conservate in diversi musei italiani ed europei\, oltre che al Poldi Pezzoli\, al Museo Ginori\, al momento chiuso per restauro\, e in collezioni private.\nL’allestimento\, elegante e suggestivo\, è a cura dello studio Guicciardini e Magni Architetti di Firenze. La mostra è sostenuta dalla Fondazione Ico Falck. \nAssistenza storico-artistica: dott.ssa Federica Manoli\, curatore della mostra.\nGratuito per i Soci.\nPrenotazione obbligatoria amici@museopoldipezzoli.it
URL:https://amicipoldipezzoli.it/attivita/orobianco/
LOCATION:Museo Poldi Pezzoli\, Via Manzoni 12\, Milano\, Italy
CATEGORIES:Visita guidata
ATTACH;FMTTYPE=image/jpeg:https://amicipoldipezzoli.it/wp-content/uploads/2023/10/invito-20maggio08b.jpg
ORGANIZER;CN="Amici Museo Poldi Pezzoli":MAILTO:amici@museopoldipezzoli.it
END:VEVENT
BEGIN:VEVENT
DTSTART;TZID=Europe/Rome:20231026T103000
DTEND;TZID=Europe/Rome:20231026T120000
DTSTAMP:20260419T220713
CREATED:20230704T072045Z
LAST-MODIFIED:20231023T080746Z
UID:10000086-1698316200-1698321600@amicipoldipezzoli.it
SUMMARY:El Greco visionario a Palazzo Reale
DESCRIPTION:Dalla Grecia alla Spagna\, passando per l’Italia: un concentrato di cultura e gusto mediterranei\, in cui  gli influssi bizantini della terra d’origine si mescolano al cromatismo veneto\, al Manierismo di marca romana\, al  rigore  controriformato\, agli umori mistici propri dell’arte spagnola:  con questi presupposti non stupisce che Domènikos Theotokòpulos\, più noto come El Greco\, nato a Candia nel 1541\, abbia maturato uno stile personalissimo e riconoscibile\, visionario ed espressionistico\, con quelle figure dai corpi allungati\, dalle pose esasperate e  innaturali\, che emergono dal buio più fondo illuminate con violenza da luci abbaglianti o stellari\,  dalla tavolozza disarmonica impostata sui toni acidi dei verdi\, dei rossi\, dei gialli. Ambizioso e astuto\,  carismatico e coraggioso\, dimenticato dai contemporanei dopo la morte avvenuta a  Toledo nel 1614\, El Greco ha ispirato artisti come Delacroix\, Manet\, Cezanne\, Chagall\, gli Espressionisti; e lo stesso Picasso  per le celebri “Demoiselles d’Avignon” pare abbia tratto spunto dalla sua\, forse\, ultima opera\, “L’apertura del V sigillo dell’Apocalisse”. La mostra in corso a Palazzo Reale è un’occasione per riscoprire questo protagonista dell’arte del ‘500/’600. \nAssistenza storico-artistica: dott.ssa Alessandra Novellone\nRitrovo: ore 10.15  all’ingresso della mostra\, Palazzo Reale\, Piazza del Duomo 12\nQuota di partecipazione: 20 euro \nPrenotazione e pagamento direttamente a questa pagina con carta credito o Paypal\nIn alternativa contattare la Segreteria amici@museopoldipezzoli.it – 366 5830536 ed effettuare il pagamento in Segreteria o con bonifico bancario:\nCASSA LOMBARDA – FILIALE 100 – Via Manzoni\, 14 – 20121 Milano\nIBAN: IT 75 U 03488 01601 000000020238\nIntestato a: Associazione Amici del Museo Poldi Pezzoli\nCausale: El Greco – Nome e cognome del Socio
URL:https://amicipoldipezzoli.it/attivita/elgreco/
LOCATION:Palazzo Reale\, Milano\, Italy
CATEGORIES:Visita guidata
ATTACH;FMTTYPE=image/png:https://amicipoldipezzoli.it/wp-content/uploads/2023/07/Immagine-2023-07-04-091604.png
ORGANIZER;CN="Amici Museo Poldi Pezzoli":MAILTO:amici@museopoldipezzoli.it
END:VEVENT
BEGIN:VEVENT
DTSTART;TZID=Europe/Rome:20231026T163000
DTEND;TZID=Europe/Rome:20231026T180000
DTSTAMP:20260419T220713
CREATED:20231020T090000Z
LAST-MODIFIED:20231020T090000Z
UID:10000097-1698337800-1698343200@amicipoldipezzoli.it
SUMMARY:ORO BIANCO. Tre secoli di porcellane Ginori  Visita esclusiva con il curatore
DESCRIPTION:Oro bianco. Tre secoli di porcellane Ginori è il titolo della mostra che il Museo Poldi Pezzoli e il Museo Ginori presentano al pubblico dal 25 ottobre 2023 al 19 febbraio 2024. La mostra\, a cura di Federica Manoli\, curatrice della collezione di ceramiche del Museo Poldi Pezzoli\, e di Oliva Rucellai e Rita Balleri\, conservatrici del Museo Ginori\, presenta una selezione delle più importanti opere realizzate dalla Manifattura Ginori\, tra il XVIII e il XX secolo\, conservate in diversi musei italiani ed europei\, oltre che al Poldi Pezzoli\, al Museo Ginori\, al momento chiuso per restauro\, e in collezioni private.\nL’allestimento\, elegante e suggestivo\, è a cura dello studio Guicciardini e Magni Architetti di Firenze. La mostra è sostenuta dalla Fondazione Ico Falck. \nAssistenza storico-artistica: dott.ssa Federica Manoli\, curatore della mostra.\nGratuito per i Soci.\nPrenotazione obbligatoria amici@museopoldipezzoli.it
URL:https://amicipoldipezzoli.it/attivita/oro-bianco-tre-secoli-di-porcellane-ginori-visita-esclusiva-con-il-curatore/
LOCATION:Museo Poldi Pezzoli\, Via Manzoni 12\, Milano\, Italy
CATEGORIES:Visita guidata
ATTACH;FMTTYPE=image/jpeg:https://amicipoldipezzoli.it/wp-content/uploads/2023/10/invito-20maggio083.jpg
ORGANIZER;CN="Amici Museo Poldi Pezzoli":MAILTO:amici@museopoldipezzoli.it
END:VEVENT
END:VCALENDAR