BEGIN:VCALENDAR
VERSION:2.0
PRODID:-//Amici del Museo Poldi Pezzoli - ECPv6.15.20//NONSGML v1.0//EN
CALSCALE:GREGORIAN
METHOD:PUBLISH
X-ORIGINAL-URL:https://amicipoldipezzoli.it
X-WR-CALDESC:Eventi per Amici del Museo Poldi Pezzoli
REFRESH-INTERVAL;VALUE=DURATION:PT1H
X-Robots-Tag:noindex
X-PUBLISHED-TTL:PT1H
BEGIN:VTIMEZONE
TZID:Europe/Rome
BEGIN:DAYLIGHT
TZOFFSETFROM:+0100
TZOFFSETTO:+0200
TZNAME:CEST
DTSTART:20220327T010000
END:DAYLIGHT
BEGIN:STANDARD
TZOFFSETFROM:+0200
TZOFFSETTO:+0100
TZNAME:CET
DTSTART:20221030T010000
END:STANDARD
BEGIN:DAYLIGHT
TZOFFSETFROM:+0100
TZOFFSETTO:+0200
TZNAME:CEST
DTSTART:20230326T010000
END:DAYLIGHT
BEGIN:STANDARD
TZOFFSETFROM:+0200
TZOFFSETTO:+0100
TZNAME:CET
DTSTART:20231029T010000
END:STANDARD
BEGIN:DAYLIGHT
TZOFFSETFROM:+0100
TZOFFSETTO:+0200
TZNAME:CEST
DTSTART:20240331T010000
END:DAYLIGHT
BEGIN:STANDARD
TZOFFSETFROM:+0200
TZOFFSETTO:+0100
TZNAME:CET
DTSTART:20241027T010000
END:STANDARD
END:VTIMEZONE
BEGIN:VEVENT
DTSTART;TZID=Europe/Rome:20231107T070000
DTEND;TZID=Europe/Rome:20231109T210000
DTSTAMP:20260419T200339
CREATED:20230616T122147Z
LAST-MODIFIED:20230919T091407Z
UID:10000077-1699340400-1699563600@amicipoldipezzoli.it
SUMMARY:A Venezia\, una nuova Biennale e non solo
DESCRIPTION:Da martedì 7 a giovedì 9 novembre 2023\nAssistenza storico artistica Dott.ssa Alessandra Montalbetti\nCome l’araba fenice\, ogni due anni\, risorge la Biennale!\nQuella di quest’anno è la diciottesima edizione per l’architettura\, curata da Leslie Lokko\, architetta e celebrata autrice di romanzi\, prima nomina del presidente della Biennale Roberto Cicutto. Il titolo Il laboratorio del futuro ci presenta un’edizione attenta all’ambiente\, alle possibili nuove risorse a disposizione\, ma soprattutto\, e per la prima volta\, attenta agli studi di architetti con membri molto giovani della diaspora africana\, che la Lokko chiama “practitioners” per il loro sapersi calare nella autentica pratica quotidiana. Come sempre\, l’inaugurazione della Biennale spinge tutte le altre istituzioni presenti in città alla presentazione di brillanti rassegne e\, quest’anno\, è impossibile non visitare la rassegna intitolata Icones per il racconto del curatore. Altre sfide ci attendono per un futuro che\, ormai\, è il nostro presente! \nMartedì 7 – Milano/Venezia\nRitrovo in stazione Centrale\, piano binari di fronte alla libreria Feltrinelli\, alle ore 8\,30.\nViaggio con treno Alta Velocità da Milano a Venezia – 8\,45/11\,12.\nMentre il servizio di facchinaggio trasporta i bagagli in albergo\, ci dirigiamo in taxi riservato verso la sede storica della Biennale\, alla sua XVIII edizione per quanto attiene l’architettura\, curata da Leslie Lokko\, architetta anglo-ghanese nata a Dundee nel 1964; autrice di ben 11 romanzi con forti protagoniste femminili\, dal Cielo di zafferano\, suo primo bestseller\, ha scelto il titolo Laboratorio del Futuro al fine di presentare giovani e giovanissimi architetti\, che lei però ama definire ”practitioners”. Dopo la visita al Padiglione centrale\, dove potremo visionare opere di mondi molto lontani\, visiteremo i Padiglioni nazionali come il Brasile\, vincitore del Leone d’oro\, il Giappone\, attento alla propria cultura tradizionale\, la Germania\, promotrice di un’autentica azione di ecosostenibilità e molti altri.\nAl termine delle visite si raggiunge l’hotel Monaco e Gran Canal (www.hotelmonaco.it)\, prestigioso albergo situato alla confluenza tra il Canal Grande e il bacino di San Marco. Tra le sue sale è ancora visibile il celebre “Ridotto” di Palazzo Dandolo\, la bisca preferita da Giacomo Casanova.\nPasti liberi. \nMercoledì 8 – Venezia\nOgni anno Punta della Dogana ci offre una ghiotta occasione di riflessione sul nostro essere\, sul nostro pensiero e sul mondo contemporaneo: quest’anno visitiamo la rassegna intitolata ”Icones” curata da Bruno Racine che\, da molti anni\, si dedica all’approfondimento del nostro rapporto con il sacro e lo spirituale. Proprio il titolo\, il termine “icona” ci porta dentro il nostro mondo quotidiano\, perché le icone sono quelle che troviamo sul nostro cellulare…ma da dove deriva questo termine\, oggi sinceramente abusato? Dal greco εἰκών-όνος (εἰκόνos)\, significava “rendere visibile ciò che non lo è”\, ovvero rendere visibile agli occhi di tutti la trascendenza del sacro. Le opere scelte affrontano questi temi proponendo\, per esempio\, tre diverse “cappelle per la meditazione”\, opere “iconiche” come La nona ora di Maurizio Cattelan ed opere silenti come quelle di Agnes Martin e Roman Opalka. In fondo\, per giustificare la visita\, è sufficiente la prima sala\, dove un Concetto spaziale tra i più poetici di Lucio Fontana si confronta con l’installazione gentile di Ligya Pape\, sua lontana alunna.\norganizzazione tecnica: celeber srl – via boccaccio 4 – 20123 milano\nNel pomeriggio\, la casa museo di una delle più stra-ordinarie protagoniste dell’arte moderna\, Peggy Guggenheim\, ospita una rassegna dedicata alle opere di Marcel Duchamp\, ancora oggi amato e odiato protagonista dell’arte; chi lo considera solo un curioso provocatore e chi lo annovera tra i nodi centrali della nostra società\, Duchamp era molto amico di Peggy\, che lo stimava o lo ascoltava nei consigli per la sua galleria d’arte e\, quindi\, dove se non qui organizzare un’esposizione chiarificatrice del suo ruolo? Senza scordare la visita alla casa della collezionista che annovera\, tra gli altri\, l’unica e rarissima scultura di Boccioni pervenuta a noi nella sua veste originale e la più completa raccolta di opere di Jackson Pollock. Pasti liberi. \nGiovedì 9 – Venezia/Milano\nPer l’ultimo giorno\, completiamo la visita alla Biennale con la sede dell’Arsenale\, con le opere scelte dalla curatrice Lokko\, attente soprattutto al recupero di spazi sociali abbandonati e alla proposizione di elementi che caratterizzino la decarbonizzazione\, la decolonizzazione\, come il Leone d’oro dello Studio Daar. Non mancherà la visita al Padiglione Italia il cui commissario Onofrio Cuteia ha scelto i giovani dello Studio Fosbury che\, a loro volta\, hanno seguito nove progetti di studi italiani che operano in nove diverse situazioni cui deve andare la nostra totale attenzione.\nCompletate le visite\, in taxi riservato si raggiunge la stazione ferroviaria di S. Lucia da dove ha inizio il viaggio di ritorno con treno Alta Velocità da Venezia a Milano Centrale – 16\,48/19\,15. \nQuota individuale di partecipazione (minimo 15 partecipanti): € 980\nSupplemento camera singola: € 320\nAcconto alla conferma: € 350 \nIscrizioni in corso sino ad esaurimento dei posti disponibili\nSaldo entro 15 giorni dalla partenza\nPrenotazioni: amici@museopoldipezzoli.it – 02 780872 – Celeber Srl 02 3657 0490\nInviare la scheda di adesione compilata con i dati personali \nScarica la scheda di adesione\nVersare la quota di partecipazione con\n– Assegno intestato a Celeber srl Milano\nin alternativa\n– Bonifico bancario:\nCeleber srl – Milano\nIBAN: IT89O0569601600000018882X00\nCausale: APP Venezia – “Cognome partecipante” \nLa quota comprende:\nViaggio in treno Alta Velocità con posti in carrozza premium\, sistemazione in camera a due letti presso gli alberghi citati con trattamento di pernottamento e prima colazione in albergo\, servizio di facchinaggio bagagli stazione/hotel/stazione\, trasferimenti in taxi riservato come da programma\, tessera ACTV di libera circolazione per 48 ore\, visite e ingressi come da programma\, assistenza storico artistica di Alessandra Montalbetti\, polizza di assistenza “medico-bagaglio-annullamento”. \nLa quota non comprende:\nGli extra in genere\, 5 pasti liberi e quanto non espressamente citato nel programma. \nIn collaborazione con
URL:https://amicipoldipezzoli.it/attivita/biennale/
LOCATION:Venezia
CATEGORIES:Viaggio
ATTACH;FMTTYPE=image/jpeg:https://amicipoldipezzoli.it/wp-content/uploads/2023/06/FROMANO_18-BIENNALE-ARCHITETTURA-VENEZIA_2023_MAGGIO01-1-e1685205597888-scaled.jpg
ORGANIZER;CN="Amici Museo Poldi Pezzoli":MAILTO:amici@museopoldipezzoli.it
END:VEVENT
BEGIN:VEVENT
DTSTART;TZID=Europe/Rome:20231107T150000
DTEND;TZID=Europe/Rome:20231107T163000
DTSTAMP:20260419T200339
CREATED:20231019T073249Z
LAST-MODIFIED:20231019T073249Z
UID:10000093-1699369200-1699374600@amicipoldipezzoli.it
SUMMARY:100 ANNI A MILANO. Un Secolo di Storia e Società Attraverso la Presenza del Rotary
DESCRIPTION:Ricorre un anniversario a cifra tonda: il 20 novembre 1923\, giusto un secolo fa\, veniva fondato a Milano il primo Rotary Club d’Italia\, uno dei primi in Europa. Per l’occasione\, sono state organizzate varie manifestazioni\, fra cui una mostra storico-documentaria illustra le vicende\, i personaggi\, le realizzazioni del Rotary sullo sfondo di una Milano che cresce\, cambia\, soffre\, progetta\, inventa. Dal restauro recentissimo del trono di Napoleone alla realizzazione del Grattacielo Pirelli\, dalle iniziative in campo sanitario all’apertura dell’Autostrada del Sole\, da Ardito Desio sul K2 a Giulio Natta premio Nobel per la chimica: un’occasione per ripercorre pagine importanti della vita sociale di Milano. La mostra\, allestita a Palazzo Morando e promossa dal Rotary e dal Comune di Milano\, è a cura di Lorenza Salamon e di Stefano Zuffi\, attuale presidente del Rotary Club Milano. \nAssistenza storico-artistica: dott. Stefano Zuffi\nRitrovo: ore 14.45 ritrovo all’ingresso di Palazzo Morando in Via Sant’Andrea 6.\nQuota di partecipazione: gratuito \nPrenotazione direttamente a questa pagina.
URL:https://amicipoldipezzoli.it/attivita/100milano/
LOCATION:Palazzo Morando\, Via Sant'Andrea 6\, Milano\, Italia
CATEGORIES:Visita guidata
ATTACH;FMTTYPE=image/jpeg:https://amicipoldipezzoli.it/wp-content/uploads/2023/10/Milano-Palazzo-Morando-Costume-moda-e-immagine.jpg
ORGANIZER;CN="Amici Museo Poldi Pezzoli":MAILTO:amici@museopoldipezzoli.it
END:VEVENT
BEGIN:VEVENT
DTSTART;TZID=Europe/Rome:20231108T160000
DTEND;TZID=Europe/Rome:20231108T173000
DTSTAMP:20260419T200339
CREATED:20231025T082602Z
LAST-MODIFIED:20231025T082602Z
UID:10000098-1699459200-1699464600@amicipoldipezzoli.it
SUMMARY:VIBRAZIONI - Letizia Cariello - LETIA
DESCRIPTION:Letizia Cariello\, una tra le artiste donna più amate e stimate dell’arte contemporanea italiana\, presenta una sintesi della sua visione per cui l’arte non può che essere un “canto d’amore” perché la vita stessa in fondo non è altro che amore\, quel magico legarsi all’altro da sé per aspirare e tendere insieme all’infinito. Solo attraverso la condivisione l’essere umano può aspirare all’armonia. Letizia Cariello negli anni ha tradotto questa sorta di mantra in forme d’arte sempre più trascendenti e mistiche. L’amore non è per l’artista una forma di stasi contemplativa\, ma una tensione\, un faticoso riuscire a condividere l’energia e vibrare all’unisono con gli altri. Lontana da ogni narrazione di amore carnale\, protagonista della sua arte è da sempre la fusione con l’altro da sé\, il riconoscersi nella visione d’insieme piuttosto che nella soggettività. \nSeguirà un light buffet​.\nPartecipazione gratuita riservata agli Amici del Museo Poldi Pezzoli. Posti limitati.\nPrenotazione direttamente a questa pagina.
URL:https://amicipoldipezzoli.it/attivita/vibrazioni/
LOCATION:Gaggenau\, Corso Magenta 2\, Milano
CATEGORIES:Visita guidata
ATTACH;FMTTYPE=image/png:https://amicipoldipezzoli.it/wp-content/uploads/2023/10/LETIA.png
ORGANIZER;CN="Amici Museo Poldi Pezzoli":MAILTO:amici@museopoldipezzoli.it
END:VEVENT
BEGIN:VEVENT
DTSTART;TZID=Europe/Rome:20231109T170000
DTEND;TZID=Europe/Rome:20231109T190000
DTSTAMP:20260419T200339
CREATED:20230703T104658Z
LAST-MODIFIED:20231107T093311Z
UID:10000084-1699549200-1699556400@amicipoldipezzoli.it
SUMMARY:Goya. La ribellione della ragione
DESCRIPTION:A poco meno di due secoli dalla sua morte\, Francisco Goya è nella civiltà dell’arte europea più vivo e più presente che mai! Non ci sono parole sufficientemente sintetiche per descrivere la sua forza di pensiero\, la sua eleganza stilistica\, la sua padronanza dei giochi cromatici\, non ultimo la sua intelligenza come uomo ed è stato proprio l’uomo a condurre l’artista sulla strada della grandezza\, anzi dell’unicità. La sua ragione ha castigato l’ignoranza del potere più gretto. La sua arte è stata modello per tanti e fonte di riflessione per noi\, che lo amiamo. Questa mostra organizzata in numerose sezioni permette di accostarsi a tutte le fasi della sua produzione\, allo splendore dei trionfi come al buio delle crisi. \nAssistenza storico-artistica: dott.ssa Paola Rapelli\nRitrovo: ore 16.45  all’ingresso della mostra\, Palazzo Reale\, Piazza del Duomo 12\nQuota di partecipazione: 20 euro \nPrenotazione e pagamento direttamente a questa pagina con carta credito o Paypal\nIn alternativa contattare la Segreteria amici@museopoldipezzoli.it – 366 5830536 ed effettuare il pagamento in Segreteria o con bonifico bancario:\nCASSA LOMBARDA – FILIALE 100 – Via Manzoni\, 14 – 20121 Milano\nIBAN: IT 75 U 03488 01601 000000020238\nIntestato a: Associazione Amici del Museo Poldi Pezzoli\nCausale: Goya – Nome e cognome del Socio
URL:https://amicipoldipezzoli.it/attivita/goya/
LOCATION:Palazzo Reale\, Milano\, Italy
CATEGORIES:Visita guidata
ATTACH;FMTTYPE=image/png:https://amicipoldipezzoli.it/wp-content/uploads/2023/07/Immagine-2023-07-03-124455.png
ORGANIZER;CN="Amici Museo Poldi Pezzoli":MAILTO:amici@museopoldipezzoli.it
END:VEVENT
BEGIN:VEVENT
DTSTART;TZID=Europe/Rome:20231115T103000
DTEND;TZID=Europe/Rome:20231115T120000
DTSTAMP:20260419T200339
CREATED:20230711T091950Z
LAST-MODIFIED:20231102T094939Z
UID:10000087-1700044200-1700049600@amicipoldipezzoli.it
SUMMARY:Palazzo Borromeo
DESCRIPTION:In un’antica piazzetta nel centro di Milano\, piazza Borromeo\, fu edificato nel XV\, grazie all’intervento di importanti artisti dell’epoca\, Michelino da Besozzo e Pisanello\, Palazzo Borromeo. Splendido esempio di residenza privata dell’antica famiglia Borromeo\, famiglia di ricchi mercanti d’origine fiorentina\, giunta a Milano alla fine del 1300. La facciata sulla piazzetta è sobria con rivestimento in mattoni a vista\, al centro un grande portale di inizio Quattrocento con arco a sesto acuto. Attraverso un androne si accede allo splendido cortile d’onore le cui pareti presentano tracce di affreschi con motivi araldici dei Borromeo. All’interno del palazzo in una sala nascosta ai più\, è conservato il tesoro dell’antica dimora: una splendida sala affrescata\, la sala dei Giochi. Rara testimonianza di pittura di carattere profano dell’arte del Quattrocento giunta miracolosamente intatta fino a noi; un ciclo di affreschi\, che si estende lungo tutte le pareti della sala\, raffigurante alcuni giochi di moda fra l’aristocrazia nel XV. \nAssistenza storico-artistica: dott.ssa Barbara Pasolini\nRitrovo: ore 10.30 ritrovo in piazza Borromeo 12.\nQuota di partecipazione: 20 euro \nPrenotazione e pagamento direttamente a questa pagina con carta credito o Paypal \nIn alternativa contattare la Segreteria amici@museopoldipezzoli.it – 366 5830536 ed effettuare il pagamento in Segreteria o con bonifico bancario:\nCASSA LOMBARDA – FILIALE 100 – Via Manzoni\, 14 – 20121 Milano\nIBAN: IT 75 U 03488 01601 000000020238\nIntestato a: Associazione Amici del Museo Poldi Pezzoli\nCausale: Borromeo – Nome e cognome del Socio
URL:https://amicipoldipezzoli.it/attivita/borromeo/
LOCATION:Palazzo Borromeo\, Piazza Borromeo 7\, Milano
CATEGORIES:Visita guidata
ATTACH;FMTTYPE=image/png:https://amicipoldipezzoli.it/wp-content/uploads/2023/07/Screenshot-2023-10-19-094153.png
ORGANIZER;CN="Amici Museo Poldi Pezzoli":MAILTO:amici@museopoldipezzoli.it
END:VEVENT
BEGIN:VEVENT
DTSTART;TZID=Europe/Rome:20231118T083000
DTEND;TZID=Europe/Rome:20231118T180000
DTSTAMP:20260419T200339
CREATED:20231020T083824Z
LAST-MODIFIED:20231110T095640Z
UID:10000094-1700296200-1700330400@amicipoldipezzoli.it
SUMMARY:NOVARA: una ricca giornata d'arte
DESCRIPTION:Il 4 novembre apre al pubblico la mostra Boldini\, De Nittis et les Italiens de Paris. L’esposizione\, dedicata ai celebri artisti italiani attivi nella Parigi di fine Ottocento e inizio Novecento\, meglio noti come Les Italiens de Paris\, tra tutti Giovanni Boldini e Giuseppe de Nittis\, è l’occasione per gli Amici del Museo Poldi Pezzoli di ritornare a Novara per scoprire la città e il suo territorio.\nPrima tappa l’Abbazia dei Santi Nazario e Celso che risplende dal 1040 col suo rosso mattone nel verde di campagne che raccontano l’operosità umana: è protetta dalla cinta muraria e consta di numerosi ambienti ben conservati\, con volumi nitidi e forme architettoniche essenziali.  Ci sposteremo poi nel centro di Novara per visitare il Battistero\, il più antico edificio della città e una delle architetture paleocristiane più importanti di tutta l’Italia settentrionale. Risalgono all’inizio dell’undicesimo secolo i bellissimi affreschi recuperati negli anni sessanta da un restauro impegnativo; ad essi si aggiunge il Giudizio Universale del tardogotico Giovanni de Campo.  Dopo il pranzo in un ristorante tipico\, visiteremo la mostra “Boldini\, De Nittis e les Italiens de Paris” al Castello Visconteo che si conferma sede di mostre di contenuta estensione e notevole qualità. Parigi attira come il miele… Lo seppero bene quegli artisti italiani che con una permanenza chi più lunga\, chi più breve furono attivi in quella che allora era la capitale dell’arte negli ultimi due decenni dell’Ottocento e nei primi due del Novecento. I nostri giovani vi giunsero portando seco la propria tradizione artistica\, ma una volta approdati ai lidi della Modernità si lasciarono coinvolgere nella vertigine del cambiamento\, ed ecco che personalità in formazione diventano identità forti e coraggiose. In mostra dipinti celebri e anche lavori poco noti: vedute urbane\, interni intimi\, seducenti personaggi femminili. \nAssistenza storico-artistica: dott.ssa Paola Rapelli\nNell’ambito della giornata il gruppo sarà accompagnato dal Consigliere Cinzia Buccellato.\nRitrovo: ore 08.30 in Piazza IV Novembre all’angolo tra l’Hotel Gallia e la Stazione Centrale. Rientro a Milano nel tardo pomeriggio.\nQuota di partecipazione: 140 euro\nLa quota comprende: il pullman\, l’assistenza culturale\, il pranzo in un ristorante tipico\, gli ingressi\, i radiomicrofoni e le mance. \nPrenotazione e pagamento direttamente a questa pagina con carta credito o Paypal\nIn alternativa contattare la Segreteria amici@museopoldipezzoli.it – 366 5830536 ed effettuare il pagamento in Segreteria o con bonifico bancario:\nCASSA LOMBARDA – FILIALE 100 – Via Manzoni\, 14 – 20121 Milano\nIBAN: IT 75 U 03488 01601 000000020238\nIntestato a: Associazione Amici del Museo Poldi Pezzoli\nCausale: Novara – Nome e cognome del Socio
URL:https://amicipoldipezzoli.it/attivita/novara-2/
LOCATION:Novara\, Novara\, Italia
CATEGORIES:Itinerario fuori città
ATTACH;FMTTYPE=image/jpeg:https://amicipoldipezzoli.it/wp-content/uploads/2023/10/image008-1024x1024-1.jpg
ORGANIZER;CN="Amici Museo Poldi Pezzoli":MAILTO:amici@museopoldipezzoli.it
END:VEVENT
BEGIN:VEVENT
DTSTART;TZID=Europe/Rome:20231122T110000
DTEND;TZID=Europe/Rome:20231122T130000
DTSTAMP:20260419T200339
CREATED:20230915T102246Z
LAST-MODIFIED:20231116T085906Z
UID:10000092-1700650800-1700658000@amicipoldipezzoli.it
SUMMARY:Giorgio Morandi. Il silenzio parlante
DESCRIPTION:“Si può dipingere ogni cosa\, basta vederla”…questo soleva ripetere il Maestro bolognese\, ma è proprio in quel “basta vederla” che si annida il nucleo profondo di un pittore che sembra facile\, leggibile\, avvicinabile\, sicuramente più decodificabile del Cubismo di Picasso\,  ma che poi evidenzia questa sua incommensurabile capacità di sondare la realtà negli oggetti più quotidiani e nel saperne distillare l’essenza nascosta. Curata da Maria Cristina Bandera\, la rassegna\, ricca di prestiti da collezioni italiane e internazionali\, intende prenderci per mano e portarci nel mondo ascetico ed enigmatico di un artista che tutti ha conosciuto ma non è stato seguace di  nessuno\, amatissimo dai collezionisti\, ma la sua casa raramente era aperta\, protagonista silente come le sue Nature morte. Davanti ai suoi dipinti\, respireremo l’aria pirandelliana dei Sei personaggi in cerca d’autore …ed è subito sera. \nAssistenza storico-artistica: dott.ssa Alessandra Montalbetti\nRitrovo: ore 11.00 all’ingresso della mostra\, Palazzo Reale\, Piazza del Duomo 12\nQuota di partecipazione: 20 euro \nPrenotazione e pagamento direttamente a questa pagina con carta credito o Paypal\nIn alternativa contattare la Segreteria amici@museopoldipezzoli.it – 366 5830536 ed effettuare il pagamento in Segreteria o con bonifico bancario:\nCASSA LOMBARDA – FILIALE 100 – Via Manzoni\, 14 – 20121 Milano\nIBAN: IT 75 U 03488 01601 000000020238\nIntestato a: Associazione Amici del Museo Poldi Pezzoli\nCausale: Morandi – Nome e cognome del Socio
URL:https://amicipoldipezzoli.it/attivita/giorgio-morandi-il-silenzio-parlante/
LOCATION:Palazzo Reale\, Milano\, Italy
CATEGORIES:Visita guidata
ATTACH;FMTTYPE=image/jpeg:https://amicipoldipezzoli.it/wp-content/uploads/2023/09/C-12925-adb.jpg
ORGANIZER;CN="Amici Museo Poldi Pezzoli":MAILTO:amici@museopoldipezzoli.it
END:VEVENT
BEGIN:VEVENT
DTSTART;TZID=Europe/Rome:20231129T110000
DTEND;TZID=Europe/Rome:20231129T130000
DTSTAMP:20260419T200339
CREATED:20231114T104911Z
LAST-MODIFIED:20231114T110929Z
UID:10000101-1701255600-1701262800@amicipoldipezzoli.it
SUMMARY:L'arte del paravento in mostra alla Fondazione Prada
DESCRIPTION:Pittura o scultura? Arte o complemento d’arredo? Elemento utilitaristico oppure ornamentale? Decorativo\, funzionale\, architettonico o teatrale? La mostra “Paraventi: Folding Screens from the 17th to 21st Centuries”\, a cura di Nicholas Cullinan\, esamina con un approccio innovativo gli interrogativi e i paradossi che circondano la storia dei paraventi\, una storia di migrazione culturale (da Oriente a Occidente)\, di ibridazione (tra forme d’arte e funzioni diverse) e di ciò che viene celato e rivelato. Il progetto espositivo ideato dallo studio di architettura SANAA \, raccoglie negli spazi del Podium oltre settanta paraventi. Qui sono inclusi sia opere di grande valore storico sia lavori più recenti provenienti da musei internazionali e collezioni private\, oltre a una selezione di nuove creazioni appositamente commissionate per questo progetto a più di quindici artisti internazionali. \nAssistenza storico-artistica: dott.ssa Maria Vittoria Capitanucci\nRitrovo: ore 10.45 all’ingresso di Fondazione Prada\, Largo Isarco 2\nQuota di partecipazione: 25 euro \nPrenotazione direttamente su questa pagina con carta di credito o Paypal.\nIn alternativa contattare la Segreteria amici@museopoldipezzoli.it – 366 5830536 ed effettuare il pagamento in Segreteria o con bonifico bancario:\nCASSA LOMBARDA – FILIALE 100 – Via Manzoni\, 14 – 20121 Milano\nIBAN: IT 75 U 03488 01601 000000020238\nIntestato a: Associazione Amici del Museo Poldi Pezzoli\nCausale: Fond. Prada – Nome e cognome del Socio
URL:https://amicipoldipezzoli.it/attivita/paraventi/
LOCATION:Fondazione Prada\, Largo Isarco 2\, Milano
CATEGORIES:Visita guidata
ATTACH;FMTTYPE=image/jpeg:https://amicipoldipezzoli.it/wp-content/uploads/2023/11/fondazione-prada-paraventi-13-6539470d8ffe4.jpg
ORGANIZER;CN="Amici Museo Poldi Pezzoli":MAILTO:amici@museopoldipezzoli.it
END:VEVENT
END:VCALENDAR