BEGIN:VCALENDAR
VERSION:2.0
PRODID:-//Amici del Museo Poldi Pezzoli - ECPv6.15.20//NONSGML v1.0//EN
CALSCALE:GREGORIAN
METHOD:PUBLISH
X-ORIGINAL-URL:https://amicipoldipezzoli.it
X-WR-CALDESC:Eventi per Amici del Museo Poldi Pezzoli
REFRESH-INTERVAL;VALUE=DURATION:PT1H
X-Robots-Tag:noindex
X-PUBLISHED-TTL:PT1H
BEGIN:VTIMEZONE
TZID:Europe/Rome
BEGIN:DAYLIGHT
TZOFFSETFROM:+0100
TZOFFSETTO:+0200
TZNAME:CEST
DTSTART:20230326T010000
END:DAYLIGHT
BEGIN:STANDARD
TZOFFSETFROM:+0200
TZOFFSETTO:+0100
TZNAME:CET
DTSTART:20231029T010000
END:STANDARD
BEGIN:DAYLIGHT
TZOFFSETFROM:+0100
TZOFFSETTO:+0200
TZNAME:CEST
DTSTART:20240331T010000
END:DAYLIGHT
BEGIN:STANDARD
TZOFFSETFROM:+0200
TZOFFSETTO:+0100
TZNAME:CET
DTSTART:20241027T010000
END:STANDARD
BEGIN:DAYLIGHT
TZOFFSETFROM:+0100
TZOFFSETTO:+0200
TZNAME:CEST
DTSTART:20250330T010000
END:DAYLIGHT
BEGIN:STANDARD
TZOFFSETFROM:+0200
TZOFFSETTO:+0100
TZNAME:CET
DTSTART:20251026T010000
END:STANDARD
END:VTIMEZONE
BEGIN:VEVENT
DTSTART;TZID=Europe/Rome:20240116T150000
DTEND;TZID=Europe/Rome:20240116T170000
DTSTAMP:20260419T234557
CREATED:20230703T102933Z
LAST-MODIFIED:20231206T133624Z
UID:10000082-1705417200-1705424400@amicipoldipezzoli.it
SUMMARY:Arte contemporanea dall'Argentina
DESCRIPTION:Al Padiglione d’arte contemporanea prosegue l’indagine sull’arte extra-europea grazie alla presentazione di venti artisti argentini di diverse generazioni scelti da Andrés Duprat e Diego Sileo. Con sculture\, installazioni\, fotografie\, video e performance\, il progetto curatoriale si sviluppa su tre temi fondamentali quali ironia\, letteralità e citazione che presentano differenti modalità di approccio alla rappresentazione di una cultura spesso caratterizzata\, in passato così come oggi\, da forme di violenza. La rassegna racconta anche le molteplici sfumature di una nazione che\, per anni\, è stata la meta principale delle grandi migrazioni europee suscitando un brillante incontro di lingue e tradizioni diverse. I nomi presenti sono di grande spessore: da Lucio Fontana\, esempio di nato a Rosario di Santa Fé da emigrati italiani\, ad Adrián Villar Rojas\, scultore contemporaneo di fama mondiale\, al celeberrimo Tomás Saraceno\, più volte invitato alla Biennale di Venezia e molti atri. \nAssistenza storico-artistica: dott.ssa Alessandra Montalbetti\nRitrovo: ore 14.45 all’ingresso del PAC – Padiglione d’Arte Contemporanea\, via Palestro 14\nQuota di partecipazione: 20 euro \nPrenotazione e pagamento direttamente a questa pagina con carta credito o Paypal\nIn alternativa contattare la Segreteria amici@museopoldipezzoli.it – 366 5830536 ed effettuare il pagamento in Segreteria o con bonifico bancario:\nCASSA LOMBARDA – FILIALE 100 – Via Manzoni\, 14 – 20121 Milano\nIBAN: IT 75 U 03488 01601 000000020238\nIntestato a: Associazione Amici del Museo Poldi Pezzoli\nCausale: PAC – Nome e cognome del Socio \n 
URL:https://amicipoldipezzoli.it/attivita/artecontemporaneaargentina/
LOCATION:PAC\, Via Palestro 14\, Milano\, Italia
CATEGORIES:Visita guidata
ATTACH;FMTTYPE=image/jpeg:https://amicipoldipezzoli.it/wp-content/uploads/2023/07/ARGENTINA.jpg
ORGANIZER;CN="Amici Museo Poldi Pezzoli":MAILTO:amici@museopoldipezzoli.it
END:VEVENT
BEGIN:VEVENT
DTSTART;TZID=Europe/Rome:20240118T180000
DTEND;TZID=Europe/Rome:20240118T193000
DTSTAMP:20260419T234557
CREATED:20231218T094759Z
LAST-MODIFIED:20240115T102003Z
UID:10000120-1705600800-1705606200@amicipoldipezzoli.it
SUMMARY:Gio Ponti e il Museo di Doccia
DESCRIPTION:In occasione della mostra ORO BIANCO. Tre secoli di porcellane Ginori siamo lieti di invitare gli Amici del Museo Poldi Pezzoli alla presentazione del catalogo\nGio Ponti e il Museo di Doccia\nIntervengono Oliva Rucellai\, capo conservatrice Museo Ginori e Marco Sammicheli\, Direttore del Museo del Design Italiano Triennale Milano\nIntroduce Livia Frescobaldi\, Presidente degli Amici di Doccia\nSaluti di Aldo Citterio\, Presidente degli Amici del Museo Poldi Pezzoli \nLe ceramiche disegnate da Gio Ponti per la Richard-Ginori sono ben note ai collezionisti e agli studiosi di design di tutto il mondo. Le loro qualità estetiche\, per l’originalità delle invenzioni di Ponti e l’esecuzione impeccabile\, sono spesso esaltate\, ma nessuno aveva in passato affrontato uno studio filologico sistematico di tutto il corpus conservato presso il Museo di Doccia. Il progetto editoriale della Associazione Amici di Doccia dedicato alla pubblicazione del catalogo completo delle opere di Gio Ponti al Museo di Doccia prende le mosse dal lavoro di ricerca sulle fonti iconografiche\, svolto dalla dott.ssa Maria Teresa Giovannini in occasione della sua tesi di laurea nel 2007. Il volume ha l’obiettivo di dare al corpus delle ceramiche di Gio Ponti un preciso ordinamento cronologico\, ad oggi mancante\, fondato sullo spoglio del carteggio e di tutta la documentazione conservata nell’archivio del Museo. Riannodando tutti i fili che legano l’esplosione figurativa delle ceramiche di Gio Ponti al mondo e alla cultura del tempo il catalogo costituisce il fondamento necessario per comprenderne il suo stile in profondità e per valorizzare l’immenso patrimonio di cui il Museo di Doccia è custode. \nIngresso libero fino ad esaurimento dei posti disponibili.\nPosti limitati. Prenotazione direttamente a questa pagina oppure scrivendo a relazioni_istituzionali@museopoldipezzoli.it \nScarica QUI la locandina
URL:https://amicipoldipezzoli.it/attivita/gioponti-2/
LOCATION:Museo Poldi Pezzoli\, Via Manzoni 12\, Milano\, Italy
CATEGORIES:Conferenza
ATTACH;FMTTYPE=image/jpeg:https://amicipoldipezzoli.it/wp-content/uploads/2023/10/invito-20maggio08b.jpg
ORGANIZER;CN="Amici Museo Poldi Pezzoli":MAILTO:amici@museopoldipezzoli.it
END:VEVENT
BEGIN:VEVENT
DTSTART;TZID=Europe/Rome:20240122T160000
DTEND;TZID=Europe/Rome:20240122T180000
DTSTAMP:20260419T234557
CREATED:20231213T092959Z
LAST-MODIFIED:20240110T114708Z
UID:10000103-1705939200-1705946400@amicipoldipezzoli.it
SUMMARY:È l'ora del tè
DESCRIPTION:In occasione di Oro bianco. Tre secoli di porcellane Ginori gli Amici del Museo Poldi Pezzoli organizzano\, in collaborazione con il Museo Poldi Pezzoli\, un ciclo di visite guidate alla mostra Ginori seguite da una degustazione del tè curata da Dammnnan Frères e con la partecipazione di Farage Milano. \nCALENDARIO APPUNTAMENTI\nLunedì 22 gennaio – Ore 16.00\nLunedì 29 gennaio – Ore 16.00\nLunedì 5 febbraio – Ore 15.00 \nQuota di partecipazione: 20 euro\nPosti limitati. Prenotazione e pagamento direttamente a questa pagina con carta credito o Paypal \nIn alternativa contattare la Segreteria amici@museopoldipezzoli.it – 366 5830536 ed effettuare il pagamento in Segreteria o con bonifico bancario:\nCASSA LOMBARDA – FILIALE 100 – Via Manzoni\, 14 – 20121 Milano\nIBAN: IT 75 U 03488 01601 000000020238\nIntestato a: Associazione Amici del Museo Poldi Pezzoli ETS\nCausale: Tè + data – Nome e cognome del Socio \nScarica QUI la locandina
URL:https://amicipoldipezzoli.it/attivita/te/
LOCATION:Museo Poldi Pezzoli\, Via Manzoni 12\, Milano\, Italy
CATEGORIES:Visita guidata
ATTACH;FMTTYPE=image/jpeg:https://amicipoldipezzoli.it/wp-content/uploads/2023/12/Oro-Bianco-la-Mostra-scaled-1.jpg
ORGANIZER;CN="Amici Museo Poldi Pezzoli":MAILTO:amici@museopoldipezzoli.it
END:VEVENT
BEGIN:VEVENT
DTSTART;TZID=Europe/Rome:20240124T173000
DTEND;TZID=Europe/Rome:20240124T193000
DTSTAMP:20260419T234557
CREATED:20231221T101443Z
LAST-MODIFIED:20240122T083757Z
UID:10000122-1706117400-1706124600@amicipoldipezzoli.it
SUMMARY:Moroni. Il ritratto del suo tempo
DESCRIPTION:La mostra “Moroni (1521-1580). Il ritratto del suo tempo” intende celebrare l’artista bergamasco\, tra i maggiori interpreti della pittura rinascimentale lombarda. Autore anche di significative opere devozionali\, presenti in mostra\, Moroni è però noto soprattutto per la sua innovativa attività di ritrattista.  Molti i ritratti realizzati dall’artista qui esposti definiti “ritratti in azione”\, moderne raffigurazioni di personaggi che\, attraverso un gesto\, uno sguardo\, entrano in contatto con lo spettatore superando la lontananza emotiva e la staticità della ritrattistica ufficiale. L’esposizione milanese\, attraverso nove sezioni\, intende restituire un’immagine a tutto tondo del pittore a partire dai suoi esordi presso la bottega del Moretto per proseguire con il confronto con altri artisti contemporanei attivi in area lombarda quali Lorenzo Lotto\, Gerolamo Savoldo e Moretto. Al fine di raggiungere la massima completezza espositiva\, i dipinti sono affiancati ad opere di Tiziano\, Veronese e Tintoretto\, per delineare un dialogo con le produzioni artistiche del tempo\, spaziando anche oltre i confini regionali. \nAssistenza storico-artistica: Dott. Giovanni Morale\, Vicedirettore Gallerie d’Italia di Milano\nRitrovo: ore 17.15 all’ingresso delle Gallerie d’Italia\, Piazza Scala\nQuota di partecipazione: 15 euro \nPrenotazione e pagamento direttamente a questa pagina con carta credito o Paypal\nIn alternativa contattare la Segreteria amici@museopoldipezzoli.it – 366 5830536 ed effettuare il pagamento in Segreteria o con bonifico bancario:\nCASSA LOMBARDA – FILIALE 100 – Via Manzoni\, 14 – 20121 Milano\nIBAN: IT 75 U 03488 01601 000000020238\nIntestato a: Associazione Amici del Museo Poldi Pezzoli\nCausale: Moroni – Nome e cognome del Socio \n 
URL:https://amicipoldipezzoli.it/attivita/moroni/
LOCATION:Gallerie d’Italia\, Piazza Scala\, Milano\, Milano\, Italia
CATEGORIES:Visita guidata
ATTACH;FMTTYPE=image/jpeg:https://amicipoldipezzoli.it/wp-content/uploads/2023/12/jcr_content.jpg
ORGANIZER;CN="Amici Museo Poldi Pezzoli":MAILTO:amici@museopoldipezzoli.it
END:VEVENT
BEGIN:VEVENT
DTSTART;TZID=Europe/Rome:20240126T173000
DTEND;TZID=Europe/Rome:20240126T183000
DTSTAMP:20260419T234557
CREATED:20231116T092516Z
LAST-MODIFIED:20240122T092245Z
UID:10000102-1706290200-1706293800@amicipoldipezzoli.it
SUMMARY:Letizia Battaglia. Storie di libertà ritrovata
DESCRIPTION:Per il decennale del progetto Law is Art! LCA Studio Legale sceglie Letizia Battaglia (1935-2022) celebre fotografa e principale testimone femminile della cronaca siciliana tra gli anni Settanta e Novanta. Con uno sguardo visionario\, empatico e attento ha raccontato senza edulcorazioni la complessità di Palermo. Tra gli anni Settanta e Novanta Letizia Battaglia è stata la principale testimone femminile della cronaca palermitana: spinta da un naturale istinto alla militanza socio-politica\, da uno sguardo vivace ed empatico e con la macchina fotografica tra le mani\, ha raccontato senza patinature ed edulcorazione bellezze e orrori di una città contraddittoria come Palermo: attentati per mano mafiosa e arresti nell’ambito della cronaca nera\, feste di artisti e aristocratici\, sprazzi di ironica semplicità nella spiaggia di Mondello. E ancora\, ritratti di magistrati come Giovanni Falcone e di madri di vittime della mafia come Felicia Bartolotta Impastato\, i bambini e le bambine per le strade della città spesso in contesti inusuali per la loro età. \nAssistenza storico-artistica: Avv. Maria Grazia Longoni Palmigiano e Dott.ssa Maria Paola Cavallo\nRitrovo: ore 17.20 in Via della Moscova 18 all’ingresso del palazzo\nPartecipazione gratuita.\nPrenotazione direttamente a questa pagina oppure scrivendo una mail a: amici@museopoldipezzoli.it \nGRAZIE A
URL:https://amicipoldipezzoli.it/attivita/letiziabattaglia/
LOCATION:LCA Studio Legale\, Via della Moscova 18\, Milano\, Italia
CATEGORIES:Visita guidata
ATTACH;FMTTYPE=image/png:https://amicipoldipezzoli.it/wp-content/uploads/2023/11/Screenshot-2023-10-30-134001.png
ORGANIZER;CN="Amici Museo Poldi Pezzoli":MAILTO:amici@museopoldipezzoli.it
END:VEVENT
BEGIN:VEVENT
DTSTART;TZID=Europe/Rome:20240129T160000
DTEND;TZID=Europe/Rome:20240129T180000
DTSTAMP:20260419T234557
CREATED:20231213T093321Z
LAST-MODIFIED:20240118T111954Z
UID:10000104-1706544000-1706551200@amicipoldipezzoli.it
SUMMARY:È l'ora del tè
DESCRIPTION:In occasione di Oro bianco. Tre secoli di porcellane Ginori gli Amici del Museo Poldi Pezzoli organizzano\, in collaborazione con il Museo Poldi Pezzoli\, un ciclo di visite guidate alla mostra Ginori seguite da una degustazione del tè curata da Dammnnan Frères e con la partecipazione di Farage Milano. \nCALENDARIO APPUNTAMENTI\nLunedì 22 gennaio – Ore 16.00\nLunedì 29 gennaio – Ore 16.00\nLunedì 5 febbraio – Ore 15.00 \nQuota di partecipazione: 20 euro\nPosti limitati. Prenotazione e pagamento direttamente a questa pagina con carta credito o Paypal \nIn alternativa contattare la Segreteria amici@museopoldipezzoli.it – 366 5830536 ed effettuare il pagamento in Segreteria o con bonifico bancario:\nCASSA LOMBARDA – FILIALE 100 – Via Manzoni\, 14 – 20121 Milano\nIBAN: IT 75 U 03488 01601 000000020238\nIntestato a: Associazione Amici del Museo Poldi Pezzoli ETS\nCausale: Tè + data – Nome e cognome del Socio \nScarica QUI la locandina
URL:https://amicipoldipezzoli.it/attivita/e-lora-del-te/
LOCATION:Museo Poldi Pezzoli\, Via Manzoni 12\, Milano\, Italy
CATEGORIES:Visita guidata
ATTACH;FMTTYPE=image/png:https://amicipoldipezzoli.it/wp-content/uploads/2023/12/Screenshot-2023-12-18-110015.png
ORGANIZER;CN="Amici Museo Poldi Pezzoli":MAILTO:amici@museopoldipezzoli.it
END:VEVENT
BEGIN:VEVENT
DTSTART;TZID=Europe/Rome:20240130T150000
DTEND;TZID=Europe/Rome:20240130T170000
DTSTAMP:20260419T234557
CREATED:20230703T103531Z
LAST-MODIFIED:20240112T100228Z
UID:10000083-1706626800-1706634000@amicipoldipezzoli.it
SUMMARY:Rodin e la danza\, una scoperta
DESCRIPTION:Questa rassegna ci immerge subito nella scintillante atmosfera artistica e culturale della Parigi della Belle Époque e delle Esposizioni Universali e ci permette di esplorare un aspetto inedito di uno degli scultori più celebri e studiati al mondo. Quando Rodin è impegnato con l’allestimento della sua più importante rassegna a Place de l’Alma\, conosce la danzatrice Loïe Fuller con la sua “danza serpentina”\, musa ispiratrice  anche per Toulouse Lautrec; i successivi incontri con Isadora Duncan e due ballerine cambogiane\, giunta a Marsiglia nel 1906 al seguito del re Sisowath\, spingono lo scultore ad approfondire il tema del movimento e delle potenzialità espressive del corpo. \nAssistenza storico-artistica: dott.ssa Alessandra Montalbetti\nRitrovo: ore 15.00 all’ingresso del MUDEC\, via Tortona 56.\nQuota di partecipazione: 25 euro \nPrenotazione e pagamento direttamente a questa pagina con carta credito o Paypal\nIn alternativa contattare la Segreteria amici@museopoldipezzoli.it – 366 5830536 ed effettuare il pagamento in Segreteria o con bonifico bancario:\nCASSA LOMBARDA – FILIALE 100 – Via Manzoni\, 14 – 20121 Milano\nIBAN: IT 75 U 03488 01601 000000020238\nIntestato a: Associazione Amici del Museo Poldi Pezzoli\nCausale: Rodin – Nome e cognome del Socio
URL:https://amicipoldipezzoli.it/attivita/rodin/
LOCATION:Mudec\, Milano\, Italy
CATEGORIES:Visita guidata
ATTACH;FMTTYPE=image/png:https://amicipoldipezzoli.it/wp-content/uploads/2023/07/Immagine-2023-07-03-123127.png
ORGANIZER;CN="Amici Museo Poldi Pezzoli":MAILTO:amici@museopoldipezzoli.it
END:VEVENT
END:VCALENDAR