BEGIN:VCALENDAR
VERSION:2.0
PRODID:-//Amici del Museo Poldi Pezzoli - ECPv6.15.20//NONSGML v1.0//EN
CALSCALE:GREGORIAN
METHOD:PUBLISH
X-WR-CALNAME:Amici del Museo Poldi Pezzoli
X-ORIGINAL-URL:https://amicipoldipezzoli.it
X-WR-CALDESC:Eventi per Amici del Museo Poldi Pezzoli
REFRESH-INTERVAL;VALUE=DURATION:PT1H
X-Robots-Tag:noindex
X-PUBLISHED-TTL:PT1H
BEGIN:VTIMEZONE
TZID:Europe/Rome
BEGIN:DAYLIGHT
TZOFFSETFROM:+0100
TZOFFSETTO:+0200
TZNAME:CEST
DTSTART:20230326T010000
END:DAYLIGHT
BEGIN:STANDARD
TZOFFSETFROM:+0200
TZOFFSETTO:+0100
TZNAME:CET
DTSTART:20231029T010000
END:STANDARD
BEGIN:DAYLIGHT
TZOFFSETFROM:+0100
TZOFFSETTO:+0200
TZNAME:CEST
DTSTART:20240331T010000
END:DAYLIGHT
BEGIN:STANDARD
TZOFFSETFROM:+0200
TZOFFSETTO:+0100
TZNAME:CET
DTSTART:20241027T010000
END:STANDARD
BEGIN:DAYLIGHT
TZOFFSETFROM:+0100
TZOFFSETTO:+0200
TZNAME:CEST
DTSTART:20250330T010000
END:DAYLIGHT
BEGIN:STANDARD
TZOFFSETFROM:+0200
TZOFFSETTO:+0100
TZNAME:CET
DTSTART:20251026T010000
END:STANDARD
END:VTIMEZONE
BEGIN:VEVENT
DTSTART;TZID=Europe/Rome:20240205T153000
DTEND;TZID=Europe/Rome:20240205T180000
DTSTAMP:20260420T012938
CREATED:20231213T093857Z
LAST-MODIFIED:20240131T092616Z
UID:10000105-1707147000-1707156000@amicipoldipezzoli.it
SUMMARY:È l'ora del tè
DESCRIPTION:In occasione di Oro bianco. Tre secoli di porcellane Ginori gli Amici del Museo Poldi Pezzoli organizzano\, in collaborazione con il Museo Poldi Pezzoli\, un ciclo di visite guidate alla mostra Ginori seguite da una degustazione del tè curata da Dammnnan Frères e con la partecipazione di Farage Milano. \nCALENDARIO APPUNTAMENTI\nLunedì 22 gennaio – Ore 16.00\nLunedì 29 gennaio – Ore 16.00\nLunedì 5 febbraio – Ore 15.30\nLunedì 12 febbraio – Ore 16.00 \nQuota di partecipazione: 20 euro\nPosti limitati. Prenotazione e pagamento direttamente a questa pagina con carta credito o Paypal \nIn alternativa contattare la Segreteria amici@museopoldipezzoli.it – 366 5830536 ed effettuare il pagamento in Segreteria o con bonifico bancario:\nCASSA LOMBARDA – FILIALE 100 – Via Manzoni\, 14 – 20121 Milano\nIBAN: IT 75 U 03488 01601 000000020238\nIntestato a: Associazione Amici del Museo Poldi Pezzoli ETS\nCausale: Tè + data – Nome e cognome del Socio \nScarica QUI la locandina
URL:https://amicipoldipezzoli.it/attivita/e-lora-del-te-2/
LOCATION:Museo Poldi Pezzoli\, Via Manzoni 12\, Milano\, Italy
CATEGORIES:Visita guidata
ATTACH;FMTTYPE=image/jpeg:https://amicipoldipezzoli.it/wp-content/uploads/2023/12/63469494-6df6-4d93-9f94-7f28aac2d6d2.jpeg
ORGANIZER;CN="Amici Museo Poldi Pezzoli":MAILTO:amici@museopoldipezzoli.it
END:VEVENT
BEGIN:VEVENT
DTSTART;TZID=Europe/Rome:20240207T103000
DTEND;TZID=Europe/Rome:20240207T120000
DTSTAMP:20260420T012938
CREATED:20231215T092826Z
LAST-MODIFIED:20231215T094848Z
UID:10000114-1707301800-1707307200@amicipoldipezzoli.it
SUMMARY:La storia milanese dell'Ordine dei Minimi di San Francesco di Paola: il Santuario di Santa Maria alla Fontana
DESCRIPTION:All’inizio del 1500 c’era e c’è ancora\, una depressione naturale del terreno con una polla d’acqua sorgiva; ad essa si attribuivano virtù taumaturgiche grazie all’intercessione della Vergine. I milanesi conoscevano l’esistenza della fonte miracolosa e si recavano a  pregare e a chiedere grazie presso il   sacello mariano. I monaci benedettini di S. Simpliciano proprietari dei terreni della Fontana\, per rispondere alle pressanti richieste dei fedeli\, decisero di costruire un santuario proprio dove si trovava la sorgente. Il santuario è costituito da una cappella quadrata\, al cui interno si trova la fonte\, e da un vano retrostante\, adibito dai monaci prima a farmacia e poi a sacrestia. La cappella ha tre ingressi che si aprono su due chiostri\, collegati da un porticato che si estende su tutta la larghezza del complesso. Luogo di cura e preghiera il complesso della Fontana era con la Ca’ Granda e il Lazzaretto un importante centro di assistenza sanitaria della città di Milano. \nAssistenza storico-artistica: dott.ssa Barbara Pasolini\nRitrovo ore 10.15 piazza Santa Maria alla Fontana (metropolitana linea gialla fermata Maciachini)\nQuota di partecipazione: 20 euro \nPrenotazione e pagamento direttamente a questa pagina con carta credito o Paypal\nIn alternativa contattare la Segreteria amici@museopoldipezzoli.it – 366 5830536 ed effettuare il pagamento in Segreteria o con bonifico bancario:\nCASSA LOMBARDA – FILIALE 100 – Via Manzoni\, 14 – 20121 Milano\nIBAN: IT 75 U 03488 01601 000000020238\nIntestato a: Associazione Amici del Museo Poldi Pezzoli\nCausale: Santa Maria Fontana– Nome e cognome del Socio \n 
URL:https://amicipoldipezzoli.it/attivita/santamariafontana/
LOCATION:Santa Maria alla Fontana\, Milano\, Italia
CATEGORIES:Visita guidata
ATTACH;FMTTYPE=image/jpeg:https://amicipoldipezzoli.it/wp-content/uploads/2023/12/1598361490.jpg
ORGANIZER;CN="Amici Museo Poldi Pezzoli":MAILTO:amici@museopoldipezzoli.it
END:VEVENT
BEGIN:VEVENT
DTSTART;TZID=Europe/Rome:20240212T160000
DTEND;TZID=Europe/Rome:20240212T180000
DTSTAMP:20260420T012938
CREATED:20240131T092335Z
LAST-MODIFIED:20240206T110824Z
UID:10000125-1707753600-1707760800@amicipoldipezzoli.it
SUMMARY:È l'ora del tè
DESCRIPTION:In occasione di Oro bianco. Tre secoli di porcellane Ginori gli Amici del Museo Poldi Pezzoli organizzano\, in collaborazione con il Museo Poldi Pezzoli\, un ciclo di visite guidate alla mostra Ginori seguite da una degustazione del tè curata da Dammnnan Frères e con la partecipazione di Farage Milano. \nCALENDARIO APPUNTAMENTI\nLunedì 22 gennaio – Ore 16.00\nLunedì 29 gennaio – Ore 16.00\nLunedì 5 febbraio – Ore 15.30\nLunedì 12 febbraio – Ore 16.00 \nQuota di partecipazione: 20 euro\nPosti limitati. Prenotazione e pagamento direttamente a questa pagina con carta credito o Paypal \nIn alternativa contattare la Segreteria amici@museopoldipezzoli.it – 366 5830536 ed effettuare il pagamento in Segreteria o con bonifico bancario:\nCASSA LOMBARDA – FILIALE 100 – Via Manzoni\, 14 – 20121 Milano\nIBAN: IT 75 U 03488 01601 000000020238\nIntestato a: Associazione Amici del Museo Poldi Pezzoli ETS\nCausale: Tè + data – Nome e cognome del Socio \nScarica QUI la locandina
URL:https://amicipoldipezzoli.it/attivita/e-lora-del-te-3/
LOCATION:Museo Poldi Pezzoli\, Via Manzoni 12\, Milano\, Italy
CATEGORIES:Visita guidata
ATTACH;FMTTYPE=image/jpeg:https://amicipoldipezzoli.it/wp-content/uploads/2024/01/1706609287562-scaled.jpg
ORGANIZER;CN="Amici Museo Poldi Pezzoli":MAILTO:amici@museopoldipezzoli.it
END:VEVENT
BEGIN:VEVENT
DTSTART;TZID=Europe/Rome:20240213T113000
DTEND;TZID=Europe/Rome:20240213T133000
DTSTAMP:20260420T012938
CREATED:20231215T094119Z
LAST-MODIFIED:20231215T094119Z
UID:10000115-1707823800-1707831000@amicipoldipezzoli.it
SUMMARY:Goya. La ribellione della ragione
DESCRIPTION:Francisco José de Goya y Lucientes (1746-1928) è uno dei grandi protagonisti a livello europeo del tramonto dell’arte dell’ancien régime e della faticosa nascita di quella della modernità. Goya vive in prima persona i travagli\, le violenze e l’intensa stagione delle rivoluzioni politiche\, sociali e culturali dell’età napoleonica e della successiva restaurazione. La mostra\, a cura del Prof. Víctor Nieto Alcaide\, racconta attraverso più di 80 dipinti\, incisioni\, stampe e matrici in rame i retroscena e il mondo fantastico di Goya\, la sua esperienza della Storia\, la sua attitudine di artista\, il suo pensiero e la sua ideologia\, e diversamente dalle numerose esposizioni di carattere antologico degli ultimi anni dedicate al maestro spagnolo\, propone al visitatore le opere che meglio descrivono l’evoluzione artistica di Goya e i temi da lui trattati raccontando però anche l’uomo e contemporaneamente l’instabile quanto cruento contesto storico e sociale che plasmò in maniera così unica il suo animo artistico e il suo pensiero intellettuale. \nAssistenza storico-artistica: dott. Stefano Zuffi\, autore del volume “Francisco Goya. Una vita per l’arte”\nRitrovo: ore 11.30 all’ingresso della mostra a Palazzo Reale\nQuota di partecipazione: 25 euro \nPrenotazione e pagamento direttamente a questa pagina con carta credito o Paypal\nIn alternativa contattare la Segreteria amici@museopoldipezzoli.it – 366 5830536 ed effettuare il pagamento in Segreteria o con bonifico bancario:\nCASSA LOMBARDA – FILIALE 100 – Via Manzoni\, 14 – 20121 Milano\nIBAN: IT 75 U 03488 01601 000000020238\nIntestato a: Associazione Amici del Museo Poldi Pezzoli\nCausale: Goya – Nome e cognome del Socio \n 
URL:https://amicipoldipezzoli.it/attivita/goya-2/
LOCATION:Palazzo Reale\, Milano\, Italy
CATEGORIES:Visita guidata
ATTACH;FMTTYPE=image/jpeg:https://amicipoldipezzoli.it/wp-content/uploads/2023/12/Goya-La-decapitazione.jpg
ORGANIZER;CN="Amici Museo Poldi Pezzoli":MAILTO:amici@museopoldipezzoli.it
END:VEVENT
BEGIN:VEVENT
DTSTART;TZID=Europe/Rome:20240215T110000
DTEND;TZID=Europe/Rome:20240215T130000
DTSTAMP:20260420T012938
CREATED:20231218T083906Z
LAST-MODIFIED:20240112T103540Z
UID:10000119-1707994800-1708002000@amicipoldipezzoli.it
SUMMARY:I tesori della Pinacoteca Ambrosiana
DESCRIPTION:Ci sono musei che custodiscono tesori d’arte  con particolare  discrezione\, senza ostentarli\, ma quasi celandoli… tra questi sicuramente spicca la Pinacoteca Ambrosiana\, che nel cuore della città\,  con meneghino understatement \, vanta una collezione di  altissimo livello . Nata dal nucleo storico della raccolta di Federico Borromeo\, donata nel 1618\, in stretta relazione con la Biblioteca fondata nel 1609 -dove si conserva il Codice Atlantico di Leonardo- la Pinacoteca  vanta alcuni capolavori  assoluti\, come il cartone della “ Scuola di Atene “ di Raffaello\,  la “Canestra di frutta” di Caravaggio \,il “Ritratto di musico” di Leonardo\, su cui ci soffermeremo.  Poi \, la nostra diventerà una passeggiata tra dipinti “del cuore”\, come lo straordinario “Riposo nella fuga in Egitto” di Jacopo Bassano\, summa del cromatismo sontuoso di marca veneta; o il commovente “Presepe” di Federico Barocci \,che tocca le corde dell’emotività; o i paesaggi micromegalici di Breughel dei Velluti o di Paul Brill\, dalle tonalità profonde e luminose al tempo stesso ; e ancora l’iconica “Madonna delle due torri” dell’enigmatico Bramantino\, l’elegante “Madonna del padiglione” di Botticelli\, quintessenza della raffinatezza disegnativa di matrice toscana\, le  smaltate nature morte  di Fede Galizia … Gioia per gli occhi\, nutrimento per lo spirito. \nAssistenza storico-artistica: dott.ssa Alessandra Novellone\nRitrovo: ore 10.45 all’ingresso della Pinacoteca in Piazza Pio XI\, 2\nQuota di partecipazione: 25 euro \nPrenotazione e pagamento direttamente a questa pagina con carta credito o Paypal\nIn alternativa contattare la Segreteria amici@museopoldipezzoli.it – 366 5830536 ed effettuare il pagamento in Segreteria o con bonifico bancario:\nCASSA LOMBARDA – FILIALE 100 – Via Manzoni\, 14 – 20121 Milano\nIBAN: IT 75 U 03488 01601 000000020238\nIntestato a: Associazione Amici del Museo Poldi Pezzoli\nCausale: Ambrosiana – Nome e cognome del Socio \n 
URL:https://amicipoldipezzoli.it/attivita/ambrosiana/
LOCATION:Pinacoteca Ambrosiana\, Piazza Pio XI\, 2\, Milano\, Italia
CATEGORIES:Visita guidata
ATTACH;FMTTYPE=image/jpeg:https://amicipoldipezzoli.it/wp-content/uploads/2023/12/2265-Leonardo_da_Vinci_Ritratto_di_un_musico.jpg
ORGANIZER;CN="Amici Museo Poldi Pezzoli":MAILTO:amici@museopoldipezzoli.it
END:VEVENT
BEGIN:VEVENT
DTSTART;TZID=Europe/Rome:20240223T180000
DTEND;TZID=Europe/Rome:20240223T193000
DTSTAMP:20260420T012938
CREATED:20240208T104056Z
LAST-MODIFIED:20240220T083538Z
UID:10000128-1708711200-1708716600@amicipoldipezzoli.it
SUMMARY:La collezione d’arte di Franco Maria Ricci al Labirinto della Masone
DESCRIPTION:Venerdì 23 febbraio 2024 alle ore 18.00 il Museo Poldi Pezzoli ospita la presentazione del volume La collezione d’arte di Franco Maria Ricci al Labirinto della Masone. \nSaluti di Alessandra Quarto (Direttrice del Museo Poldi Pezzoli)\nIntervengono Marco Carminati (Giornalista)\, Laura Casalis Ricci (Presidente della Fondazione Franco Maria Ricci) e Andrea Daninos (Storico dell’arte). \nFrutto di un lavoro di studio e redazione durato diversi anni\, esplora dettagliatamente l’intera raccolta d’arte di Franco Maria Ricci che oggi è visibile\, in gran parte\, nelle sale espositive del Labirinto della Masone\, complesso da lui immaginato e realizzato della sua tenuta di campagna a Fontanellato (Parma). \nL’evento è l’occasione per ripercorrere\, seguendo la scansione del libro\, la storia di Franco Maria Ricci (1937-2020) e della sua collezione\, i viaggi e le inattese scoperte di un cercatore attento e geniale. Il collezionismo alla maniera di Ricci\, sfaccettato\, guidato contemporaneamente da istinto\, cultura e gusto personale e alimentato dai suoi rapporti con gli antiquari e con gli specialisti d’arte\, si intreccia con le sue scelte editoriali\, in particolare quelle a cavallo tra gli anni Settanta e gli anni Novanta del Novecento. \nCorredato da grandi immagini a piena pagina\, il libro rivela intuizioni e predilezioni del collezionista: le Vanitas\, la scuola emiliana\, la grande scultura del Settecento\, passando per i busti neoclassici della brulicante famiglia Bonaparte e la pittura romantica e popolare\, fino ad incursioni meno numerose ma accuratamente scelte nel XX secolo\, con le opere di Wildt\, Andreotti\, Savinio\, Erté. Altra “fissazione” di Ricci era quella per i busti: a muoverla\, uno spiccato interesse per la figura umana\, in tutte le sue manifestazioni\, mediata dell’occhio e della mano dell’artista\, sempre percepibili. \nPosti limitati. Ingresso gratuito.\nPrenotazione obbligatoria scrivendo a: relazioni_istituzionali@museopoldipezzoli.it \nScarica QUI l’invito
URL:https://amicipoldipezzoli.it/attivita/francomariaricci/
LOCATION:Museo Poldi Pezzoli\, Via Manzoni 12\, Milano\, Italy
CATEGORIES:Conferenza
ATTACH;FMTTYPE=image/png:https://amicipoldipezzoli.it/wp-content/uploads/2024/02/Ricci.png
ORGANIZER;CN="Amici Museo Poldi Pezzoli":MAILTO:amici@museopoldipezzoli.it
END:VEVENT
END:VCALENDAR