BEGIN:VCALENDAR
VERSION:2.0
PRODID:-//Amici del Museo Poldi Pezzoli - ECPv6.15.20//NONSGML v1.0//EN
CALSCALE:GREGORIAN
METHOD:PUBLISH
X-WR-CALNAME:Amici del Museo Poldi Pezzoli
X-ORIGINAL-URL:https://amicipoldipezzoli.it
X-WR-CALDESC:Eventi per Amici del Museo Poldi Pezzoli
REFRESH-INTERVAL;VALUE=DURATION:PT1H
X-Robots-Tag:noindex
X-PUBLISHED-TTL:PT1H
BEGIN:VTIMEZONE
TZID:Europe/Rome
BEGIN:DAYLIGHT
TZOFFSETFROM:+0100
TZOFFSETTO:+0200
TZNAME:CEST
DTSTART:20230326T010000
END:DAYLIGHT
BEGIN:STANDARD
TZOFFSETFROM:+0200
TZOFFSETTO:+0100
TZNAME:CET
DTSTART:20231029T010000
END:STANDARD
BEGIN:DAYLIGHT
TZOFFSETFROM:+0100
TZOFFSETTO:+0200
TZNAME:CEST
DTSTART:20240331T010000
END:DAYLIGHT
BEGIN:STANDARD
TZOFFSETFROM:+0200
TZOFFSETTO:+0100
TZNAME:CET
DTSTART:20241027T010000
END:STANDARD
BEGIN:DAYLIGHT
TZOFFSETFROM:+0100
TZOFFSETTO:+0200
TZNAME:CEST
DTSTART:20250330T010000
END:DAYLIGHT
BEGIN:STANDARD
TZOFFSETFROM:+0200
TZOFFSETTO:+0100
TZNAME:CET
DTSTART:20251026T010000
END:STANDARD
END:VTIMEZONE
BEGIN:VEVENT
DTSTART;TZID=Europe/Rome:20240301T103000
DTEND;TZID=Europe/Rome:20240301T123000
DTSTAMP:20260420T033805
CREATED:20240119T105245Z
LAST-MODIFIED:20240220T082936Z
UID:10000124-1709289000-1709296200@amicipoldipezzoli.it
SUMMARY:Palazzo Clerici
DESCRIPTION:Palazzo Clerici rappresenta a Milano\, un tipico esempio di architettura tardo barocca e una delle più ricche e fastose dimore private del Settecento. La facciata è semplice e austera\, ma nasconde al suo interno ambienti  riccamente decorati e arredati. Il palazzo fu costruito dai Visconti e poi venduto nel XVII secolo alla famiglia Clerici\, famiglia originaria di Como\, dedita al commercio della seta. La lussuosa residenza dei Clerici fu trasformata e portata al suo massimo splendore da Giorgio Antonio Clerici\, marchese di Cavenago. Nel 1736 palazzo Clerici fu ereditato dal giovane Antonio Clerici\, che affrontò enormi spese per ampliare e decorare il palazzo di Milano. Fu Antonio a chiamare\, nel 1740\, il  celebre pittore Giovan Battista Tiepolo per affrescare la volta della galleria principale.  Una meravigliosa sala con pareti completamente rivestite da boiseries\, stucchi dorati\, specchiere\, arazzi  e con un soffitto  splendidamente affrescato raffigurante Il Carro del Sole in un cielo costellato dalle divinità dell’Olimpo. \nAssistenza storico-artistica: dott.ssa Barbara Pasolini\nRitrovo ore 10.15 in via Clerici 5\nQuota di partecipazione: 20 euro \nPrenotazione e pagamento direttamente a questa pagina con carta credito o Paypal\nIn alternativa contattare la Segreteria amici@museopoldipezzoli.it – 366 5830536 ed effettuare il pagamento in Segreteria o con bonifico bancario:\nCASSA LOMBARDA – FILIALE 100 – Via Manzoni\, 14 – 20121 Milano\nIBAN: IT 75 U 03488 01601 000000020238\nIntestato a: Associazione Amici del Museo Poldi Pezzoli\nCausale: Palazzo Clerici – Nome e cognome del Socio \n 
URL:https://amicipoldipezzoli.it/attivita/palazzoclerici/
LOCATION:Palazzo Clerici\, Via Clerici 5\, Milano\, Italia
CATEGORIES:Visita guidata
ATTACH;FMTTYPE=image/jpeg:https://amicipoldipezzoli.it/wp-content/uploads/2024/01/palazzo_clerici.jpg
ORGANIZER;CN="Amici Museo Poldi Pezzoli":MAILTO:amici@museopoldipezzoli.it
END:VEVENT
BEGIN:VEVENT
DTSTART;TZID=Europe/Rome:20240304T183000
DTEND;TZID=Europe/Rome:20240304T200000
DTSTAMP:20260420T033805
CREATED:20240220T140347Z
LAST-MODIFIED:20240222T112556Z
UID:10000130-1709577000-1709582400@amicipoldipezzoli.it
SUMMARY:Aspettando Piero - Conversazione con Stefano Zuffi
DESCRIPTION:Il Museo Poldi Pezzoli si prepara a inaugurare al pubblico una mostra irripetibile che riunisce a 555 anni dalla sua realizzazione il Polittico agostiniano di Piero della Francesca\, realizzato per l’altare maggiore della chiesa agostiniana di Sansepolcro. Grazie a importanti prestiti internazionali e a Fondazione Bracco come Main Partner sarà possibile ammirare per la prima volta nella storia tutti i frammenti superstiti del famoso polittico\, smembrato e in parte disperso già alla fine XVI secolo. In attesa di vedere dal vivo le preziose tavole al Poldi Pezzoli\, ripercorriamo la figura del grande artista nello scenario dell’umanesimo italiano del pieno Quattrocento. \nLunedì 4 marzo\, ore 18.30\nMuseo Poldi Pezzoli\nPosti limitati. Ingresso gratuito.\nPrenotazione obbligatoria scrivendo a: amici@museopoldipezzoli.it \nScarica QUI l’invito
URL:https://amicipoldipezzoli.it/attivita/aspettandopiero/
LOCATION:Museo Poldi Pezzoli\, Via Manzoni 12\, Milano\, Italy
CATEGORIES:Conferenza
ATTACH;FMTTYPE=image/png:https://amicipoldipezzoli.it/wp-content/uploads/2024/02/Screenshot-2024-02-20-142127.png
ORGANIZER;CN="Amici Museo Poldi Pezzoli":MAILTO:amici@museopoldipezzoli.it
END:VEVENT
BEGIN:VEVENT
DTSTART;VALUE=DATE:20240307
DTEND;VALUE=DATE:20240310
DTSTAMP:20260420T033805
CREATED:20231214T125058Z
LAST-MODIFIED:20240208T101913Z
UID:10000107-1709769600-1710028799@amicipoldipezzoli.it
SUMMARY:Evviva la Torre di Pisa!
DESCRIPTION:EVVIVA LA TORRE DI PISA!\nAssistenza storico artistica Dott. Stefano Zuffi\n7 – 9 marzo 2024\nGiovedì 7 – Milano/Marzabotto/Pistoia/Calci/Pisa\nOre 7\,30 partenza in pullman da Milano piazza Quattro Novembre\, lato hotel Gallia\, in direzione dell’Autosole.\nGiornata di trasferimento con suggestive tappe lungo il viaggio. La prima “fermata” è all’imbocco dell’Appennino bolognese\, nei pressi di Marzabotto\, per una passeggiata nel suggestivo sito etrusco dell’antica Misa\, di cui si riconoscono l’assetto urbano\, l’acropoli con i resti dei templi e il sepolcreto.\nSi fa poi tappa nel centro storico di Pistoia\, per affacciarci sulla magnifica piazza del Duomo\, imponente scenario monumentale di rara bellezza\, e per il pranzo in ristorante. Nel pomeriggio\, ormai in prossimità di Pisa\, visita alla località di Calci\, con la Pieve romanica e la grandiosa Certosa barocca.\nArrivati a Pisa\, alle 17\,30 è possibile assistere alla conferenza stampa che Stefano Zuffi\, curatore della mostra\, tiene presso l’auditorium di Palazzo Blu\, in preparazione della visita del giorno successivo.\nAl termine\, sistemazione presso l’Hotel Bologna\, albergo ospite di un elegante palazzo situato nel centro storico della città.\nCena in ristorante. \nVenerdì 8 – Pisa\nL’intera giornata si svolge nel cuore di Pisa.\nLa mattina è dedicata all’area monumentale di Piazza dei Miracoli\, con la visita a tutti i monumenti del complesso: Duomo\, Battistero\, Camposanto\, Museo del Duomo.\nNel pomeriggio\, ci si trasferisce nell’elegante Palazzo Blu per la visita alla mostra “Avanguardie”.\nPasti liberi. \nSabato 9 – Pisa/Pontremoli/Milano\nLa mattina inizia con la visita al Museo di S. Matteo\, splendida ma poco conosciuta raccolta d’arte\, con capolavori di Simone Martini\, Donatello\, Masaccio e altri maestri toscani.\nPoi\, nel contesto ambientale della pineta litoranea\, la preziosa basilica di S. Pietro a Grado\, intatta chiesa romanica di suggestiva e insolita struttura.\nIl viaggio di ritorno verso Milano prevede la sosta a Pontremoli\, per visitare il complesso quattrocentesco della Annunziata e\, dopo il pranzo in ristorante\, il Castello medievale\, in cui sono esposte le misteriose e fascinose statue-stele preistoriche.\nAl termine delle visite rientro in pullman a Milano\, che si raggiunge in serata. \nQuota individuale di partecipazione: € 860 (minimo 15 partecipanti)\nSupplemento camera singola: € 130\nAcconto: € 300 da versare all’atto dell’iscrizione\nSaldo entro 3 settimane dalla partenza \nModalità di pagamento:\n– Assegno intestato a Celeber Srl – Milano\n– Bonifico bancario a favore di Celeber srl – Milano\nIBAN: IT89O0569601600000018882X00 (causale: ABP Pisa – “Cognome partecipante”)\n– Con carta di credito QUI \nLa quota comprende:\nViaggio in pullman\, sistemazione in camera a due letti presso gli alberghi citati\, tre pasti in ristorante bevande incluse\, visite e ingressi come da programma\, assistenza storico artistica di Stefano Zuffi\, mance\, polizza di assistenza “medico-bagaglio-annullamento”. \nLa quota non comprende:\nGli extra in genere\, 2 pasti liberi e quanto non espressamente citato nel programma. \nScarica QUI il programma dettagliato del viaggio \nIn collaborazione con
URL:https://amicipoldipezzoli.it/attivita/pisa/
LOCATION:Pisa\, Italia
CATEGORIES:Viaggio
ATTACH;FMTTYPE=image/jpeg:https://amicipoldipezzoli.it/wp-content/uploads/2023/12/the-pisa-duomo-stands-between-a-circular-baptistery-and-the-news-photo-1661336177.jpg
ORGANIZER;CN="Amici Museo Poldi Pezzoli":MAILTO:amici@museopoldipezzoli.it
END:VEVENT
BEGIN:VEVENT
DTSTART;TZID=Europe/Rome:20240314T170000
DTEND;TZID=Europe/Rome:20240314T190000
DTSTAMP:20260420T033805
CREATED:20240119T104624Z
LAST-MODIFIED:20240313T085023Z
UID:10000123-1710435600-1710442800@amicipoldipezzoli.it
SUMMARY:De Nittis pittore della vita moderna
DESCRIPTION:Per la prima volta Palazzo Reale celebra in una monografica il talento di Giuseppe De Nittis esponendo circa 90 dipinti\, tra oli e pastelli\, provenienti dalle principali collezioni pubbliche e private\, italiane e straniere\, tra cui il Musée d’Orsay e il Petit Palais di Parigi\, i Musée des Beaux-Arts di Reims e di Dunquerke\, gli Uffizi di Firenze – solo per citarne alcuni – oltre allo straordinario nucleo di opere conservate alla GAM di Milano e una selezione dalla Pinacoteca di Barletta\, intitolata al Pittore\, che ne conserva un eccezionale numero a seguito del lascito testamentario della vedova Leontine De Nittis. Questa ampia retrospettiva intende esaltare la statura internazionale di un pittore che è stato\, insieme a Boldini\, il più grande degli italiani a Parigi\, dove è riuscito a reggere il confronto con Manet\, Degas e gli impressionisti\, con cui ha saputo condividere\, pur nella diversità del linguaggio pittorico\, l’aspirazione a rivoluzionare l’idea stessa della pittura\, scardinando una volta per sempre la gerarchia dei generi per raggiungere quell’autonomia dell’arte che è stata la massima aspirazione della modernità. \nAssistenza storico-artistica: dott.ssa Paola Zatti\, curatrice della mostra\nRitrovo: ore 16.45 all’ingresso della mostra a Palazzo Reale\nQuota di partecipazione: 25 euro \nPrenotazione e pagamento direttamente a questa pagina con carta credito o Paypal\nIn alternativa contattare la Segreteria amici@museopoldipezzoli.it – 366 5830536 ed effettuare il pagamento in Segreteria o con bonifico bancario:\nCASSA LOMBARDA – FILIALE 100 – Via Manzoni\, 14 – 20121 Milano\nIBAN: IT 75 U 03488 01601 000000020238\nIntestato a: Associazione Amici del Museo Poldi Pezzoli\nCausale: De Nittis – Nome e cognome del Socio
URL:https://amicipoldipezzoli.it/attivita/denittis/
LOCATION:Palazzo Reale\, Milano\, Italy
CATEGORIES:Visita guidata
ATTACH;FMTTYPE=image/jpeg:https://amicipoldipezzoli.it/wp-content/uploads/2024/01/Colazione_in_giardino.jpg
ORGANIZER;CN="Amici Museo Poldi Pezzoli":MAILTO:amici@museopoldipezzoli.it
END:VEVENT
BEGIN:VEVENT
DTSTART;TZID=Europe/Rome:20240321T113000
DTEND;TZID=Europe/Rome:20240321T120000
DTSTAMP:20260420T033805
CREATED:20240312T103517Z
LAST-MODIFIED:20240313T084449Z
UID:10000136-1711020600-1711022400@amicipoldipezzoli.it
SUMMARY:Piero della Francesca. Il polittico agostiniano riunito
DESCRIPTION:Nel 1469 l’artista finiva di dipingere il suo magnifico polittico per l’altare maggiore della chiesa degli agostiniani a Borgo San Sepolcro (Arezzo)\, iniziato nel 1454. La pala\, fra le opere di maggiore impegno di Piero della Francesca\, fu smembrata e dispersa entro la fine XVI secolo. Oggi ciò che resta del polittico agostiniano\, ovvero otto pannelli (la tavola centrale e gran parte della predella non sono state finora rintracciate)\, si trova in musei in Europa e negli Stati Uniti\, oltre che al Museo Poldi Pezzoli\, proprietario del panello raffigurante San Nicola da Tolentino\, uno dei quattro santi che appartenevano alla parte centrale del polittico. La “riunione” dei pannelli del polittico agostiniano di Piero della Francesca è un avvenimento emozionante ed epocale. \nAssistenza storico-artistica: dott.ssa Federica Manoli\nRitrovo: ore 11.15 all’ingresso del Museo Poldi Pezzoli\nGratuito per i Soci.\nPrenotazione obbligatoria direttamente a questa pagina.\nIn alternativa contattare la Segreteria amici@museopoldipezzoli.it – 366 5830536
URL:https://amicipoldipezzoli.it/attivita/pierodellafrancesca/
LOCATION:Museo Poldi Pezzoli\, Via Manzoni 12\, Milano\, Italy
CATEGORIES:Visita guidata
ATTACH;FMTTYPE=image/jpeg:https://amicipoldipezzoli.it/wp-content/uploads/2024/03/Poldi-Pezzoli-San-Nicola-da-Tolentino-Piero-della-Francesca-dettaglio-3-1024x768-1.jpg
ORGANIZER;CN="Amici Museo Poldi Pezzoli":MAILTO:amici@museopoldipezzoli.it
END:VEVENT
BEGIN:VEVENT
DTSTART;TZID=Europe/Rome:20240321T120000
DTEND;TZID=Europe/Rome:20240321T123000
DTSTAMP:20260420T033805
CREATED:20240312T103706Z
LAST-MODIFIED:20240313T084410Z
UID:10000137-1711022400-1711024200@amicipoldipezzoli.it
SUMMARY:Piero della Francesca. Il polittico agostiniano riunito
DESCRIPTION:Nel 1469 l’artista finiva di dipingere il suo magnifico polittico per l’altare maggiore della chiesa degli agostiniani a Borgo San Sepolcro (Arezzo)\, iniziato nel 1454. La pala\, fra le opere di maggiore impegno di Piero della Francesca\, fu smembrata e dispersa entro la fine XVI secolo. Oggi ciò che resta del polittico agostiniano\, ovvero otto pannelli (la tavola centrale e gran parte della predella non sono state finora rintracciate)\, si trova in musei in Europa e negli Stati Uniti\, oltre che al Museo Poldi Pezzoli\, proprietario del panello raffigurante San Nicola da Tolentino\, uno dei quattro santi che appartenevano alla parte centrale del polittico. La “riunione” dei pannelli del polittico agostiniano di Piero della Francesca è un avvenimento emozionante ed epocale. \nAssistenza storico-artistica: dott.ssa Federica Manoli\nRitrovo: ore 11.45 all’ingresso del Museo Poldi Pezzoli\nGratuito per i Soci.\nPrenotazione obbligatoria direttamente a questa pagina.\nIn alternativa contattare la Segreteria amici@museopoldipezzoli.it – 366 5830536
URL:https://amicipoldipezzoli.it/attivita/piero-della-francesca-il-polittico-agostiniano-riunito/
LOCATION:Museo Poldi Pezzoli\, Via Manzoni 12\, Milano\, Italy
CATEGORIES:Visita guidata
ATTACH;FMTTYPE=image/jpeg:https://amicipoldipezzoli.it/wp-content/uploads/2024/03/Poldi-Pezzoli-San-Michele-Piero-della-Francesca-National-Gallery-dettaglio-1024x768-1.jpg
ORGANIZER;CN="Amici Museo Poldi Pezzoli":MAILTO:amici@museopoldipezzoli.it
END:VEVENT
BEGIN:VEVENT
DTSTART;TZID=Europe/Rome:20240326T173000
DTEND;TZID=Europe/Rome:20240326T190000
DTSTAMP:20260420T033805
CREATED:20231215T094715Z
LAST-MODIFIED:20240313T084826Z
UID:10000116-1711474200-1711479600@amicipoldipezzoli.it
SUMMARY:Cézanne e Renoir. Capolavori da Parigi: Orangerie ed Orsay!
DESCRIPTION:Il brillante mercante d’arte Paul Guillaume e la moglie Dominique conoscono tutti i protagonisti di quella magica stagione che stava mutando il corso dell’arte di tutto il mondo e\, con tenacia e saggezza\, iniziano la loro splendida collezione che ci permette\, oggi\, non solo di avere una perfetta panoramica di quegli anni probabilmente irripetibili\, ma di cogliere le sfumate ma eccelse differenze tra gli artisti. Sono soprattutto i dipinti di Auguste Renoir e Paul Cézanne che vedremo in questa rassegna: dall’armonia rotonda\, ma sofferta\, del primo all’indagine rigorosa\, filosofica ed innovativa del secondo\, entrambi innamorati dell’en plen air ed inconsapevoli portatori di una grande rivoluzione\, testimoniata dei tre dipinti di Picasso e dalle tele di Kees Van Dongen qui presentate alla fine del percorso\, quali “figli” di cotali padri. \nAssistenza storico-artistica: dott.ssa Alessandra Montalbetti\nRitrovo: ore 17.15 all’ingresso della mostra a Palazzo Reale\nQuota di partecipazione: 25 euro \nPrenotazione e pagamento direttamente a questa pagina con carta credito o Paypal\nIn alternativa contattare la Segreteria amici@museopoldipezzoli.it – 366 5830536 ed effettuare il pagamento in Segreteria o con bonifico bancario:\nCASSA LOMBARDA – FILIALE 100 – Via Manzoni\, 14 – 20121 Milano\nIBAN: IT 75 U 03488 01601 000000020238\nIntestato a: Associazione Amici del Museo Poldi Pezzoli\nCausale: Renoir e Cezanne – Nome e cognome del Socio \n 
URL:https://amicipoldipezzoli.it/attivita/renoircezanne/
LOCATION:Palazzo Reale\, Milano\, Italy
CATEGORIES:Visita guidata
ATTACH;FMTTYPE=image/png:https://amicipoldipezzoli.it/wp-content/uploads/2023/12/Screenshot-2023-12-15-104310.png
ORGANIZER;CN="Amici Museo Poldi Pezzoli":MAILTO:amici@museopoldipezzoli.it
END:VEVENT
END:VCALENDAR