BEGIN:VCALENDAR
VERSION:2.0
PRODID:-//Amici del Museo Poldi Pezzoli - ECPv6.15.20//NONSGML v1.0//EN
CALSCALE:GREGORIAN
METHOD:PUBLISH
X-ORIGINAL-URL:https://amicipoldipezzoli.it
X-WR-CALDESC:Eventi per Amici del Museo Poldi Pezzoli
REFRESH-INTERVAL;VALUE=DURATION:PT1H
X-Robots-Tag:noindex
X-PUBLISHED-TTL:PT1H
BEGIN:VTIMEZONE
TZID:Europe/Rome
BEGIN:DAYLIGHT
TZOFFSETFROM:+0100
TZOFFSETTO:+0200
TZNAME:CEST
DTSTART:20230326T010000
END:DAYLIGHT
BEGIN:STANDARD
TZOFFSETFROM:+0200
TZOFFSETTO:+0100
TZNAME:CET
DTSTART:20231029T010000
END:STANDARD
BEGIN:DAYLIGHT
TZOFFSETFROM:+0100
TZOFFSETTO:+0200
TZNAME:CEST
DTSTART:20240331T010000
END:DAYLIGHT
BEGIN:STANDARD
TZOFFSETFROM:+0200
TZOFFSETTO:+0100
TZNAME:CET
DTSTART:20241027T010000
END:STANDARD
BEGIN:DAYLIGHT
TZOFFSETFROM:+0100
TZOFFSETTO:+0200
TZNAME:CEST
DTSTART:20250330T010000
END:DAYLIGHT
BEGIN:STANDARD
TZOFFSETFROM:+0200
TZOFFSETTO:+0100
TZNAME:CET
DTSTART:20251026T010000
END:STANDARD
END:VTIMEZONE
BEGIN:VEVENT
DTSTART;TZID=Europe/Rome:20240409T170000
DTEND;TZID=Europe/Rome:20240409T190000
DTSTAMP:20260419T151336
CREATED:20240312T092539Z
LAST-MODIFIED:20240312T092609Z
UID:10000135-1712682000-1712689200@amicipoldipezzoli.it
SUMMARY:Piero a Milano: la Pala Montefeltro
DESCRIPTION:Capolavoro indiscusso della Pinacoteca di Brera\, la solenne pala d’altare commissionata da Federico da Montefeltro a Piero della Francesca è una pietra miliare dell’arte del Quattrocento. Curiosamente\, quando arrivò a Milano con le requisizioni napoleoniche era attribuita…a frà Carnevale! In parallelo con la ricomposizione del polittico agostiniano al Poldi Pezzoli\, torniamo ancora una volta a sostare davanti alla pala “dell’uovo”\, per leggerne insieme la storia\, i simboli\, gli esiti. \nAssistenza storico-artistica: dott. Stefano Zuffi\nRitrovo: ore 16.45 alla biglietteria della Pinacoteca di Brera\nQuota di partecipazione: 20 euro \nPrenotazione e pagamento direttamente a questa pagina con carta credito o Paypal\nIn alternativa contattare la Segreteria amici@museopoldipezzoli.it – 366 5830536 ed effettuare il pagamento in Segreteria o con bonifico bancario:\nCASSA LOMBARDA – FILIALE 100 – Via Manzoni\, 14 – 20121 Milano\nIBAN: IT 75 U 03488 01601 000000020238\nIntestato a: Associazione Amici del Museo Poldi Pezzoli\nCausale: Pala Brera – Nome e cognome del Socio
URL:https://amicipoldipezzoli.it/attivita/palabrera/
LOCATION:Pinacoteca Brera\, Via Brera\, 28\, Milano\, Italia
CATEGORIES:Visita guidata
ATTACH;FMTTYPE=image/jpeg:https://amicipoldipezzoli.it/wp-content/uploads/2024/03/Piero-della-Francesca-Pala-di-Brera-1472-74.-Particolare-con-la-Madonna-Arte-Svelata-1.jpg
ORGANIZER;CN="Amici Museo Poldi Pezzoli":MAILTO:amici@museopoldipezzoli.it
END:VEVENT
END:VCALENDAR